BEGIN:VCALENDAR
VERSION:2.0
PRODID:-//About - ECPv6.15.16//NONSGML v1.0//EN
CALSCALE:GREGORIAN
METHOD:PUBLISH
X-WR-CALNAME:About
X-ORIGINAL-URL:https://www.winona.edu/about
X-WR-CALDESC:Events for About
REFRESH-INTERVAL;VALUE=DURATION:PT1H
X-Robots-Tag:noindex
X-PUBLISHED-TTL:PT1H
BEGIN:VTIMEZONE
TZID:US/Central
BEGIN:DAYLIGHT
TZOFFSETFROM:-0600
TZOFFSETTO:-0500
TZNAME:CDT
DTSTART:20250309T080000
END:DAYLIGHT
BEGIN:STANDARD
TZOFFSETFROM:-0500
TZOFFSETTO:-0600
TZNAME:CST
DTSTART:20251102T070000
END:STANDARD
BEGIN:DAYLIGHT
TZOFFSETFROM:-0600
TZOFFSETTO:-0500
TZNAME:CDT
DTSTART:20260308T080000
END:DAYLIGHT
BEGIN:STANDARD
TZOFFSETFROM:-0500
TZOFFSETTO:-0600
TZNAME:CST
DTSTART:20261101T070000
END:STANDARD
BEGIN:DAYLIGHT
TZOFFSETFROM:-0600
TZOFFSETTO:-0500
TZNAME:CDT
DTSTART:20270314T080000
END:DAYLIGHT
BEGIN:STANDARD
TZOFFSETFROM:-0500
TZOFFSETTO:-0600
TZNAME:CST
DTSTART:20271107T070000
END:STANDARD
END:VTIMEZONE
BEGIN:VEVENT
DTSTART;TZID=US/Central:20260425T110000
DTEND;TZID=US/Central:20260425T130000
DTSTAMP:20260424T154928
CREATED:20260318T203500Z
LAST-MODIFIED:20260318T203501Z
UID:10001599-1777114800-1777122000@www.winona.edu
SUMMARY:Warrior Game Day Experience
DESCRIPTION:Join us for a special Spring semester Warrior Game Day Experience (WGDX)!  \n\n\n\nConnect with friends and family\, have fun\, and show your school spirit before an exciting Warrior Football scrimmage\, where our players will compete head-to-head. Our Warrior Volleyball team will also have an all-day tournament. \n\n\n\n    Learn More about WGDX\n\n\n\n\n\nVenue\n\n\n\n\n\nContact\n\n\n\n\n\nDisclaimer\n\n\n\nThe views and opinions expressed by the speakers and programs hosted at Winona State University do not necessarily reflect the views or positions of the university or of the Minnesota State Colleges & Universities system.
URL:https://www.winona.edu/about/event/warrior-game-day-experience-april-25/
LOCATION:Johnson Street\, Johnson St.\, Winona\, MN\, 55987\, United States
CATEGORIES:Events & Traditions,Student Life,Warrior Athletics
ATTACH;FMTTYPE=image/jpeg:https://www.winona.edu/about/wp-content/uploads/sites/3/2022/12/WSU-Students-Campus-Event-2022-09-07_141626.jpg
ORGANIZER;CN="Tracy Hale":MAILTO:thale@winona.edu
END:VEVENT
BEGIN:VEVENT
DTSTART;TZID=US/Central:20260912T110000
DTEND;TZID=US/Central:20260912T130000
DTSTAMP:20260424T154928
CREATED:20260318T203502Z
LAST-MODIFIED:20260318T203503Z
UID:10001593-1789210800-1789218000@www.winona.edu
SUMMARY:Warrior Game Day Experience
DESCRIPTION:The Warrior Game Day Experience (WGDX) is a family-friendly outdoor (and sometimes indoor) party open to Winona State students and the community.  \n\n\n\nGrab some food\, have fun\, and get pumped up to cheer our Warrior teams on to victory. \n\n\n\n    Learn More about WGDX\n\n\n\n\n\nVenue\n\n\n\n\n\nContact\n\n\n\n\n\nDisclaimer\n\n\n\nThe views and opinions expressed by the speakers and programs hosted at Winona State University do not necessarily reflect the views or positions of the university or of the Minnesota State Colleges & Universities system.
URL:https://www.winona.edu/about/event/warrior-game-day-experience-sept-12/
LOCATION:Johnson Street\, Johnson St.\, Winona\, MN\, 55987\, United States
CATEGORIES:Events & Traditions,Student Life,Warrior Athletics
ATTACH;FMTTYPE=image/jpeg:https://www.winona.edu/about/wp-content/uploads/sites/3/2022/12/WSU-Students-Campus-Event-2022-09-07_141626.jpg
ORGANIZER;CN="Tracy Hale":MAILTO:thale@winona.edu
END:VEVENT
BEGIN:VEVENT
DTSTART;TZID=US/Central:20260926T160000
DTEND;TZID=US/Central:20260926T180000
DTSTAMP:20260424T154928
CREATED:20260318T203504Z
LAST-MODIFIED:20260318T203505Z
UID:10001594-1790438400-1790445600@www.winona.edu
SUMMARY:Warrior Game Day Experience
DESCRIPTION:The Warrior Game Day Experience (WGDX) is a family-friendly outdoor (and sometimes indoor) party open to Winona State students and the community. \n\n\n\nGrab some food\, have fun\, and get pumped up to cheer our Warrior teams on to victory. \n\n\n\n    Learn More about WGDX\n\n\n\n\n\nVenue\n\n\n\n\n\nContact\n\n\n\n\n\nDisclaimer\n\n\n\nThe views and opinions expressed by the speakers and programs hosted at Winona State University do not necessarily reflect the views or positions of the university or of the Minnesota State Colleges & Universities system.
URL:https://www.winona.edu/about/event/warrior-game-day-experience-sept-26/
LOCATION:Johnson Street\, Johnson St.\, Winona\, MN\, 55987\, United States
CATEGORIES:Events & Traditions,Student Life,Warrior Athletics
ATTACH;FMTTYPE=image/jpeg:https://www.winona.edu/about/wp-content/uploads/sites/3/2022/12/WSU-Students-Campus-Event-2022-09-07_141626.jpg
ORGANIZER;CN="Tracy Hale":MAILTO:thale@winona.edu
END:VEVENT
BEGIN:VEVENT
DTSTART;TZID=US/Central:20261010T110000
DTEND;TZID=US/Central:20261010T140000
DTSTAMP:20260424T154928
CREATED:20260318T203506Z
LAST-MODIFIED:20260318T203507Z
UID:10001595-1791630000-1791640800@www.winona.edu
SUMMARY:Warrior Game Day Experience
DESCRIPTION:The Warrior Game Day Experience (WGDX) is a family-friendly outdoor (and sometimes indoor) party open to Winona State students and the community. \n\n\n\nGrab some food\, have fun\, and get pumped up to cheer our Warrior teams on to victory. \n\n\n\n    Learn More about WGDX\n\n\n\n\n\nVenue\n\n\n\n\n\nContact\n\n\n\n\n\nDisclaimer\n\n\n\nThe views and opinions expressed by the speakers and programs hosted at Winona State University do not necessarily reflect the views or positions of the university or of the Minnesota State Colleges & Universities system.
URL:https://www.winona.edu/about/event/warrior-game-day-experience-oct-10/
LOCATION:Johnson Street\, Johnson St.\, Winona\, MN\, 55987\, United States
CATEGORIES:Events & Traditions,Student Life,Warrior Athletics
ATTACH;FMTTYPE=image/jpeg:https://www.winona.edu/about/wp-content/uploads/sites/3/2022/12/WSU-Students-Campus-Event-2022-09-07_141626.jpg
ORGANIZER;CN="Tracy Hale":MAILTO:thale@winona.edu
END:VEVENT
BEGIN:VEVENT
DTSTART;TZID=US/Central:20261031T110000
DTEND;TZID=US/Central:20261031T130000
DTSTAMP:20260424T154928
CREATED:20260318T203508Z
LAST-MODIFIED:20260318T203510Z
UID:10001596-1793444400-1793451600@www.winona.edu
SUMMARY:Warrior Game Day Experience
DESCRIPTION:The Warrior Game Day Experience (WGDX) is a family-friendly outdoor (and sometimes indoor) party open to Winona State students and the community. \n\n\n\nGrab some food\, have fun\, and get pumped up to cheer our Warrior teams on to victory. \n\n\n\n    Learn More about WGDX\n\n\n\n\n\nVenue\n\n\n\n\n\nContact\n\n\n\n\n\nDisclaimer\n\n\n\nThe views and opinions expressed by the speakers and programs hosted at Winona State University do not necessarily reflect the views or positions of the university or of the Minnesota State Colleges & Universities system.
URL:https://www.winona.edu/about/event/warrior-game-day-experience-oct-31/
LOCATION:Johnson Street\, Johnson St.\, Winona\, MN\, 55987\, United States
CATEGORIES:Events & Traditions,Student Life,Warrior Athletics
ATTACH;FMTTYPE=image/jpeg:https://www.winona.edu/about/wp-content/uploads/sites/3/2022/12/WSU-Students-Campus-Event-2022-09-07_141626.jpg
ORGANIZER;CN="Tracy Hale":MAILTO:thale@winona.edu
END:VEVENT
BEGIN:VEVENT
DTSTART;TZID=US/Central:20261107T110000
DTEND;TZID=US/Central:20261107T130000
DTSTAMP:20260424T154928
CREATED:20260318T203510Z
LAST-MODIFIED:20260318T203511Z
UID:10001597-1794049200-1794056400@www.winona.edu
SUMMARY:Warrior Game Day Experience
DESCRIPTION:The Warrior Game Day Experience (WGDX) is a family-friendly outdoor (and sometimes indoor) party open to Winona State students and the community. \n\n\n\nGrab some food\, have fun\, and get pumped up to cheer our Warrior teams on to victory. \n\n\n\n    Learn More about WGDX\n\n\n\n\n\nVenue\n\n\n\n\n\nContact\n\n\n\n\n\nDisclaimer\n\n\n\nThe views and opinions expressed by the speakers and programs hosted at Winona State University do not necessarily reflect the views or positions of the university or of the Minnesota State Colleges & Universities system.
URL:https://www.winona.edu/about/event/warrior-game-day-experience-nov-7/
LOCATION:Johnson Street\, Johnson St.\, Winona\, MN\, 55987\, United States
CATEGORIES:Events & Traditions,Student Life,Warrior Athletics
ATTACH;FMTTYPE=image/jpeg:https://www.winona.edu/about/wp-content/uploads/sites/3/2022/12/WSU-Students-Campus-Event-2022-09-07_141626.jpg
ORGANIZER;CN="Tracy Hale":MAILTO:thale@winona.edu
END:VEVENT
END:VCALENDAR