BEGIN:VCALENDAR
VERSION:2.0
PRODID:-//About - ECPv6.15.16//NONSGML v1.0//EN
CALSCALE:GREGORIAN
METHOD:PUBLISH
X-WR-CALNAME:About
X-ORIGINAL-URL:https://www.winona.edu/about
X-WR-CALDESC:Events for About
REFRESH-INTERVAL;VALUE=DURATION:PT1H
X-Robots-Tag:noindex
X-PUBLISHED-TTL:PT1H
BEGIN:VTIMEZONE
TZID:America/Chicago
BEGIN:DAYLIGHT
TZOFFSETFROM:-0600
TZOFFSETTO:-0500
TZNAME:CDT
DTSTART:20260308T080000
END:DAYLIGHT
BEGIN:STANDARD
TZOFFSETFROM:-0500
TZOFFSETTO:-0600
TZNAME:CST
DTSTART:20261101T070000
END:STANDARD
BEGIN:DAYLIGHT
TZOFFSETFROM:-0600
TZOFFSETTO:-0500
TZNAME:CDT
DTSTART:20270314T080000
END:DAYLIGHT
BEGIN:STANDARD
TZOFFSETFROM:-0500
TZOFFSETTO:-0600
TZNAME:CST
DTSTART:20271107T070000
END:STANDARD
BEGIN:DAYLIGHT
TZOFFSETFROM:-0600
TZOFFSETTO:-0500
TZNAME:CDT
DTSTART:20280312T080000
END:DAYLIGHT
BEGIN:STANDARD
TZOFFSETFROM:-0500
TZOFFSETTO:-0600
TZNAME:CST
DTSTART:20281105T070000
END:STANDARD
END:VTIMEZONE
BEGIN:VEVENT
DTSTART;TZID=America/Chicago:20270618T000000
DTEND;TZID=America/Chicago:20270618T235959
DTSTAMP:20260424T172405
CREATED:20250618T193311Z
LAST-MODIFIED:20260121T221717Z
UID:10000885-1813276800-1813363199@www.winona.edu
SUMMARY:Juneteenth (Observed)
DESCRIPTION:No classes will be held and offices will be closed on June 18 due to the Juneteenth holiday. \n\n\n\n\n\nVenue\n\n\n\n\n\nContact\n\n\n\n\n\nDisclaimer\n\n\n\nThe views and opinions expressed by the speakers and programs hosted at Winona State University do not necessarily reflect the views or positions of the university or of the Minnesota State Colleges & Universities system.
URL:https://www.winona.edu/about/event/juneteenth-observed-2027/
LOCATION:Winona Campus\, 175 West Mark Street\, Winona\, MN\, 55987\, United States
CATEGORIES:No Classes/Offices Closed
ATTACH;FMTTYPE=image/jpeg:https://www.winona.edu/about/wp-content/uploads/sites/3/2022/12/WSU-Letters-2019-09-25_183226.jpg
ORGANIZER;CN="Academic Affairs":MAILTO:academicaffairs@winona.edu
END:VEVENT
BEGIN:VEVENT
DTSTART;TZID=America/Chicago:20270705T000000
DTEND;TZID=America/Chicago:20270705T235959
DTSTAMP:20260424T172405
CREATED:20250618T193436Z
LAST-MODIFIED:20260121T221723Z
UID:10000886-1814745600-1814831999@www.winona.edu
SUMMARY:Independence Day (Observed)
DESCRIPTION:No classes will be held and offices will be closed on July 5 due to the Independence Day holiday. \n\n\n\n\n\nVenue\n\n\n\n\n\nContact\n\n\n\n\n\nDisclaimer\n\n\n\nThe views and opinions expressed by the speakers and programs hosted at Winona State University do not necessarily reflect the views or positions of the university or of the Minnesota State Colleges & Universities system.
URL:https://www.winona.edu/about/event/independence-day-observed-2027/
LOCATION:Winona Campus\, 175 West Mark Street\, Winona\, MN\, 55987\, United States
CATEGORIES:No Classes/Offices Closed
ATTACH;FMTTYPE=image/jpeg:https://www.winona.edu/about/wp-content/uploads/sites/3/2022/12/WSU-Letters-2019-09-25_183226.jpg
ORGANIZER;CN="Academic Affairs":MAILTO:academicaffairs@winona.edu
END:VEVENT
END:VCALENDAR