BEGIN:VCALENDAR
VERSION:2.0
PRODID:-//About - ECPv6.15.16//NONSGML v1.0//EN
CALSCALE:GREGORIAN
METHOD:PUBLISH
X-WR-CALNAME:About
X-ORIGINAL-URL:https://www.winona.edu/about
X-WR-CALDESC:Events for About
REFRESH-INTERVAL;VALUE=DURATION:PT1H
X-Robots-Tag:noindex
X-PUBLISHED-TTL:PT1H
BEGIN:VTIMEZONE
TZID:US/Central
BEGIN:DAYLIGHT
TZOFFSETFROM:-0600
TZOFFSETTO:-0500
TZNAME:CDT
DTSTART:20230312T080000
END:DAYLIGHT
BEGIN:STANDARD
TZOFFSETFROM:-0500
TZOFFSETTO:-0600
TZNAME:CST
DTSTART:20231105T070000
END:STANDARD
BEGIN:DAYLIGHT
TZOFFSETFROM:-0600
TZOFFSETTO:-0500
TZNAME:CDT
DTSTART:20240310T080000
END:DAYLIGHT
BEGIN:STANDARD
TZOFFSETFROM:-0500
TZOFFSETTO:-0600
TZNAME:CST
DTSTART:20241103T070000
END:STANDARD
BEGIN:DAYLIGHT
TZOFFSETFROM:-0600
TZOFFSETTO:-0500
TZNAME:CDT
DTSTART:20250309T080000
END:DAYLIGHT
BEGIN:STANDARD
TZOFFSETFROM:-0500
TZOFFSETTO:-0600
TZNAME:CST
DTSTART:20251102T070000
END:STANDARD
BEGIN:DAYLIGHT
TZOFFSETFROM:-0600
TZOFFSETTO:-0500
TZNAME:CDT
DTSTART:20260308T080000
END:DAYLIGHT
BEGIN:STANDARD
TZOFFSETFROM:-0500
TZOFFSETTO:-0600
TZNAME:CST
DTSTART:20261101T070000
END:STANDARD
BEGIN:DAYLIGHT
TZOFFSETFROM:-0600
TZOFFSETTO:-0500
TZNAME:CDT
DTSTART:20270314T080000
END:DAYLIGHT
BEGIN:STANDARD
TZOFFSETFROM:-0500
TZOFFSETTO:-0600
TZNAME:CST
DTSTART:20271107T070000
END:STANDARD
END:VTIMEZONE
BEGIN:VTIMEZONE
TZID:America/Chicago
BEGIN:DAYLIGHT
TZOFFSETFROM:-0600
TZOFFSETTO:-0500
TZNAME:CDT
DTSTART:20230312T080000
END:DAYLIGHT
BEGIN:STANDARD
TZOFFSETFROM:-0500
TZOFFSETTO:-0600
TZNAME:CST
DTSTART:20231105T070000
END:STANDARD
BEGIN:DAYLIGHT
TZOFFSETFROM:-0600
TZOFFSETTO:-0500
TZNAME:CDT
DTSTART:20240310T080000
END:DAYLIGHT
BEGIN:STANDARD
TZOFFSETFROM:-0500
TZOFFSETTO:-0600
TZNAME:CST
DTSTART:20241103T070000
END:STANDARD
BEGIN:DAYLIGHT
TZOFFSETFROM:-0600
TZOFFSETTO:-0500
TZNAME:CDT
DTSTART:20250309T080000
END:DAYLIGHT
BEGIN:STANDARD
TZOFFSETFROM:-0500
TZOFFSETTO:-0600
TZNAME:CST
DTSTART:20251102T070000
END:STANDARD
BEGIN:DAYLIGHT
TZOFFSETFROM:-0600
TZOFFSETTO:-0500
TZNAME:CDT
DTSTART:20260308T080000
END:DAYLIGHT
BEGIN:STANDARD
TZOFFSETFROM:-0500
TZOFFSETTO:-0600
TZNAME:CST
DTSTART:20261101T070000
END:STANDARD
BEGIN:DAYLIGHT
TZOFFSETFROM:-0600
TZOFFSETTO:-0500
TZNAME:CDT
DTSTART:20270314T080000
END:DAYLIGHT
BEGIN:STANDARD
TZOFFSETFROM:-0500
TZOFFSETTO:-0600
TZNAME:CST
DTSTART:20271107T070000
END:STANDARD
END:VTIMEZONE
BEGIN:VEVENT
DTSTART;TZID=US/Central:20260116T000000
DTEND;TZID=US/Central:20260116T235959
DTSTAMP:20260424T153354
CREATED:20251112T164957Z
LAST-MODIFIED:20251112T164958Z
UID:10001361-1768521600-1768607999@www.winona.edu
SUMMARY:Last Day to Purchase a Laptop with a Fee
DESCRIPTION:Students who have participated in the eWarrior Program and who graduated during the Fall 2025 term can purchase their laptop online or in person at Tech Support. \n\n\n\nWinona students should visit Somsen 207\, and Rochester students should visit Coffman Center 122. \n\n\n\nJan. 16 is when Fall 2025 graduates can purchase a laptop with a $50 late fee. \n\n\n\n    Learn More about Laptop Sale\n\n\n\n\n\nVenues\n\n\n\n\n\n\n\nContact\n\n\n\n\n\nDisclaimer\n\n\n\nThe views and opinions expressed by the speakers and programs hosted at Winona State University do not necessarily reflect the views or positions of the university or of the Minnesota State Colleges & Universities system.
URL:https://www.winona.edu/about/event/last-day-to-purchase-a-laptop-with-a-fee/
LOCATION:Technical Support Center (Somsen 207)\, 175 West Mark Street\, Winona\, MN\, 55987\, United States
CATEGORIES:Student Life,Support & Services,Tech Support
ATTACH;FMTTYPE=image/jpeg:https://www.winona.edu/about/wp-content/uploads/sites/3/2022/12/WSU-Student-Laptop-2021-07-20_131144.jpg
ORGANIZER;CN="Tech Support":MAILTO:techsupport@winona.edu
END:VEVENT
BEGIN:VEVENT
DTSTART;TZID=America/Chicago:20260109T000000
DTEND;TZID=America/Chicago:20260109T235959
DTSTAMP:20260424T153354
CREATED:20251112T165046Z
LAST-MODIFIED:20251112T165047Z
UID:10001360-1767916800-1768003199@www.winona.edu
SUMMARY:Last Day to Purchase a Laptop without a Fee
DESCRIPTION:Students who have participated in the eWarrior Program and who graduated during the Fall 2025 term can purchase their laptop online or in person at Tech Support. \n\n\n\nWinona students should visit Somsen 207\, and Rochester students should visit Coffman Center 122. \n\n\n\nJan. 9 is when Fall 2025 graduates can purchase a laptop without a $50 late fee. \n\n\n\n    Learn More about Laptop Sale\n\n\n\n\n\nVenues\n\n\n\n\n\n\n\nContact\n\n\n\n\n\nDisclaimer\n\n\n\nThe views and opinions expressed by the speakers and programs hosted at Winona State University do not necessarily reflect the views or positions of the university or of the Minnesota State Colleges & Universities system.
URL:https://www.winona.edu/about/event/last-day-to-purchase-a-laptop-without-a-fee/
LOCATION:Technical Support Center (Somsen 207)\, 175 West Mark Street\, Winona\, MN\, 55987\, United States
CATEGORIES:Student Life,Support & Services,Tech Support
ATTACH;FMTTYPE=image/jpeg:https://www.winona.edu/about/wp-content/uploads/sites/3/2022/12/WSU-Student-Laptop-2021-07-20_131144.jpg
ORGANIZER;CN="Tech Support":MAILTO:techsupport@winona.edu
END:VEVENT
BEGIN:VEVENT
DTSTART;TZID=America/Chicago:20251208T000000
DTEND;TZID=America/Chicago:20251208T235959
DTSTAMP:20260424T153354
CREATED:20251112T192322Z
LAST-MODIFIED:20251112T192323Z
UID:10001370-1765152000-1765238399@www.winona.edu
SUMMARY:Fall 2025 Laptop Sale Begins
DESCRIPTION:Starting Dec. 8\, students who have participated in the eWarrior Program and who are graduating during the Fall 2025 term can purchase their laptop online or in person at Tech Support. \n\n\n\nWinona students should visit Somsen 207\, and Rochester students should visit Coffman Center 122. \n\n\n\n    Learn More about Laptop Sale\n\n\n\n\n\nVenues\n\n\n\n\n\n\n\nContact
URL:https://www.winona.edu/about/event/fall-2025-laptop-sale-begins/
LOCATION:Technical Support Center (Somsen 207)\, 175 West Mark Street\, Winona\, MN\, 55987\, United States
CATEGORIES:Student Life,Support & Services,Tech Support
ATTACH;FMTTYPE=image/jpeg:https://www.winona.edu/about/wp-content/uploads/sites/3/2022/12/WSU-Student-Laptop-2021-07-20_131144.jpg
ORGANIZER;CN="Tech Support":MAILTO:techsupport@winona.edu
END:VEVENT
BEGIN:VEVENT
DTSTART;TZID=US/Central:20251015T110000
DTEND;TZID=US/Central:20251015T130000
DTSTAMP:20260424T153354
CREATED:20250917T201335Z
LAST-MODIFIED:20250921T155659Z
UID:10001194-1760526000-1760533200@www.winona.edu
SUMMARY:WSU-Rochester Flu Shot Clinic
DESCRIPTION:On Oct. 15\, WSU-Rochester students can get a flu shot on campus. \n\n\n\nFlu shots are available via walk-in\, on a first come\, first serve basis. \n\n\n\nRemember to bring a copy of your insurance card. \n\n\n\n\n\nVenue\n\n\n\n\n\nContact
URL:https://www.winona.edu/about/event/wsu-rochester-flu-shot-clinic-2025/
LOCATION:Health Sciences 136\, 851 30th Ave SE\, Rochester\, MN\, 55904\, United States
CATEGORIES:Health & Wellness,Student Life
ATTACH;FMTTYPE=image/jpeg:https://www.winona.edu/about/wp-content/uploads/sites/3/2024/10/Pro-Female-Nursing-Students-2015.jpg
ORGANIZER;CN="Grace Rasmussen":MAILTO:grace.rasmussen@winona.edu
END:VEVENT
BEGIN:VEVENT
DTSTART;TZID=US/Central:20250829T000000
DTEND;TZID=US/Central:20250829T235959
DTSTAMP:20260424T153354
CREATED:20250410T141413Z
LAST-MODIFIED:20250410T141414Z
UID:10000822-1756425600-1756511999@www.winona.edu
SUMMARY:Last Day to Purchase a Laptop with a Fee
DESCRIPTION:Students who have participated in the eWarrior Program and who graduated during either the Spring 2025 term or Summer 2025 session can purchase their laptop online or in person at Tech Support. \n\n\n\nWinona students should visit Somsen 207\, and Rochester students should visit Coffman Center 122. \n\n\n\nAug. 29 is when Spring and Summer 2025 graduates can purchase a laptop with a $50 late fee. \n\n\n\n    Learn More about Laptop Sale\n\n\n\n\n\nVenues\n\n\n\n\n\n\n\nContact
URL:https://www.winona.edu/about/event/last-day-to-purchase-a-laptop-with-a-fee-spring-summer-2025/
LOCATION:Technical Support Center (Somsen 207)\, 175 West Mark Street\, Winona\, MN\, 55987\, United States
CATEGORIES:Student Life,Support & Services,Tech Support
ATTACH;FMTTYPE=image/jpeg:https://www.winona.edu/about/wp-content/uploads/sites/3/2022/12/WSU-Student-Laptop-2021-07-20_131144.jpg
ORGANIZER;CN="Tech Support":MAILTO:techsupport@winona.edu
END:VEVENT
BEGIN:VEVENT
DTSTART;TZID=US/Central:20250815T000000
DTEND;TZID=US/Central:20250815T235959
DTSTAMP:20260424T153354
CREATED:20250410T141144Z
LAST-MODIFIED:20250410T141448Z
UID:10000821-1755216000-1755302399@www.winona.edu
SUMMARY:Last Day to Purchase a Laptop without a Fee
DESCRIPTION:Students who have participated in the eWarrior Program and who graduated during either the Spring 2025 term or Summer 2025 session can purchase their laptop online or in person at Tech Support. \n\n\n\nWinona students should visit Somsen 207\, and Rochester students should visit Coffman Center 122. \n\n\n\nAug. 15 is when Spring and Summer 2025 graduates can purchase a laptop without a $50 late fee. \n\n\n\n    Learn More about Laptop Sale\n\n\n\n\n\nVenues\n\n\n\n\n\n\n\nContact
URL:https://www.winona.edu/about/event/last-day-to-purchase-a-laptop-without-a-fee-spring-summer-2025/
LOCATION:Technical Support Center (Somsen 207)\, 175 West Mark Street\, Winona\, MN\, 55987\, United States
CATEGORIES:Student Life,Support & Services,Tech Support
ATTACH;FMTTYPE=image/jpeg:https://www.winona.edu/about/wp-content/uploads/sites/3/2022/12/WSU-Student-Laptop-2021-07-20_131144.jpg
ORGANIZER;CN="Tech Support":MAILTO:techsupport@winona.edu
END:VEVENT
BEGIN:VEVENT
DTSTART;TZID=America/Chicago:20250505T000000
DTEND;TZID=America/Chicago:20250505T235959
DTSTAMP:20260424T153354
CREATED:20250410T140703Z
LAST-MODIFIED:20250410T141439Z
UID:10000820-1746403200-1746489599@www.winona.edu
SUMMARY:Spring & Summer 2025 Laptop Sale Begins
DESCRIPTION:Starting May 5\, students who have participated in the eWarrior Program and who are graduating during either the Spring 2025 term or Summer 2025 session can purchase their laptop online or in person at Tech Support. \n\n\n\nWinona students should visit Somsen 207\, and Rochester students should visit Coffman Center 122. \n\n\n\n    Learn More about Laptop Sale\n\n\n\n\n\nVenues\n\n\n\n\n\n\n\nContact
URL:https://www.winona.edu/about/event/spring-summer-2025-laptop-sale-begins/
LOCATION:Technical Support Center (Somsen 207)\, 175 West Mark Street\, Winona\, MN\, 55987\, United States
CATEGORIES:Student Life,Support & Services,Tech Support
ATTACH;FMTTYPE=image/jpeg:https://www.winona.edu/about/wp-content/uploads/sites/3/2022/12/WSU-Student-Laptop-2021-07-20_131144.jpg
ORGANIZER;CN="Tech Support":MAILTO:techsupport@winona.edu
END:VEVENT
BEGIN:VEVENT
DTSTART;TZID=America/Chicago:20250211T140000
DTEND;TZID=America/Chicago:20250211T160000
DTSTAMP:20260424T153354
CREATED:20250226T211523Z
LAST-MODIFIED:20250227T142639Z
UID:10000649-1739282400-1739289600@www.winona.edu
SUMMARY:WSU Softball vs. Grand View University
DESCRIPTION:On Feb. 11\, come cheer on the women’s Softball team as they play against Grand View University. \n\n\n\n\n\nVenue\n\n\n\n\n\nContact
URL:https://www.winona.edu/about/event/wsu-softball-vs-grand-view-university-game-feb-11-evening/
LOCATION:Rochester Regional Stadium & Bubble\, 851 30th Avenue SE\, Rochester\, MN\, 55904\, United States
CATEGORIES:Student Life,Warrior Athletics
ATTACH;FMTTYPE=image/jpeg:https://www.winona.edu/about/wp-content/uploads/sites/3/2025/02/Pro-womens-softball-athlete-bat-feature-2022-05-07.jpg
ORGANIZER;CN="Eric Schoh":MAILTO:eschoh@winona.edu
END:VEVENT
BEGIN:VEVENT
DTSTART;TZID=America/Chicago:20250211T120000
DTEND;TZID=America/Chicago:20250211T140000
DTSTAMP:20260424T153354
CREATED:20250226T205925Z
LAST-MODIFIED:20250227T142629Z
UID:10000647-1739275200-1739282400@www.winona.edu
SUMMARY:WSU Softball vs. Grand View University
DESCRIPTION:On Feb. 11\, come cheer on the women’s Softball team as they play against Grand View University. \n\n\n\n\n\nVenue\n\n\n\n\n\nContact
URL:https://www.winona.edu/about/event/wsu-softball-vs-grand-view-university-game-feb-11-afternoon/
LOCATION:Rochester Regional Stadium & Bubble\, 851 30th Avenue SE\, Rochester\, MN\, 55904\, United States
CATEGORIES:Student Life,Warrior Athletics
ATTACH;FMTTYPE=image/jpeg:https://www.winona.edu/about/wp-content/uploads/sites/3/2025/02/Pro-womens-softball-athlete-bat-feature-2022-05-07.jpg
ORGANIZER;CN="Eric Schoh":MAILTO:eschoh@winona.edu
END:VEVENT
BEGIN:VEVENT
DTSTART;TZID=America/Chicago:20250210T130000
DTEND;TZID=America/Chicago:20250210T153000
DTSTAMP:20260424T153354
CREATED:20250123T171615Z
LAST-MODIFIED:20250905T144310Z
UID:10000516-1739192400-1739201400@www.winona.edu
SUMMARY:Advancing Health Equity Presentation & Panel Discussion
DESCRIPTION:On Feb. 10\, Winona State and Rochester Community & Technical College (RCTC) invite community members to attend the Health Equity Summit\, a collaborative event dedicated to exploring solutions to improve health outcomes for immigrant and refugee communities. \n\n\n\nThis summit provides a platform to share insights\, foster collaboration\, and inspire actionable change.  \n\n\n\nThrough presentations and a panel discussion\, the summit will highlight the unique challenges faced by immigrant and refugee populations in accessing equitable health care and will showcase strategies to address these disparities. \n\n\n\n\n\nEvent Agenda\n\n\n\nPresentation (1-2pm)\n\n\n\nThe Rochester Healthy Community Partnership (RHCP) and Hispanic Advocacy & Community Empowerment through Research (HACER) will share insights from their research and highlight best practices for advancing health equity in immigrant and refugee populations across Minnesota. \n\n\n\nPanel Discussion – Q&A (2-3:30pm)\n\n\n\nEngage with a panel of esteemed healthcare practitioners who will discuss their experiences and strategies for fostering inclusive and equitable healthcare practices. \n\n\n\nVenue\n\n\n\n\n\nContact
URL:https://www.winona.edu/about/event/advancing-health-equity-presentation-panel-discussion/
LOCATION:Charles E. Hill Theatre\, 851 30th Ave SE\, Rochester\, MN\, 55904\, United States
CATEGORIES:Equity & Inclusive Excellence,Events & Traditions,Student Life,Support & Services
ATTACH;FMTTYPE=image/jpeg:https://www.winona.edu/about/wp-content/uploads/sites/3/2023/10/WSU_Students-Event-2023-01-20_234236.jpg
ORGANIZER;CN="Claudia Richard":MAILTO:claudia.richard@winona.edu
END:VEVENT
BEGIN:VEVENT
DTSTART;TZID=US/Central:20250117T000000
DTEND;TZID=US/Central:20250117T235959
DTSTAMP:20260424T153354
CREATED:20250106T022042Z
LAST-MODIFIED:20250106T022043Z
UID:10000196-1737072000-1737158399@www.winona.edu
SUMMARY:Last Day to Purchase a Laptop with a Fee
DESCRIPTION:Students who have participated in the eWarrior Program and who graduated during the Fall 2024 term can purchase their laptop online or in person at Tech Support (Somsen 207 for Winona students\, or Coffman Center 122 for Rochester students). \n\n\n\nJan. 17 is when Fall 2024 graduates can purchase a laptop with a $50 late fee. \n\n\n\n    Learn More about Laptop Sale\n\n\n\n\n\nVenues\n\n\n\n\n\n\n\nContact
URL:https://www.winona.edu/about/event/last-day-to-purchase-a-laptop-with-a-fee-fall-2024/
LOCATION:Technical Support Center (Somsen 207)\, 175 West Mark Street\, Winona\, MN\, 55987\, United States
CATEGORIES:Student Life,Support & Services,Tech Support
ATTACH;FMTTYPE=image/jpeg:https://www.winona.edu/about/wp-content/uploads/sites/3/2022/12/WSU-Student-Laptop-2021-07-20_131144.jpg
ORGANIZER;CN="Tech Support":MAILTO:techsupport@winona.edu
END:VEVENT
BEGIN:VEVENT
DTSTART;TZID=US/Central:20250103T000000
DTEND;TZID=US/Central:20250103T235959
DTSTAMP:20260424T153354
CREATED:20250106T020538Z
LAST-MODIFIED:20250106T020539Z
UID:10000194-1735862400-1735948799@www.winona.edu
SUMMARY:Last Day to Purchase a Laptop without a Fee
DESCRIPTION:Students who have participated in the eWarrior Program and who graduated during the Fall 2024 term can purchase their laptop online or in person at Tech Support (Somsen 207 for Winona students\, or Coffman Center 122 for Rochester students). \n\n\n\nJan. 3 is when Fall 2024 graduates can purchase a laptop without a late fee. \n\n\n\n    Learn More about Laptop Sale\n\n\n\n\n\nVenues\n\n\n\n\n\n\n\nContact
URL:https://www.winona.edu/about/event/last-day-to-purchase-a-laptop-without-a-fee-fall-2024/
LOCATION:Technical Support Center (Somsen 207)\, 175 West Mark Street\, Winona\, MN\, 55987\, United States
CATEGORIES:Student Life,Support & Services,Tech Support
ATTACH;FMTTYPE=image/jpeg:https://www.winona.edu/about/wp-content/uploads/sites/3/2022/12/WSU-Student-Laptop-2021-07-20_131144.jpg
ORGANIZER;CN="Tech Support":MAILTO:techsupport@winona.edu
END:VEVENT
BEGIN:VEVENT
DTSTART;TZID=America/Chicago:20241209T000000
DTEND;TZID=America/Chicago:20241209T235959
DTSTAMP:20260424T153354
CREATED:20250105T224611Z
LAST-MODIFIED:20250105T224613Z
UID:10000288-1733702400-1733788799@www.winona.edu
SUMMARY:Fall 2024 Laptop Sale Begins
DESCRIPTION:Starting Dec. 9\, students who have participated in the eWarrior Program and who are graduating during the Fall 2024 term can purchase their laptop online or in person at Tech Support (Somsen 207 for Winona students\, or Coffman Center 122 for Rochester students). \n\n\n\n    Learn More about Laptop Sale\n\n\n\n\n\nVenues\n\n\n\n\n\n\n\nContact
URL:https://www.winona.edu/about/event/fall-2024-laptop-sale-begins/
LOCATION:Technical Support Center (Somsen 207)\, 175 West Mark Street\, Winona\, MN\, 55987\, United States
CATEGORIES:Student Life,Support & Services,Tech Support
ATTACH;FMTTYPE=image/jpeg:https://www.winona.edu/about/wp-content/uploads/sites/3/2022/12/WSU-Student-Laptop-2021-07-20_131144.jpg
ORGANIZER;CN="Tech Support":MAILTO:techsupport@winona.edu
END:VEVENT
BEGIN:VEVENT
DTSTART;TZID=US/Central:20241021T000000
DTEND;TZID=US/Central:20241025T235959
DTSTAMP:20260424T153354
CREATED:20241231T163009Z
LAST-MODIFIED:20241231T163010Z
UID:10000129-1729468800-1729900799@www.winona.edu
SUMMARY:Food Drive Fundraiser for Warrior Cupboard
DESCRIPTION:Between Oct. 21-25\, join us across campus to stock our on-campus food shelf\, the Warrior Cupboard\, with non-perishable groceries. \n\n\n\nPlease bring donations to any of these drop-off locations: \n\n\n\n\nLibrary 110\n\n\n\nGildemeister 116B\n\n\n\nMaxwell 130\n\n\n\nRetiree Center\n\n\n\nSS123 (Rochester Campus)\n\n\n\n\n \n\n\n\n    Learn More about the Warrior Cupboard\n\n\n\n\n\nVenues\n\n\n\n\n\n\n\n\n\n\n\n\n\nContact
URL:https://www.winona.edu/about/event/food-drive-fundraiser-for-warrior-cupboard/
LOCATION:Library 110\, 525 Johnson St\, Winona\, MN\, 55987\, United States
CATEGORIES:Student Life,Support & Services
ATTACH;FMTTYPE=image/jpeg:https://www.winona.edu/about/wp-content/uploads/sites/3/2024/03/WSU_Student-Seeds-2019-02-14_151702.jpg
ORGANIZER;CN="Aurea Osgood":MAILTO:aosgood@winona.edu
END:VEVENT
BEGIN:VEVENT
DTSTART;TZID=America/Chicago:20240816T000000
DTEND;TZID=America/Chicago:20240816T235959
DTSTAMP:20260424T153354
CREATED:20241230T164933Z
LAST-MODIFIED:20241230T164934Z
UID:10000223-1723766400-1723852799@www.winona.edu
SUMMARY:Last Day to Purchase a Laptop without a Fee
DESCRIPTION:Students who have participated in the eWarrior Program and who graduated during either the Spring or Summer 2024 terms can purchase their laptop online or in person at Tech Support (Somsen 207 for Winona students\, or Coffman Center 122 for Rochester students). \n\n\n\nAug. 16 is when Spring and Summer 2024 graduates can purchase a laptop without a late fee. \n\n\n\n    Learn More about Laptop Sale\n\n\n\n\n\nVenues\n\n\n\n\n\n\n\nContact
URL:https://www.winona.edu/about/event/last-day-to-purchase-a-laptop-without-a-fee-spring-summer-2024/
LOCATION:Technical Support Center (Somsen 207)\, 175 West Mark Street\, Winona\, MN\, 55987\, United States
CATEGORIES:Student Life,Support & Services,Tech Support
ATTACH;FMTTYPE=image/jpeg:https://www.winona.edu/about/wp-content/uploads/sites/3/2022/12/WSU-Student-Laptop-2021-07-20_131144.jpg
ORGANIZER;CN="Tech Support":MAILTO:techsupport@winona.edu
END:VEVENT
END:VCALENDAR