BEGIN:VCALENDAR
VERSION:2.0
PRODID:-//About - ECPv6.15.16//NONSGML v1.0//EN
CALSCALE:GREGORIAN
METHOD:PUBLISH
X-WR-CALNAME:About
X-ORIGINAL-URL:https://www.winona.edu/about
X-WR-CALDESC:Events for About
REFRESH-INTERVAL;VALUE=DURATION:PT1H
X-Robots-Tag:noindex
X-PUBLISHED-TTL:PT1H
BEGIN:VTIMEZONE
TZID:America/Chicago
BEGIN:DAYLIGHT
TZOFFSETFROM:-0600
TZOFFSETTO:-0500
TZNAME:CDT
DTSTART:20230312T080000
END:DAYLIGHT
BEGIN:STANDARD
TZOFFSETFROM:-0500
TZOFFSETTO:-0600
TZNAME:CST
DTSTART:20231105T070000
END:STANDARD
BEGIN:DAYLIGHT
TZOFFSETFROM:-0600
TZOFFSETTO:-0500
TZNAME:CDT
DTSTART:20240310T080000
END:DAYLIGHT
BEGIN:STANDARD
TZOFFSETFROM:-0500
TZOFFSETTO:-0600
TZNAME:CST
DTSTART:20241103T070000
END:STANDARD
BEGIN:DAYLIGHT
TZOFFSETFROM:-0600
TZOFFSETTO:-0500
TZNAME:CDT
DTSTART:20250309T080000
END:DAYLIGHT
BEGIN:STANDARD
TZOFFSETFROM:-0500
TZOFFSETTO:-0600
TZNAME:CST
DTSTART:20251102T070000
END:STANDARD
BEGIN:DAYLIGHT
TZOFFSETFROM:-0600
TZOFFSETTO:-0500
TZNAME:CDT
DTSTART:20260308T080000
END:DAYLIGHT
BEGIN:STANDARD
TZOFFSETFROM:-0500
TZOFFSETTO:-0600
TZNAME:CST
DTSTART:20261101T070000
END:STANDARD
BEGIN:DAYLIGHT
TZOFFSETFROM:-0600
TZOFFSETTO:-0500
TZNAME:CDT
DTSTART:20270314T080000
END:DAYLIGHT
BEGIN:STANDARD
TZOFFSETFROM:-0500
TZOFFSETTO:-0600
TZNAME:CST
DTSTART:20271107T070000
END:STANDARD
END:VTIMEZONE
BEGIN:VEVENT
DTSTART;TZID=America/Chicago:20260303T140000
DTEND;TZID=America/Chicago:20260303T153000
DTSTAMP:20260424T213003
CREATED:20260226T170640Z
LAST-MODIFIED:20260226T170641Z
UID:10001555-1772546400-1772551800@www.winona.edu
SUMMARY:Trans Equity Workshop
DESCRIPTION:Join the Minnesota non-profit Gender Justice to explore trans issues\, learn how to be an effective ally\, take action\, and connect with a community committed to trans equity and empowerment. \n\n\n\nThis event is open to Winona State students\, faculty\, and staff. Registration for this event is required. \n\n\n\n    Register for This Event\n\n\n\n\n\nVenue\n\n\n\n\n\nContact\n\n\n\n\n\nDisclaimer\n\n\n\nThe views and opinions expressed by the speakers and programs hosted at Winona State University do not necessarily reflect the views or positions of the university or of the Minnesota State Colleges & Universities system.
URL:https://www.winona.edu/about/event/trans-equity-workshop/
LOCATION:Cathedral Auditorium\, 352 Center St\, Winona\, MN\, 55987\, United States
CATEGORIES:Equity & Inclusive Excellence,Student Life,Support & Services
ATTACH;FMTTYPE=image/jpeg:https://www.winona.edu/about/wp-content/uploads/sites/3/2024/11/WSU-students-attending-presentation-feature-2020-02-24.jpg
ORGANIZER;CN="Office of Equity &amp%3B Inclusive Excellence":MAILTO:equity@winona.edu
END:VEVENT
BEGIN:VEVENT
DTSTART;TZID=America/Chicago:20260301T000000
DTEND;TZID=America/Chicago:20260331T235959
DTSTAMP:20260424T213003
CREATED:20260306T195156Z
LAST-MODIFIED:20260306T195157Z
UID:10001584-1772323200-1775001599@www.winona.edu
SUMMARY:WSU Colleges Food Drive Competition
DESCRIPTION:Make an impact at Winona State by joining the WSU Colleges Food Drive Competition—a friendly\, campus-wide competition that brings students\, faculty\, and staff together to support our community.  \n\n\n\nThroughout March\, each College will collect donations and compete to see who can make the biggest impact. \n\n\n\nThis food drive will help stock and raise money for our on-campus food shelf\, the Warrior Cupboard. \n\n\n\nHow It Works\n\n\n\nDrop off food and household items to your Dean’s office\, then earn one point per item. \n\n\n\nYou can also earn one point per one dollar donated. (For example\, donating $50 earns your College 50 points.) \n\n\n\n    Donate to the Warrior Cupboard\n\n\n\n\n\nSuggested Items for Donation\n\n\n\n\nCanned meat and meals (tuna\, chicken\, stews\, soup\, ravioli\, etc.)\n\n\n\nCanned vegetables and fruits\n\n\n\nPeanut butter\n\n\n\nBoxed meals (Hamburger Helper\, Rice-A-Roni\, Mac & Cheese\, etc.)\n\n\n\nBaking ingredients (flour\, sugar\, Bisquick\, oil\, etc.)\n\n\n\nHousehold items (hand soap\, Kleenex\, laundry soap\, etc.)\n\n\n\nPersonal care items (deodorant\, shampoo\, toothpaste\, etc.)\n\n\n\nPlates\, silverware\, can openers\, serving spoons\, etc\n\n\n\n\nVenues\n\n\n\n\n\n\n\n\n\n\n\n\n\nContact\n\n\n\n\n\nDisclaimer\n\n\n\nThe views and opinions expressed by the speakers and programs hosted at Winona State University do not necessarily reflect the views or positions of the university or of the Minnesota State Colleges & Universities system.
URL:https://www.winona.edu/about/event/wsu-colleges-food-drive-competition-2026/
LOCATION:College of Business Dean’s Suite (Somsen 309)\, 175 West Mark Street\, Winona\, MN\, 55987\, United States
CATEGORIES:Academics,College of Business,College of Education,College of Liberal Arts,College of Nursing & Health Sciences,College of Science & Engineering,Colleges,Student Life,Support & Services
ATTACH;FMTTYPE=image/jpeg:https://www.winona.edu/about/wp-content/uploads/sites/3/2024/03/WSU_Student-Seeds-2019-02-14_151702.jpg
ORGANIZER;CN="Liz Schwanke":MAILTO:collegeofbusiness@winona.edu
END:VEVENT
BEGIN:VEVENT
DTSTART;TZID=America/Chicago:20250327T140000
DTEND;TZID=America/Chicago:20250327T153000
DTSTAMP:20260424T213003
CREATED:20250213T223802Z
LAST-MODIFIED:20250905T144727Z
UID:10000563-1743084000-1743089400@www.winona.edu
SUMMARY:"Policy in American Genocide" Presentation with Tracy Littlejohn
DESCRIPTION:On March 27\, learn about U.S. policies that have systemically marginalized First Nations people with a presentation by Tracy Littlejohn. \n\n\n\nTracy is a member of the Ho-Chuck Nation and has lived in La Crosse\, WI\, most of her life. Tracy has worked in several programs for the Nation\, including Office of the President\, Education\, Social Services\, Cultural Resources\, Business\, Housing\, and Legislature. \n\n\n\nHer presentation\, “Policy in American Genocide: How the United States Created Chaos for Its First Nations People\,” will focus on the legacy of boarding schools and their role in eroding cultural identities.  \n\n\n\nThis event will also delve into the intergenerational trauma caused by forced assimilation practices\, the suppression of Indigenous languages and traditions\, and the long-term impacts these policies have had on Native communities. \n\n\n\nJoin us in person or virtually on Zoom. \n\n\n\n    Join Zoom Room\n\n\n\n\n\nVenue\n\n\n\n\n\nContact
URL:https://www.winona.edu/about/event/policy-in-american-genocide-presentation-with-tracy-littlejohn/
LOCATION:Cathedral 016\, 352 Center St\, Winona\, MN\, 55987\, United States
CATEGORIES:Arts & Entertainment,Equity & Inclusive Excellence,Events & Traditions,Speakers & Educational Series,Student Life,Support & Services
ATTACH;FMTTYPE=image/jpeg:https://www.winona.edu/about/wp-content/uploads/sites/3/2023/10/WSU_Students-Event-2023-01-20_234236.jpg
ORGANIZER;CN="Tyler Treptow-Bowman":MAILTO:tyler.treptow-bowman@winona.edu
END:VEVENT
BEGIN:VEVENT
DTSTART;TZID=America/Chicago:20250301T000000
DTEND;TZID=America/Chicago:20250331T235959
DTSTAMP:20260424T213003
CREATED:20250303T205206Z
LAST-MODIFIED:20250303T205207Z
UID:10000714-1740787200-1743465599@www.winona.edu
SUMMARY:WSU Colleges Food Drive Competition
DESCRIPTION:In honor of Minnesota FoodShare Month—a time dedicated to fighting hunger and restocking local food shelves—the College of Business has challenged the 4 other academic colleges at WSU for a Colleges Food Drive Competition throughout March. \n\n\n\nThis food drive will help stock and raise money for our on-campus food shelf\, the Warrior Cupboard. \n\n\n\nHow It Works\n\n\n\nDrop off food and household items to your Dean’s office\, then earn one point per item. \n\n\n\nYou can also earn one point per one dollar donated. For example\, donating $50 earns your College 50 points. \n\n\n\n    Donate to the Warrior Cupboard\n\n\n\n\n\nSuggested Items for Donation\n\n\n\n\nCanned meat and meals (tuna\, chicken\, stews\, soup\, ravioli\, etc.)\n\n\n\nCanned vegetables and fruits\n\n\n\nPeanut butter\n\n\n\nBoxed meals (Hamburger Helper\, Rice-A-Roni\, Mac & Cheese\, etc.)\n\n\n\nBaking ingredients (flour\, sugar\, Bisquick\, oil\, etc.)\n\n\n\nHousehold items (hand soap\, Kleenex\, laundry soap\, etc.)\n\n\n\nPersonal care items (deodorant\, shampoo\, toothpaste\, etc.)\n\n\n\nPlates\, silverware\, can openers\, serving spoons\, etc\n\n\n\n\nVenues\n\n\n\n\n\n\n\n\n\n\n\n\n\nContact
URL:https://www.winona.edu/about/event/wsu-colleges-food-drive-competition/
LOCATION:College of Business Dean’s Suite (Somsen 309)\, 175 West Mark Street\, Winona\, MN\, 55987\, United States
CATEGORIES:Academics,College of Business,College of Education,College of Liberal Arts,College of Nursing & Health Sciences,College of Science & Engineering,Colleges,Student Life,Support & Services
ATTACH;FMTTYPE=image/jpeg:https://www.winona.edu/about/wp-content/uploads/sites/3/2024/03/WSU_Student-Seeds-2019-02-14_151702.jpg
ORGANIZER;CN="Liz Schwanke":MAILTO:collegeofbusiness@winona.edu
END:VEVENT
BEGIN:VEVENT
DTSTART;TZID=America/Chicago:20240905T090000
DTEND;TZID=America/Chicago:20240905T120000
DTSTAMP:20260424T213003
CREATED:20241230T172845Z
LAST-MODIFIED:20241230T172846Z
UID:10000238-1725526800-1725537600@www.winona.edu
SUMMARY:Education Abroad Info Session
DESCRIPTION:If you’re interested in student teaching abroad\, check out our walk-in information session on Sept. 5. \n\n\n\n    Learn More about Student Teaching\n\n\n\n\n\nVenue\n\n\n\n\n\nContact
URL:https://www.winona.edu/about/event/education-abroad-info-session/
LOCATION:Cathedral 219\, 352 Center St\, Winona\, MN\, 55987\, United States
CATEGORIES:Academics,College of Education,Colleges,Study Abroad
ATTACH;FMTTYPE=image/jpeg:https://www.winona.edu/about/wp-content/uploads/sites/3/2023/10/WSU_Students-Event-2023-01-20_234236.jpg
ORGANIZER;CN="Study Abroad Office":MAILTO:studyabroad@winona.edu
END:VEVENT
END:VCALENDAR