BEGIN:VCALENDAR
VERSION:2.0
PRODID:-//About - ECPv6.15.16//NONSGML v1.0//EN
CALSCALE:GREGORIAN
METHOD:PUBLISH
X-ORIGINAL-URL:https://www.winona.edu/about
X-WR-CALDESC:Events for About
REFRESH-INTERVAL;VALUE=DURATION:PT1H
X-Robots-Tag:noindex
X-PUBLISHED-TTL:PT1H
BEGIN:VTIMEZONE
TZID:America/Chicago
BEGIN:DAYLIGHT
TZOFFSETFROM:-0600
TZOFFSETTO:-0500
TZNAME:CDT
DTSTART:20250309T080000
END:DAYLIGHT
BEGIN:STANDARD
TZOFFSETFROM:-0500
TZOFFSETTO:-0600
TZNAME:CST
DTSTART:20251102T070000
END:STANDARD
BEGIN:DAYLIGHT
TZOFFSETFROM:-0600
TZOFFSETTO:-0500
TZNAME:CDT
DTSTART:20260308T080000
END:DAYLIGHT
BEGIN:STANDARD
TZOFFSETFROM:-0500
TZOFFSETTO:-0600
TZNAME:CST
DTSTART:20261101T070000
END:STANDARD
BEGIN:DAYLIGHT
TZOFFSETFROM:-0600
TZOFFSETTO:-0500
TZNAME:CDT
DTSTART:20270314T080000
END:DAYLIGHT
BEGIN:STANDARD
TZOFFSETFROM:-0500
TZOFFSETTO:-0600
TZNAME:CST
DTSTART:20271107T070000
END:STANDARD
END:VTIMEZONE
BEGIN:VEVENT
DTSTART;TZID=America/Chicago:20260401T120000
DTEND;TZID=America/Chicago:20260401T130000
DTSTAMP:20260424T205850
CREATED:20260327T141335Z
LAST-MODIFIED:20260327T153159Z
UID:10001605-1775044800-1775048400@www.winona.edu
SUMMARY:Relationship Skills & Abuse Prevention Presentation & Discussion
DESCRIPTION:Join us for a presentation and group discussion on relationship skills and abuse prevention. \n\n\n\nLed by WSU Counselor Education graduate students\, this discussion will explore: \n\n\n\n\nIntimate partner and domestic violence awareness\n\n\n\nAbuse and violence prevention\n\n\n\nHealthy relationship skills\n\n\n\n\nThis event is open to all Winona State students. You must RSVP for this event and sign the informed consent form. \n\n\n\n    RSVP for This Event\n\n\n\n\n\nVenue\n\n\n\n\n\nContact\n\n\n\n\n\nDisclaimer\n\n\n\nThe views and opinions expressed by the speakers and programs hosted at Winona State University do not necessarily reflect the views or positions of the university or of the Minnesota State Colleges & Universities system.
URL:https://www.winona.edu/about/event/relationship-skills-abuse-prevention-group-april-1/
LOCATION:Helble 343\, 108 E 8th St\, Winona\, MN\, 55987\, United States
CATEGORIES:Academics,College of Education,Colleges,Counselor Education Department
ATTACH;FMTTYPE=image/jpeg:https://www.winona.edu/about/wp-content/uploads/sites/3/2025/01/Pro-students-walking-neighborhood-houses-feature-2022-09-26.jpg
ORGANIZER;CN="Adam Comerford":MAILTO:adam.comerford@go.winona.edu
END:VEVENT
END:VCALENDAR