BEGIN:VCALENDAR
VERSION:2.0
PRODID:-//About - ECPv6.15.16//NONSGML v1.0//EN
CALSCALE:GREGORIAN
METHOD:PUBLISH
X-ORIGINAL-URL:https://www.winona.edu/about
X-WR-CALDESC:Events for About
REFRESH-INTERVAL;VALUE=DURATION:PT1H
X-Robots-Tag:noindex
X-PUBLISHED-TTL:PT1H
BEGIN:VTIMEZONE
TZID:America/Chicago
BEGIN:DAYLIGHT
TZOFFSETFROM:-0600
TZOFFSETTO:-0500
TZNAME:CDT
DTSTART:20240310T080000
END:DAYLIGHT
BEGIN:STANDARD
TZOFFSETFROM:-0500
TZOFFSETTO:-0600
TZNAME:CST
DTSTART:20241103T070000
END:STANDARD
BEGIN:DAYLIGHT
TZOFFSETFROM:-0600
TZOFFSETTO:-0500
TZNAME:CDT
DTSTART:20250309T080000
END:DAYLIGHT
BEGIN:STANDARD
TZOFFSETFROM:-0500
TZOFFSETTO:-0600
TZNAME:CST
DTSTART:20251102T070000
END:STANDARD
BEGIN:DAYLIGHT
TZOFFSETFROM:-0600
TZOFFSETTO:-0500
TZNAME:CDT
DTSTART:20260308T080000
END:DAYLIGHT
BEGIN:STANDARD
TZOFFSETFROM:-0500
TZOFFSETTO:-0600
TZNAME:CST
DTSTART:20261101T070000
END:STANDARD
END:VTIMEZONE
BEGIN:VEVENT
DTSTART;TZID=America/Chicago:20250320T180000
DTEND;TZID=America/Chicago:20250320T190000
DTSTAMP:20260424T194217
CREATED:20250218T152313Z
LAST-MODIFIED:20250905T142723Z
UID:10000575-1742493600-1742497200@www.winona.edu
SUMMARY:"Reading Sound" Presentation by Dr. Aaron Lohmeyer
DESCRIPTION:On March 20\, join us for Dr. Aaron Lohmeyer’s presentation\, “Reading Sound: Freedom and Constraint within Music Media Designs.” \n\n\n\nMusic media changed rapidly in the 20th century\, and Dr. Lohmeyer’s presentation will provide a rough overview of text design changes and how the act of reading sound presents both freedoms and constraints for the reader. \n\n\n\nThis talk also discusses how musical media may either support or discourage democratic beliefs regarding self-expression. \n\n\n\nThis presentation is through the Consortium for Liberal Arts & Sciences Promotion (CLASP) series.  \n\n\n\nAll are welcome to attend in person\, and there is a Zoom room available (no password required). \n\n\n\n    Join Zoom Room\n\n\n\n\n\nVenue\n\n\n\n\n\nContact
URL:https://www.winona.edu/about/event/reading-sound-presentation-by-dr-aaron-lohmeyer/
LOCATION:Solarium\, 250 W 10th St\, Winona\, MN\, 55987\, United States
CATEGORIES:Academics,Arts & Entertainment,College of Liberal Arts,Colleges,Events & Traditions,Music Department,Speakers & Educational Series,Student Life
ATTACH;FMTTYPE=image/jpeg:https://www.winona.edu/about/wp-content/uploads/sites/3/2024/11/WSU-students-attending-presentation-feature-2020-02-24.jpg
ORGANIZER;CN="Adam Gaffey":MAILTO:agaffey@winona.edu
END:VEVENT
BEGIN:VEVENT
DTSTART;TZID=America/Chicago:20250226T180000
DTEND;TZID=America/Chicago:20250226T190000
DTSTAMP:20260424T194217
CREATED:20250213T204453Z
LAST-MODIFIED:20250905T142728Z
UID:10000565-1740592800-1740596400@www.winona.edu
SUMMARY:"Disability Aesthetics\, Digital Art & Generative AI" Presentation by Dr. Talan Memmott
DESCRIPTION:On Feb. 26\, join us for Dr. Talan Memmott’s presentation\, “Cripistemology and Creative Practice: Disability Aesthetics\, Digital Art\, and Generative AI.” \n\n\n\nDr. Memmott’s presentation will showcase “Introducing Lary”—an ongoing AI project that explores the re-invention of the self following life-changing cancer surgery and treatment.  \n\n\n\nThis talk also profiles Dr. Memmott’s experience with a laryngeal cancer diagnosis and the medical interventions that follow.  \n\n\n\nUsing a variety of AI platforms for video and image production as well as journal entries and medical reports as text prompts\, the resulting work is a set of distinctive media that range\, in Dr. Memmott’s words\, “from the mythic to the horrific; the historical to the speculative.” \n\n\n\nThis presentation is through the Consortium for Liberal Arts & Sciences Promotion (CLASP) series.  \n\n\n\nAll are welcome to attend in person\, and there is a Zoom room available (no password required). \n\n\n\n    Join Zoom Room\n\n\n\n\n\nVenue\n\n\n\n\n\nContact
URL:https://www.winona.edu/about/event/disability-aesthetics-digital-art-generative-ai-presentation-by-dr-talan-memmott/
LOCATION:SLC 120\, 400 Winona St\, Winona\, MN\, 55987\, United States
CATEGORIES:Academics,Arts & Entertainment,College of Liberal Arts,Colleges,Events & Traditions,Mass Communication Department,Speakers & Educational Series,Student Life
ATTACH;FMTTYPE=image/jpeg:https://www.winona.edu/about/wp-content/uploads/sites/3/2024/11/WSU-students-attending-presentation-feature-2020-02-24.jpg
ORGANIZER;CN="Adam Gaffey":MAILTO:agaffey@winona.edu
END:VEVENT
END:VCALENDAR