BEGIN:VCALENDAR
VERSION:2.0
PRODID:-//About - ECPv6.15.16//NONSGML v1.0//EN
CALSCALE:GREGORIAN
METHOD:PUBLISH
X-WR-CALNAME:About
X-ORIGINAL-URL:https://www.winona.edu/about
X-WR-CALDESC:Events for About
REFRESH-INTERVAL;VALUE=DURATION:PT1H
X-Robots-Tag:noindex
X-PUBLISHED-TTL:PT1H
BEGIN:VTIMEZONE
TZID:America/Chicago
BEGIN:DAYLIGHT
TZOFFSETFROM:-0600
TZOFFSETTO:-0500
TZNAME:CDT
DTSTART:20240310T080000
END:DAYLIGHT
BEGIN:STANDARD
TZOFFSETFROM:-0500
TZOFFSETTO:-0600
TZNAME:CST
DTSTART:20241103T070000
END:STANDARD
BEGIN:DAYLIGHT
TZOFFSETFROM:-0600
TZOFFSETTO:-0500
TZNAME:CDT
DTSTART:20250309T080000
END:DAYLIGHT
BEGIN:STANDARD
TZOFFSETFROM:-0500
TZOFFSETTO:-0600
TZNAME:CST
DTSTART:20251102T070000
END:STANDARD
BEGIN:DAYLIGHT
TZOFFSETFROM:-0600
TZOFFSETTO:-0500
TZNAME:CDT
DTSTART:20260308T080000
END:DAYLIGHT
BEGIN:STANDARD
TZOFFSETFROM:-0500
TZOFFSETTO:-0600
TZNAME:CST
DTSTART:20261101T070000
END:STANDARD
BEGIN:DAYLIGHT
TZOFFSETFROM:-0600
TZOFFSETTO:-0500
TZNAME:CDT
DTSTART:20270314T080000
END:DAYLIGHT
BEGIN:STANDARD
TZOFFSETFROM:-0500
TZOFFSETTO:-0600
TZNAME:CST
DTSTART:20271107T070000
END:STANDARD
END:VTIMEZONE
BEGIN:VEVENT
DTSTART;TZID=America/Chicago:20260411T110000
DTEND;TZID=America/Chicago:20260411T120000
DTSTAMP:20260424T134745
CREATED:20260407T163228Z
LAST-MODIFIED:20260407T163230Z
UID:10001620-1775905200-1775908800@www.winona.edu
SUMMARY:WSU Women's Rugby vs. College of Saint Benedict Game
DESCRIPTION:Cheer on the women’s Rugby team as they play against the College of Saint Benedict. \n\n\n\n\n\nVenue\n\n\n\n\n\nContact\n\n\n\n\n\nDisclaimer\n\n\n\nThe views and opinions expressed by the speakers and programs hosted at Winona State University do not necessarily reflect the views or positions of the university or of the Minnesota State Colleges & Universities system.
URL:https://www.winona.edu/about/event/wsu-womens-rugby-vs-college-of-saint-benedict-game-april-11/
LOCATION:Minnesota State College Southeast (Winona)\, 1250 Homer Road\, Winona\, MN\, 55987\, United States
CATEGORIES:Clubs & Activities,Clubs & Organizations,Sports Clubs,Student Life
ATTACH;FMTTYPE=image/jpeg:https://www.winona.edu/about/wp-content/uploads/sites/3/2025/09/WSU-womens-rugby-team-ball-feature-2025-10-04.jpg
ORGANIZER;CN="Addison Schmidtlein":MAILTO:addison.schmidtlein@go.winona.edu
END:VEVENT
BEGIN:VEVENT
DTSTART;TZID=America/Chicago:20260328T120000
DTEND;TZID=America/Chicago:20260328T133000
DTSTAMP:20260424T134745
CREATED:20260317T185342Z
LAST-MODIFIED:20260317T185343Z
UID:10001589-1774699200-1774704600@www.winona.edu
SUMMARY:WSU Women's Rugby vs. Gustavus Adolphus College Game
DESCRIPTION:Cheer on the women’s Rugby team as they play against Gustavus Adolphus College. \n\n\n\n\n\nVenue\n\n\n\n\n\nContact\n\n\n\n\n\nDisclaimer\n\n\n\nThe views and opinions expressed by the speakers and programs hosted at Winona State University do not necessarily reflect the views or positions of the university or of the Minnesota State Colleges & Universities system.
URL:https://www.winona.edu/about/event/wsu-womens-rugby-vs-gustavus-adolphus-college-game-march-28/
LOCATION:Minnesota State College Southeast (Winona)\, 1250 Homer Road\, Winona\, MN\, 55987\, United States
CATEGORIES:Clubs & Activities,Clubs & Organizations,Sports Clubs,Student Life
ATTACH;FMTTYPE=image/jpeg:https://www.winona.edu/about/wp-content/uploads/sites/3/2025/09/WSU-womens-rugby-team-ball-feature-2025-10-04.jpg
ORGANIZER;CN="Addison Schmidtlein":MAILTO:addison.schmidtlein@go.winona.edu
END:VEVENT
BEGIN:VEVENT
DTSTART;TZID=America/Chicago:20251025T120000
DTEND;TZID=America/Chicago:20251025T140000
DTSTAMP:20260424T134745
CREATED:20251010T163528Z
LAST-MODIFIED:20251010T163529Z
UID:10001332-1761393600-1761400800@www.winona.edu
SUMMARY:WSU Women's Rugby vs. University of Minnesota Game
DESCRIPTION:Cheer on the women’s Rugby team as they play against the University of Minnesota. \n\n\n\n\n\nVenue\n\n\n\n\n\nContact
URL:https://www.winona.edu/about/event/wsu-womens-rugby-vs-university-of-minnesota-game/
LOCATION:Minnesota State College Southeast (Winona)\, 1250 Homer Road\, Winona\, MN\, 55987\, United States
CATEGORIES:Clubs & Activities,Clubs & Organizations,Sports Clubs,Student Life
ATTACH;FMTTYPE=image/jpeg:https://www.winona.edu/about/wp-content/uploads/sites/3/2025/09/WSU-womens-rugby-team-ball-feature-2025-10-04.jpg
ORGANIZER;CN="Addison Schmidtlein":MAILTO:addison.schmidtlein@go.winona.edu
END:VEVENT
BEGIN:VEVENT
DTSTART;TZID=America/Chicago:20251011T100000
DTEND;TZID=America/Chicago:20251011T120000
DTSTAMP:20260424T134745
CREATED:20251009T213740Z
LAST-MODIFIED:20251009T213741Z
UID:10001225-1760176800-1760184000@www.winona.edu
SUMMARY:WSU Women's Rugby vs. Gustavus Adolphus College Game
DESCRIPTION:Cheer on the women’s Rugby team as they play against Gustavus Adolphus College. \n\n\n\n\n\nVenue\n\n\n\n\n\nContact
URL:https://www.winona.edu/about/event/wsu-womens-rugby-vs-gustavus-adolphus-college-2025/
LOCATION:Minnesota State College Southeast (Winona)\, 1250 Homer Road\, Winona\, MN\, 55987\, United States
CATEGORIES:Clubs & Activities,Clubs & Organizations,Sports Clubs,Student Life
ATTACH;FMTTYPE=image/jpeg:https://www.winona.edu/about/wp-content/uploads/sites/3/2025/09/WSU-womens-rugby-team-ball-feature-2025-10-04.jpg
ORGANIZER;CN="Addison Schmidtlein":MAILTO:addison.schmidtlein@go.winona.edu
END:VEVENT
BEGIN:VEVENT
DTSTART;TZID=America/Chicago:20251004T100000
DTEND;TZID=America/Chicago:20251004T120000
DTSTAMP:20260424T134745
CREATED:20251010T163444Z
LAST-MODIFIED:20251010T163444Z
UID:10001331-1759572000-1759579200@www.winona.edu
SUMMARY:WSU Women's Rugby vs. University of Wisconsin–La Crosse Game
DESCRIPTION:Cheer on the women’s Rugby team as they play against the University of Wisconsin–La Crosse. \n\n\n\n\n\nVenue\n\n\n\n\n\nContact
URL:https://www.winona.edu/about/event/wsu-womens-rugby-vs-university-of-wisconsin-la-crosse-game/
LOCATION:Minnesota State College Southeast (Winona)\, 1250 Homer Road\, Winona\, MN\, 55987\, United States
CATEGORIES:Clubs & Activities,Clubs & Organizations,Sports Clubs,Student Life
ATTACH;FMTTYPE=image/jpeg:https://www.winona.edu/about/wp-content/uploads/sites/3/2025/09/WSU-womens-rugby-team-ball-feature-2025-10-04.jpg
ORGANIZER;CN="Addison Schmidtlein":MAILTO:addison.schmidtlein@go.winona.edu
END:VEVENT
BEGIN:VEVENT
DTSTART;TZID=America/Chicago:20250405T110000
DTEND;TZID=America/Chicago:20250405T130000
DTSTAMP:20260424T134745
CREATED:20250331T142100Z
LAST-MODIFIED:20250331T142101Z
UID:10000813-1743850800-1743858000@www.winona.edu
SUMMARY:WSU Women's Rugby vs. Gustavus Adolphus College
DESCRIPTION:On April 5\, come cheer on the women’s Rugby team as they play against Gustavus Adolphus College.  \n\n\n\n\n\nVenue\n\n\n\n\n\nContact
URL:https://www.winona.edu/about/event/wsu-womens-rugby-vs-gustavus-adolphus-college/
LOCATION:Minnesota State College Southeast (Winona)\, 1250 Homer Road\, Winona\, MN\, 55987\, United States
CATEGORIES:Clubs & Activities,Clubs & Organizations,Sports Clubs,Student Life
ATTACH;FMTTYPE=image/jpeg:https://www.winona.edu/about/wp-content/uploads/sites/3/2025/03/WSU-female-students-hugging-rugby-feature-2022-08-19.jpg
ORGANIZER;CN="Addison Schmidtlein":MAILTO:addison.schmidtlein@go.winona.edu
END:VEVENT
END:VCALENDAR