BEGIN:VCALENDAR
VERSION:2.0
PRODID:-//About - ECPv6.15.16//NONSGML v1.0//EN
CALSCALE:GREGORIAN
METHOD:PUBLISH
X-WR-CALNAME:About
X-ORIGINAL-URL:https://www.winona.edu/about
X-WR-CALDESC:Events for About
REFRESH-INTERVAL;VALUE=DURATION:PT1H
X-Robots-Tag:noindex
X-PUBLISHED-TTL:PT1H
BEGIN:VTIMEZONE
TZID:America/Chicago
BEGIN:DAYLIGHT
TZOFFSETFROM:-0600
TZOFFSETTO:-0500
TZNAME:CDT
DTSTART:20250309T080000
END:DAYLIGHT
BEGIN:STANDARD
TZOFFSETFROM:-0500
TZOFFSETTO:-0600
TZNAME:CST
DTSTART:20251102T070000
END:STANDARD
BEGIN:DAYLIGHT
TZOFFSETFROM:-0600
TZOFFSETTO:-0500
TZNAME:CDT
DTSTART:20260308T080000
END:DAYLIGHT
BEGIN:STANDARD
TZOFFSETFROM:-0500
TZOFFSETTO:-0600
TZNAME:CST
DTSTART:20261101T070000
END:STANDARD
BEGIN:DAYLIGHT
TZOFFSETFROM:-0600
TZOFFSETTO:-0500
TZNAME:CDT
DTSTART:20270314T080000
END:DAYLIGHT
BEGIN:STANDARD
TZOFFSETFROM:-0500
TZOFFSETTO:-0600
TZNAME:CST
DTSTART:20271107T070000
END:STANDARD
END:VTIMEZONE
BEGIN:VEVENT
DTSTART;TZID=America/Chicago:20260424T090000
DTEND;TZID=America/Chicago:20260424T140000
DTSTAMP:20260424T081658
CREATED:20260413T175639Z
LAST-MODIFIED:20260417T174954Z
UID:10001639-1777021200-1777039200@www.winona.edu
SUMMARY:Arbor Day Celebration: Giveaways\, Plantings\, & Eco-Fair
DESCRIPTION:In honor of Arbor Day\, stop by the Gazebo for a free tree seedling giveaway from the WSU Landscape Arboretum. \n\n\n\nThen celebrate sustainability by taking part in campus tree plantings and an Eco-Fair hosted by students in BIOL 104: Environment\, Society\, & Conservation. \n\n\n\n\n\nVenue\n\n\n\n\n\nRain Venue\n\n\n\n\n\nContact\n\n\n\n\n\nDisclaimer\n\n\n\nThe views and opinions expressed by the speakers and programs hosted at Winona State University do not necessarily reflect the views or positions of the university or of the Minnesota State Colleges & Universities system.
URL:https://www.winona.edu/about/event/arbor-day-celebration-giveaways-plantings-eco-fair/
LOCATION:Gazebo\, 175 W Mark St\, Winona\, MN\, 55987\, United States
CATEGORIES:About,Landscape Arboretum
ATTACH;FMTTYPE=image/jpeg:https://www.winona.edu/about/wp-content/uploads/sites/3/2022/12/WSU-Campus-Trees-Spring-2021-04-27_093255.jpg
ORGANIZER;CN="Amy Runck":MAILTO:arunck@winona.edu
END:VEVENT
BEGIN:VEVENT
DTSTART;TZID=America/Chicago:20260516T100000
DTEND;TZID=America/Chicago:20260516T140000
DTSTAMP:20260424T081658
CREATED:20260417T175840Z
LAST-MODIFIED:20260417T185522Z
UID:10001651-1778925600-1778940000@www.winona.edu
SUMMARY:Landscape Arboretum Garden & Tree Tour
DESCRIPTION:If you’re not sure what to plant in your yard or you’re looking to support pollinators but don’t know where to start\, join the WSU Landscape Arboretum for an inspiring and practical look at trees and plants that will enhance your outdoor spaces.  \n\n\n\nDiscover resilient\, beautiful options and take away ideas to create an outdoor space that is both functional and inviting. \n\n\n\nWe’ll feature well-behaved trees on campus that are ideal for residential spaces\, along with standout plants from our cultivar garden\, native plant gardens\, and meditation garden. \n\n\n\nParking is available in the Gold parking lot at the corner of Main and Mark streets. Look for Arboretum volunteers to guide you from there.  \n\n\n\n\n\nVenue\n\n\n\n\n\nContact\n\n\n\n\n\nDisclaimer\n\n\n\nThe views and opinions expressed by the speakers and programs hosted at Winona State University do not necessarily reflect the views or positions of the university or of the Minnesota State Colleges & Universities system.
URL:https://www.winona.edu/about/event/wsu-landscape-arboretum-garden-tree-tour/
LOCATION:Winona Campus\, 175 West Mark Street\, Winona\, MN\, 55987\, United States
CATEGORIES:About,Landscape Arboretum
ATTACH;FMTTYPE=image/jpeg:https://www.winona.edu/about/wp-content/uploads/sites/3/2026/04/WSU-students-campus-garden-feature-2021-06-30.jpg
ORGANIZER;CN="Amy Runck":MAILTO:arunck@winona.edu
END:VEVENT
END:VCALENDAR