BEGIN:VCALENDAR
VERSION:2.0
PRODID:-//About - ECPv6.15.16//NONSGML v1.0//EN
CALSCALE:GREGORIAN
METHOD:PUBLISH
X-ORIGINAL-URL:https://www.winona.edu/about
X-WR-CALDESC:Events for About
REFRESH-INTERVAL;VALUE=DURATION:PT1H
X-Robots-Tag:noindex
X-PUBLISHED-TTL:PT1H
BEGIN:VTIMEZONE
TZID:America/Chicago
BEGIN:DAYLIGHT
TZOFFSETFROM:-0600
TZOFFSETTO:-0500
TZNAME:CDT
DTSTART:20240310T080000
END:DAYLIGHT
BEGIN:STANDARD
TZOFFSETFROM:-0500
TZOFFSETTO:-0600
TZNAME:CST
DTSTART:20241103T070000
END:STANDARD
BEGIN:DAYLIGHT
TZOFFSETFROM:-0600
TZOFFSETTO:-0500
TZNAME:CDT
DTSTART:20250309T080000
END:DAYLIGHT
BEGIN:STANDARD
TZOFFSETFROM:-0500
TZOFFSETTO:-0600
TZNAME:CST
DTSTART:20251102T070000
END:STANDARD
BEGIN:DAYLIGHT
TZOFFSETFROM:-0600
TZOFFSETTO:-0500
TZNAME:CDT
DTSTART:20260308T080000
END:DAYLIGHT
BEGIN:STANDARD
TZOFFSETFROM:-0500
TZOFFSETTO:-0600
TZNAME:CST
DTSTART:20261101T070000
END:STANDARD
END:VTIMEZONE
BEGIN:VEVENT
DTSTART;TZID=America/Chicago:20250327T190000
DTEND;TZID=America/Chicago:20250327T200000
DTSTAMP:20260424T174414
CREATED:20250304T171042Z
LAST-MODIFIED:20250905T142642Z
UID:10000742-1743102000-1743105600@www.winona.edu
SUMMARY:"Where Rivers Part" Book Talk with Author Kao Kalia Yang
DESCRIPTION:On March 27\, spend the evening with Kao Kalia Yang\, author of the recently published “Where Rivers Part: A Story of My Mother’s Life.” Yang will deliver a keynote and read from her book\, as part of the John S. Lucas Great River Reading Series. \n\n\n\nThis event is sponsored by WSU’s departments of English; Global Studies & World Languages; Music; Social Work; and Women\, Gender\, & Sexuality Studies. This event is also sponsored by WSU’s Office of Equity & Inclusive Excellence and the Dean of the College of Liberal Arts. \n\n\n\n    Learn More about the Great River Reading Series\n\n\n\n\n\n    \n        \n            \n                        \n            \n\nAbout the Author\n\n\n\nKao Kalia Yang is a Hmong-American writer\, filmmaker\, and teacher.  \n\n\n\nHer work crosses audiences and genres and has been recognized by the National Endowment for the Arts\, the National Book Critics Circle Award\, the Chautauqua Prize\, the PEN USA literary awards\, the Dayton’s Literary Peace Prize\, Kirkus Best Books of the Year\, the Heartland Bookseller’s Award\, and has garnered four Minnesota Book Awards. She was also named the Minnesota Tribune Artist of the Year in 2024. \n\n\n\nKalia was born in the refugee camps of Thailand to a family that escaped the genocide of the Secret War in Laos. She came to America at the age of 6\, and her first book\, “The Latehomecomer: A Hmong Family Memoir\,” reflects upon this move. A review by Publishers Weekly praises Kalia\, “Yang tells her family’s story with grace; she narrates their struggles\, beautifully weaving in Hmong folklore and culture.” “The Latehomecomer” was the winner of 2 Minnesota Book Awards\, a finalist for the PEN USA Award\, and earned a NEA Big Read title. It is the first Hmong-authored book to gain national distribution from a literary press. \n\n\n\nKalia is the author of “The Song Poet: A Memoir of My Father\,” which won the 2016 Minnesota Book Award\, and it was a finalist for the Dayton’s Literary Peace Prize\, the National Book Critics Circle Award\, the Chautauqua Prize\, and the PEN USA Award. Commissioned by the Minnesota Opera\, Kalia was also a librettist for The Song Poet Opera. \n\n\n\nShe is also the author of “Somewhere in the Unknown World\,” and her latest\, “Where Rivers Part: A Story of My Mother’s Life.” \n\n\n\nKalia is the author of the children’s books “A Map into the World\,” “The Most Beautiful Thing\,” “The Shared Room\,” “Yang Warriors\,” “From the Tops of the Trees\,” and “The Rock in My Throat\,” which center around Hmong children who live in our world\, who dream and hurt and hope in it. \n\n\n\nLastly\, she is the co-editor of a ground-breaking collection titled “What God Is Honored Here?: Writings on Miscarriage and Infant Loss By and For Native Women and Women of Color.” For her work\, Kalia has been the recipient of McKnight\, Soros\, and Guggenheim Fellowships. \n\n\n\nWhen she’s not in front of an audience inspiring social change and awareness\, Kalia raises twin sons that keep her and her husband busy at their home in Minneapolis. \n\n\n        \n    \n\n\n\n\nVenue\n\n\n\n\n\nContact
URL:https://www.winona.edu/about/event/where-rivers-part-book-talk-with-author-kao-kalia-yang/
LOCATION:SLC 120\, 400 Winona St\, Winona\, MN\, 55987\, United States
CATEGORIES:Academics,Arts & Entertainment,College of Liberal Arts,Colleges,Events & Traditions,Speakers & Educational Series,Student Life
ATTACH;FMTTYPE=image/jpeg:https://www.winona.edu/about/wp-content/uploads/sites/3/2025/03/Kao-Kalia-Yang-feature-horizontal.jpg
ORGANIZER;CN="Ann-Marie Dunbar":MAILTO:adunbar@winona.edu
END:VEVENT
BEGIN:VEVENT
DTSTART;TZID=America/Chicago:20250327T143000
DTEND;TZID=America/Chicago:20250327T153000
DTSTAMP:20260424T174414
CREATED:20250304T171710Z
LAST-MODIFIED:20250304T171909Z
UID:10000743-1743085800-1743089400@www.winona.edu
SUMMARY:Discussion Panel on Collaboration & Community with Author Kao Kalia Yang
DESCRIPTION:On March 27\, join guest author Kao Kalia Yang for a moderated panel discussion on collaboration and community. This conversation will focus on artistic collaboration as a means of fostering community.  \n\n\n\nShe will be joined by WSU faculty and representatives of area arts organizations. \n\n\n\n    Learn More about Kao Kalia Yang\n\n\n\n\n\nVenue\n\n\n\n\n\nContact
URL:https://www.winona.edu/about/event/discussion-panel-on-collaboration-community-with-author-kao-kalia-yang/
LOCATION:SLC 120\, 400 Winona St\, Winona\, MN\, 55987\, United States
CATEGORIES:Academics,Arts & Entertainment,College of Liberal Arts,Colleges,Speakers & Educational Series,Student Life
ATTACH;FMTTYPE=image/jpeg:https://www.winona.edu/about/wp-content/uploads/sites/3/2024/11/WSU-students-attending-presentation-feature-2020-02-24.jpg
ORGANIZER;CN="Ann-Marie Dunbar":MAILTO:adunbar@winona.edu
END:VEVENT
END:VCALENDAR