BEGIN:VCALENDAR
VERSION:2.0
PRODID:-//About - ECPv6.15.16//NONSGML v1.0//EN
CALSCALE:GREGORIAN
METHOD:PUBLISH
X-WR-CALNAME:About
X-ORIGINAL-URL:https://www.winona.edu/about
X-WR-CALDESC:Events for About
REFRESH-INTERVAL;VALUE=DURATION:PT1H
X-Robots-Tag:noindex
X-PUBLISHED-TTL:PT1H
BEGIN:VTIMEZONE
TZID:America/Chicago
BEGIN:DAYLIGHT
TZOFFSETFROM:-0600
TZOFFSETTO:-0500
TZNAME:CDT
DTSTART:20250309T080000
END:DAYLIGHT
BEGIN:STANDARD
TZOFFSETFROM:-0500
TZOFFSETTO:-0600
TZNAME:CST
DTSTART:20251102T070000
END:STANDARD
BEGIN:DAYLIGHT
TZOFFSETFROM:-0600
TZOFFSETTO:-0500
TZNAME:CDT
DTSTART:20260308T080000
END:DAYLIGHT
BEGIN:STANDARD
TZOFFSETFROM:-0500
TZOFFSETTO:-0600
TZNAME:CST
DTSTART:20261101T070000
END:STANDARD
BEGIN:DAYLIGHT
TZOFFSETFROM:-0600
TZOFFSETTO:-0500
TZNAME:CDT
DTSTART:20270314T080000
END:DAYLIGHT
BEGIN:STANDARD
TZOFFSETFROM:-0500
TZOFFSETTO:-0600
TZNAME:CST
DTSTART:20271107T070000
END:STANDARD
END:VTIMEZONE
BEGIN:VEVENT
DTSTART;TZID=America/Chicago:20260325T103000
DTEND;TZID=America/Chicago:20260325T123000
DTSTAMP:20260424T191121
CREATED:20260324T192028Z
LAST-MODIFIED:20260324T192028Z
UID:10001601-1774434600-1774441800@www.winona.edu
SUMMARY:Taco-bout Summer Sessions
DESCRIPTION:Stop by the SLC Atrium to chat about summer courses and enjoy free tacos.  \n\n\n\nYou can also sign up for a chance to win one of 5 $20 Taco Bell gift cards. \n\n\n\nWinona State’s Summer Session is a great opportunity for students to catch up\, keep up\, or get ahead with over 250 classes offered—including online\, in-person\, hybrid\, internship\, and faculty-led study abroad options. \n\n\n\nThis event is sponsored by WSU Student Senate and Adult & Continuing Education. \n\n\n\n    Learn More about Summer Session\n\n\n\n\n\nVenue\n\n\n\n\n\nContact\n\n\n\n\n\nDisclaimer\n\n\n\nThe views and opinions expressed by the speakers and programs hosted at Winona State University do not necessarily reflect the views or positions of the university or of the Minnesota State Colleges & Universities system.
URL:https://www.winona.edu/about/event/taco-bout-summer-sessions/
LOCATION:SLC Atrium\, 400 Winona St\, Winona\, MN\, 55987\, United States
CATEGORIES:Academics,Adult & Continuing Education,Clubs & Activities,Student Life,Student Senate
ATTACH;FMTTYPE=image/jpeg:https://www.winona.edu/about/wp-content/uploads/sites/3/2024/11/WSU-advisor-meeting-student-feature-2023-03-01.jpg
ORGANIZER;CN="Brooklyn Bothe":MAILTO:brooklyn.bothe@go.winona.edu
END:VEVENT
END:VCALENDAR