BEGIN:VCALENDAR
VERSION:2.0
PRODID:-//About - ECPv6.15.16//NONSGML v1.0//EN
CALSCALE:GREGORIAN
METHOD:PUBLISH
X-ORIGINAL-URL:https://www.winona.edu/about
X-WR-CALDESC:Events for About
REFRESH-INTERVAL;VALUE=DURATION:PT1H
X-Robots-Tag:noindex
X-PUBLISHED-TTL:PT1H
BEGIN:VTIMEZONE
TZID:America/Chicago
BEGIN:DAYLIGHT
TZOFFSETFROM:-0600
TZOFFSETTO:-0500
TZNAME:CDT
DTSTART:20230312T080000
END:DAYLIGHT
BEGIN:STANDARD
TZOFFSETFROM:-0500
TZOFFSETTO:-0600
TZNAME:CST
DTSTART:20231105T070000
END:STANDARD
BEGIN:DAYLIGHT
TZOFFSETFROM:-0600
TZOFFSETTO:-0500
TZNAME:CDT
DTSTART:20240310T080000
END:DAYLIGHT
BEGIN:STANDARD
TZOFFSETFROM:-0500
TZOFFSETTO:-0600
TZNAME:CST
DTSTART:20241103T070000
END:STANDARD
BEGIN:DAYLIGHT
TZOFFSETFROM:-0600
TZOFFSETTO:-0500
TZNAME:CDT
DTSTART:20250309T080000
END:DAYLIGHT
BEGIN:STANDARD
TZOFFSETFROM:-0500
TZOFFSETTO:-0600
TZNAME:CST
DTSTART:20251102T070000
END:STANDARD
END:VTIMEZONE
BEGIN:VEVENT
DTSTART;TZID=America/Chicago:20241212T130000
DTEND;TZID=America/Chicago:20241212T150000
DTSTAMP:20260424T153230
CREATED:20250105T225054Z
LAST-MODIFIED:20250105T225055Z
UID:10000290-1734008400-1734015600@www.winona.edu
SUMMARY:"What Is American Greatness?" Dialogue
DESCRIPTION:On Dec. 12\, you’re invited to attend a civic dialogue that students are hosting and moderating.  \n\n\n\nThe purpose of the dialogue is to bring people together to better understand and respect one another despite difference\, which promotes civility. \n\n\n\nStudents chose this topic specifically to help bring people back together after a divisive Presidential election\, emphasize our shared values\, and celebrate our differences. \n\n\n\nPlease RSVP to this event by Dec. 6. \n\n\n\n    RSVP to This Event\n\n\n\n\n\nVenue\n\n\n\n\n\nContact
URL:https://www.winona.edu/about/event/what-is-american-greatness-dialogue/
LOCATION:Bluffs Lounge\, 250 W 10th St\, Winona\, MN\, 55987\, United States
CATEGORIES:Academics,College of Liberal Arts,Colleges,Political Science & Public Administration Department
ATTACH;FMTTYPE=image/jpeg:https://www.winona.edu/about/wp-content/uploads/sites/3/2023/09/WSU-Speakers-Panel-2020-02-24_181944.jpg
ORGANIZER;CN="Elissa Alzate":MAILTO:ealzate@winona.edu
END:VEVENT
END:VCALENDAR