BEGIN:VCALENDAR
VERSION:2.0
PRODID:-//About - ECPv6.15.16//NONSGML v1.0//EN
CALSCALE:GREGORIAN
METHOD:PUBLISH
X-ORIGINAL-URL:https://www.winona.edu/about
X-WR-CALDESC:Events for About
REFRESH-INTERVAL;VALUE=DURATION:PT1H
X-Robots-Tag:noindex
X-PUBLISHED-TTL:PT1H
BEGIN:VTIMEZONE
TZID:America/Chicago
BEGIN:DAYLIGHT
TZOFFSETFROM:-0600
TZOFFSETTO:-0500
TZNAME:CDT
DTSTART:20240310T080000
END:DAYLIGHT
BEGIN:STANDARD
TZOFFSETFROM:-0500
TZOFFSETTO:-0600
TZNAME:CST
DTSTART:20241103T070000
END:STANDARD
BEGIN:DAYLIGHT
TZOFFSETFROM:-0600
TZOFFSETTO:-0500
TZNAME:CDT
DTSTART:20250309T080000
END:DAYLIGHT
BEGIN:STANDARD
TZOFFSETFROM:-0500
TZOFFSETTO:-0600
TZNAME:CST
DTSTART:20251102T070000
END:STANDARD
BEGIN:DAYLIGHT
TZOFFSETFROM:-0600
TZOFFSETTO:-0500
TZNAME:CDT
DTSTART:20260308T080000
END:DAYLIGHT
BEGIN:STANDARD
TZOFFSETFROM:-0500
TZOFFSETTO:-0600
TZNAME:CST
DTSTART:20261101T070000
END:STANDARD
END:VTIMEZONE
BEGIN:VEVENT
DTSTART;TZID=America/Chicago:20250411T090000
DTEND;TZID=America/Chicago:20250411T120000
DTSTAMP:20260424T115927
CREATED:20250224T230032Z
LAST-MODIFIED:20250224T230032Z
UID:10000607-1744362000-1744372800@www.winona.edu
SUMMARY:Basic Life Support Training for Aspiring Healthcare Professionals
DESCRIPTION:On April 11\, attend this class if you’re an aspiring healthcare professional and want to get trained in basic life support (BLS). \n\n\n\nThis class is open to WSU students. Limited spots are available. \n\n\n\nPlease note that this training is held on Spring Break Day\, and there are no classes. \n\n\n\nQuestions? Contact healthservicescpr@winona.edu for more info.  \n\n\n\n    Sign Up for This Event\n\n\n\n\n\nVenue\n\n\n\n\n\nContact
URL:https://www.winona.edu/about/event/basic-life-support-training-for-aspiring-healthcare-professionals-april-11/
LOCATION:Health & Wellness Services (IWC 222)\, 175 W Mark St\, Winona\, MN\, 55987\, United States
CATEGORIES:Academics,College of Nursing & Health Sciences,College of Science & Engineering,Colleges,Health & Wellness,Student Life
ATTACH;FMTTYPE=image/jpeg:https://www.winona.edu/about/wp-content/uploads/sites/3/2025/01/WSU-students-health-manikin-feature-2016-11-17.jpg
ORGANIZER;CN="Jami Rosenbush":MAILTO:jrosenbush@winona.edu
END:VEVENT
BEGIN:VEVENT
DTSTART;TZID=America/Chicago:20250314T090000
DTEND;TZID=America/Chicago:20250314T120000
DTSTAMP:20260424T115927
CREATED:20250224T225841Z
LAST-MODIFIED:20250224T225842Z
UID:10000606-1741942800-1741953600@www.winona.edu
SUMMARY:Basic Life Support Training for Aspiring Healthcare Professionals
DESCRIPTION:On March 14\, attend this class if you’re an aspiring healthcare professional and want to get trained in basic life support (BLS). \n\n\n\nThis class is open to WSU students. Limited spots are available. \n\n\n\nPlease note that this training is held during Spring Break\, and there are no classes. \n\n\n\nQuestions? Contact healthservicescpr@winona.edu for more info.  \n\n\n\n    Sign Up for This Event\n\n\n\n\n\nVenue\n\n\n\n\n\nContact
URL:https://www.winona.edu/about/event/basic-life-support-training-for-aspiring-healthcare-professionals-march-14/
LOCATION:Health & Wellness Services (IWC 222)\, 175 W Mark St\, Winona\, MN\, 55987\, United States
CATEGORIES:Academics,College of Nursing & Health Sciences,College of Science & Engineering,Colleges,Health & Wellness,Student Life
ATTACH;FMTTYPE=image/jpeg:https://www.winona.edu/about/wp-content/uploads/sites/3/2025/01/WSU-students-health-manikin-feature-2016-11-17.jpg
ORGANIZER;CN="Jami Rosenbush":MAILTO:jrosenbush@winona.edu
END:VEVENT
BEGIN:VEVENT
DTSTART;TZID=America/Chicago:20250313T090000
DTEND;TZID=America/Chicago:20250313T130000
DTSTAMP:20260424T115927
CREATED:20250224T224433Z
LAST-MODIFIED:20250224T224434Z
UID:10000603-1741856400-1741870800@www.winona.edu
SUMMARY:CPR\, Heartsaver\, First Aid & AED Training
DESCRIPTION:On March 13\, attend this class to get trained in CPR\, Heartsaver\, first aid\, and Automated External Defibrillators (AED) for adults\, children\, and infants. \n\n\n\nThis class is open to WSU students and employees. Limited spots are available. \n\n\n\nPlease note that this training is held during Spring Break\, and there are no classes.  \n\n\n\nQuestions? Contact healthservicescpr@winona.edu for more info.  \n\n\n\n    Sign Up for This Event\n\n\n\n\n\nVenue\n\n\n\n\n\nContact
URL:https://www.winona.edu/about/event/cpr-heartsaver-first-aid-aed-training-march-13/
LOCATION:Health & Wellness Services (IWC 222)\, 175 W Mark St\, Winona\, MN\, 55987\, United States
CATEGORIES:Health & Wellness,Student Life
ATTACH;FMTTYPE=image/jpeg:https://www.winona.edu/about/wp-content/uploads/sites/3/2025/01/WSU-students-health-manikin-feature-2016-11-17.jpg
ORGANIZER;CN="Jami Rosenbush":MAILTO:jrosenbush@winona.edu
END:VEVENT
BEGIN:VEVENT
DTSTART;TZID=America/Chicago:20250303T130000
DTEND;TZID=America/Chicago:20250303T160000
DTSTAMP:20260424T115927
CREATED:20250224T225220Z
LAST-MODIFIED:20250224T225221Z
UID:10000605-1741006800-1741017600@www.winona.edu
SUMMARY:Basic Life Support Training for Aspiring Healthcare Professionals
DESCRIPTION:On March 3\, attend this class if you’re an aspiring healthcare professional and want to get trained in basic life support (BLS). \n\n\n\nThis class is open to WSU students. Limited spots are available. \n\n\n\nQuestions? Contact healthservicescpr@winona.edu for more info.  \n\n\n\n    Sign Up for This Event\n\n\n\n\n\nVenue\n\n\n\n\n\nContact
URL:https://www.winona.edu/about/event/basic-life-support-training-for-aspiring-healthcare-professionals-march-03-afternoon/
LOCATION:Health & Wellness Services (IWC 222)\, 175 W Mark St\, Winona\, MN\, 55987\, United States
CATEGORIES:Academics,College of Nursing & Health Sciences,College of Science & Engineering,Colleges,Health & Wellness,Student Life
ATTACH;FMTTYPE=image/jpeg:https://www.winona.edu/about/wp-content/uploads/sites/3/2025/01/WSU-students-health-manikin-feature-2016-11-17.jpg
ORGANIZER;CN="Jami Rosenbush":MAILTO:jrosenbush@winona.edu
END:VEVENT
BEGIN:VEVENT
DTSTART;TZID=America/Chicago:20250303T080000
DTEND;TZID=America/Chicago:20250303T110000
DTSTAMP:20260424T115927
CREATED:20250224T224926Z
LAST-MODIFIED:20250224T225043Z
UID:10000604-1740988800-1740999600@www.winona.edu
SUMMARY:Basic Life Support Training for Aspiring Healthcare Professionals
DESCRIPTION:On March 3\, attend this class if you’re an aspiring healthcare professional and want to get trained in basic life support (BLS). \n\n\n\nThis class is open to WSU students. Limited spots are available. \n\n\n\nQuestions? Contact healthservicescpr@winona.edu for more info.  \n\n\n\n    Sign Up for This Event\n\n\n\n\n\nVenue\n\n\n\n\n\nContact
URL:https://www.winona.edu/about/event/basic-life-support-training-for-aspiring-healthcare-professionals-march-03-morning/
LOCATION:Health & Wellness Services (IWC 222)\, 175 W Mark St\, Winona\, MN\, 55987\, United States
CATEGORIES:Academics,College of Nursing & Health Sciences,College of Science & Engineering,Colleges,Health & Wellness,Student Life
ATTACH;FMTTYPE=image/jpeg:https://www.winona.edu/about/wp-content/uploads/sites/3/2025/01/WSU-students-health-manikin-feature-2016-11-17.jpg
ORGANIZER;CN="Jami Rosenbush":MAILTO:jrosenbush@winona.edu
END:VEVENT
BEGIN:VEVENT
DTSTART;TZID=America/Chicago:20250228T130000
DTEND;TZID=America/Chicago:20250228T163000
DTSTAMP:20260424T115927
CREATED:20250131T195840Z
LAST-MODIFIED:20250224T225056Z
UID:10000544-1740747600-1740760200@www.winona.edu
SUMMARY:Basic Life Support Training for Aspiring Healthcare Professionals
DESCRIPTION:On Feb. 28\, attend this class if you’re an aspiring healthcare professional and want to get trained in basic life support (BLS). \n\n\n\nThis class is open to WSU students. It’s also free thanks to a generous grant from the WSU Foundation. \n\n\n\nThis event is full and has no more available spots. \n\n\n\nQuestions? Contact healthservicescpr@winona.edu for more info.  \n\n\n\n    Sign Up for This Event\n\n\n\n\n\nVenue\n\n\n\n\n\nContact
URL:https://www.winona.edu/about/event/basic-life-support-training-for-aspiring-healthcare-professionals/
LOCATION:Health & Wellness Services (IWC 222)\, 175 W Mark St\, Winona\, MN\, 55987\, United States
CATEGORIES:Academics,College of Nursing & Health Sciences,College of Science & Engineering,Colleges,Health & Wellness,Student Life
ATTACH;FMTTYPE=image/jpeg:https://www.winona.edu/about/wp-content/uploads/sites/3/2025/01/WSU-students-health-manikin-feature-2016-11-17.jpg
ORGANIZER;CN="Jami Rosenbush":MAILTO:jrosenbush@winona.edu
END:VEVENT
BEGIN:VEVENT
DTSTART;TZID=America/Chicago:20250211T090000
DTEND;TZID=America/Chicago:20250211T140000
DTSTAMP:20260424T115927
CREATED:20250131T195416Z
LAST-MODIFIED:20250131T195417Z
UID:10000543-1739264400-1739282400@www.winona.edu
SUMMARY:CPR\, Heartsaver\, First Aid & AED Training
DESCRIPTION:On Feb. 11\, attend this class to get trained in CPR\, Heartsaver\, first aid\, and Automated External Defibrillators (AED) for adults\, children\, and infants. \n\n\n\nThis class is open to WSU students and employees. It’s also free thanks to a generous grant from the WSU Foundation.  \n\n\n\nLimited spots are available. \n\n\n\nQuestions? Contact healthservicescpr@winona.edu for more info.  \n\n\n\n    Sign Up for This Event\n\n\n\n\n\nVenue\n\n\n\n\n\nContact
URL:https://www.winona.edu/about/event/cpr-heartsaver-first-aid-aed-training-feb-11/
LOCATION:Health & Wellness Services (IWC 222)\, 175 W Mark St\, Winona\, MN\, 55987\, United States
CATEGORIES:Health & Wellness,Student Life
ATTACH;FMTTYPE=image/jpeg:https://www.winona.edu/about/wp-content/uploads/sites/3/2025/01/WSU-students-health-manikin-feature-2016-11-17.jpg
ORGANIZER;CN="Jami Rosenbush":MAILTO:jrosenbush@winona.edu
END:VEVENT
END:VCALENDAR