BEGIN:VCALENDAR
VERSION:2.0
PRODID:-//About - ECPv6.15.16//NONSGML v1.0//EN
CALSCALE:GREGORIAN
METHOD:PUBLISH
X-ORIGINAL-URL:https://www.winona.edu/about
X-WR-CALDESC:Events for About
REFRESH-INTERVAL;VALUE=DURATION:PT1H
X-Robots-Tag:noindex
X-PUBLISHED-TTL:PT1H
BEGIN:VTIMEZONE
TZID:America/Chicago
BEGIN:DAYLIGHT
TZOFFSETFROM:-0600
TZOFFSETTO:-0500
TZNAME:CDT
DTSTART:20230312T080000
END:DAYLIGHT
BEGIN:STANDARD
TZOFFSETFROM:-0500
TZOFFSETTO:-0600
TZNAME:CST
DTSTART:20231105T070000
END:STANDARD
BEGIN:DAYLIGHT
TZOFFSETFROM:-0600
TZOFFSETTO:-0500
TZNAME:CDT
DTSTART:20240310T080000
END:DAYLIGHT
BEGIN:STANDARD
TZOFFSETFROM:-0500
TZOFFSETTO:-0600
TZNAME:CST
DTSTART:20241103T070000
END:STANDARD
BEGIN:DAYLIGHT
TZOFFSETFROM:-0600
TZOFFSETTO:-0500
TZNAME:CDT
DTSTART:20250309T080000
END:DAYLIGHT
BEGIN:STANDARD
TZOFFSETFROM:-0500
TZOFFSETTO:-0600
TZNAME:CST
DTSTART:20251102T070000
END:STANDARD
END:VTIMEZONE
BEGIN:VEVENT
DTSTART;TZID=America/Chicago:20241118T190000
DTEND;TZID=America/Chicago:20241118T200000
DTSTAMP:20260424T175642
CREATED:20250103T214934Z
LAST-MODIFIED:20250103T214935Z
UID:10000316-1731956400-1731960000@www.winona.edu
SUMMARY:Grocery Bingo
DESCRIPTION:Stop by the Kryzsko Ballroom on Nov. 18 at 7pm for a holiday themed bingo where you can win your favorite snacks and drinks.  \n\n\n\nWear your festive sweater for a chance to win a prize! \n\n\n\n\n\nVenue\n\n\n\n\n\nContact
URL:https://www.winona.edu/about/event/grocery-bingo-nov-18/
LOCATION:Great River Ballroom\, 250 W 10th St\, Winona\, MN\, 55987\, United States
CATEGORIES:Clubs & Activities,Clubs & Organizations,Student Life,Warrior Entertainment Network
ATTACH;FMTTYPE=image/jpeg:https://www.winona.edu/about/wp-content/uploads/sites/3/2024/11/WSU-male-students-bingo-feature-2023-08-17.jpg
ORGANIZER;CN="Jamie Cable":MAILTO:thenetwork@winona.edu
END:VEVENT
BEGIN:VEVENT
DTSTART;TZID=America/Chicago:20241112T190000
DTEND;TZID=America/Chicago:20241112T200000
DTSTAMP:20260424T175642
CREATED:20250103T174947Z
LAST-MODIFIED:20250103T174948Z
UID:10000161-1731438000-1731441600@www.winona.edu
SUMMARY:Open Mic Night
DESCRIPTION:Do you have a hidden talent such as singing\, dancing\, or spoken poetry? \n\n\n\nOn Nov. 12\, join us for Open Mic Night at the Zane’s Stage for an opportunity to get on stage! \n\n\n\n\n\nVenue\n\n\n\n\n\nContact
URL:https://www.winona.edu/about/event/open-mic-night-nov-12/
LOCATION:Zane’s Stage\, 250 W 10th St\, Winona\, MN\, 55987\, United States
CATEGORIES:Clubs & Activities,Clubs & Organizations,Student Life,Warrior Entertainment Network
ATTACH;FMTTYPE=image/jpeg:https://www.winona.edu/about/wp-content/uploads/sites/3/2023/09/WSU_Student-Stage-2018-06-29_132642.jpg
ORGANIZER;CN="Jamie Cable":MAILTO:thenetwork@winona.edu
END:VEVENT
BEGIN:VEVENT
DTSTART;TZID=America/Chicago:20241106T190000
DTEND;TZID=America/Chicago:20241106T210000
DTSTAMP:20260424T175642
CREATED:20250103T170402Z
LAST-MODIFIED:20250103T170403Z
UID:10000311-1730919600-1730926800@www.winona.edu
SUMMARY:"Twisters" Movie Night
DESCRIPTION:On Nov. 6\, join us at 7pm in the Kryzsko Ballroom for a movie night to watch “Twisters.” There will also be free popcorn and drinks. \n\n\n\n\n\nVenue\n\n\n\n\n\nContact
URL:https://www.winona.edu/about/event/twisters-movie-night/
LOCATION:Great River Ballroom\, 250 W 10th St\, Winona\, MN\, 55987\, United States
CATEGORIES:Arts & Entertainment,Clubs & Activities,Clubs & Organizations,Student Life,Warrior Entertainment Network
ATTACH;FMTTYPE=image/jpeg:https://www.winona.edu/about/wp-content/uploads/sites/3/2024/12/WSU-empty-auditorium-chairs-feature-2016-03-30.jpg
ORGANIZER;CN="Jamie Cable":MAILTO:thenetwork@winona.edu
END:VEVENT
BEGIN:VEVENT
DTSTART;TZID=America/Chicago:20241101T210000
DTEND;TZID=America/Chicago:20241101T235900
DTSTAMP:20260424T175642
CREATED:20241231T204842Z
LAST-MODIFIED:20241231T204843Z
UID:10000310-1730494800-1730505540@www.winona.edu
SUMMARY:Late Night at Pizza Ranch
DESCRIPTION:Bring your appetite and join us for Late Night Pizza Ranch on Nov. 1 from 9pm to midnight. \n\n\n\nWe’re selling discounted tickets where you can get unlimited pizza\, soda\, and an arcade wristband for only $25! Transportation from Kryzsko is provided. \n\n\n\n\n\nVenue\n\n\n\n\n\nContact
URL:https://www.winona.edu/about/event/late-night-at-pizza-ranch-2/
LOCATION:Pizza Ranch\, 405 US-14\, Winona\, MN\, 55987\, United States
CATEGORIES:Clubs & Activities,Clubs & Organizations,Student Life,Warrior Entertainment Network
ATTACH;FMTTYPE=image/jpeg:https://www.winona.edu/about/wp-content/uploads/sites/3/2024/12/WSU-student-pizza-feature-2018-12-01.jpg
ORGANIZER;CN="Jamie Cable":MAILTO:thenetwork@winona.edu
END:VEVENT
BEGIN:VEVENT
DTSTART;TZID=America/Chicago:20241031T130000
DTEND;TZID=America/Chicago:20241031T160000
DTSTAMP:20260424T175642
CREATED:20241231T165443Z
LAST-MODIFIED:20241231T165444Z
UID:10000144-1730379600-1730390400@www.winona.edu
SUMMARY:Boo Jars & Pumpkin Decorating DIY
DESCRIPTION:Get into the spooky spirit by joining us on Oct. 31 for a Halloween-themed DIY where you can decorate a pumpkin or spooky jar!  \n\n\n\nWe’ll be hosting this DIY event from 1-4pm at the Gazebo. \n\n\n\n\n\nVenue\n\n\n\n\n\nContact
URL:https://www.winona.edu/about/event/boo-jars-pumpkin-decorating-diy/
LOCATION:Gazebo\, 175 W Mark St\, Winona\, MN\, 55987\, United States
CATEGORIES:Clubs & Activities,Clubs & Organizations,Student Life,Warrior Entertainment Network
ATTACH;FMTTYPE=image/jpeg:https://www.winona.edu/about/wp-content/uploads/sites/3/2024/12/WSU-decorated-pumpkins-outside-feature-2017-10-17.jpg
ORGANIZER;CN="Jamie Cable":MAILTO:thenetwork@winona.edu
END:VEVENT
BEGIN:VEVENT
DTSTART;TZID=America/Chicago:20241023T190000
DTEND;TZID=America/Chicago:20241023T200000
DTSTAMP:20260424T175642
CREATED:20241231T171047Z
LAST-MODIFIED:20241231T171048Z
UID:10000131-1729710000-1729713600@www.winona.edu
SUMMARY:Grocery Bingo
DESCRIPTION:Stop by the Kryzsko Ballroom on Oct. 23 at 7pm for a Halloween themed bingo where you can win your favorite snacks and drinks. \n\n\n\nWe’re also adding a twist this time: we’re giving away a grand prize to one lucky student. How to win? Show up in your Halloween costume! \n\n\n\n\n\nVenue\n\n\n\n\n\nContact
URL:https://www.winona.edu/about/event/grocery-bingo-october-2024/
LOCATION:Great River Ballroom\, 250 W 10th St\, Winona\, MN\, 55987\, United States
CATEGORIES:Clubs & Activities,Clubs & Organizations,Student Life,Warrior Entertainment Network
ATTACH;FMTTYPE=image/jpeg:https://www.winona.edu/about/wp-content/uploads/sites/3/2024/11/WSU-male-students-bingo-feature-2023-08-17.jpg
ORGANIZER;CN="Jamie Cable":MAILTO:thenetwork@winona.edu
END:VEVENT
BEGIN:VEVENT
DTSTART;TZID=America/Chicago:20241015T190000
DTEND;TZID=America/Chicago:20241015T200000
DTSTAMP:20260424T175642
CREATED:20241231T153717Z
LAST-MODIFIED:20241231T153719Z
UID:10000110-1729018800-1729022400@www.winona.edu
SUMMARY:Open Mic Night
DESCRIPTION:Do you have a hidden talent such as singing\, dancing\, or spoken poetry?  \n\n\n\nOn Oct. 15\, join us for Open Mic Night at the Zane’s Stage for an opportunity to get on stage! \n\n\n\n\n\nVenue\n\n\n\n\n\nContact
URL:https://www.winona.edu/about/event/open-mic-night-oct-15/
LOCATION:Zane’s Stage\, 250 W 10th St\, Winona\, MN\, 55987\, United States
CATEGORIES:Clubs & Activities,Clubs & Organizations,Student Life,Warrior Entertainment Network
ATTACH;FMTTYPE=image/jpeg:https://www.winona.edu/about/wp-content/uploads/sites/3/2023/09/WSU_Student-Stage-2018-06-29_132642.jpg
ORGANIZER;CN="Jamie Cable":MAILTO:thenetwork@winona.edu
END:VEVENT
BEGIN:VEVENT
DTSTART;TZID=America/Chicago:20241009T190000
DTEND;TZID=America/Chicago:20241009T190000
DTSTAMP:20260424T175642
CREATED:20241231T145338Z
LAST-MODIFIED:20241231T145339Z
UID:10000096-1728500400-1728500400@www.winona.edu
SUMMARY:Lip Sync Competition
DESCRIPTION:Join us Oct. 9 at 7pm in the Kryzsko Ballroom as Homecoming competition teams lip sync and battle it out for the top spot! \n\n\n\n    Learn More about Homecoming\n\n\n\n\n\nVenue\n\n\n\n\n\nContact
URL:https://www.winona.edu/about/event/lip-sync-competition/
LOCATION:Great River Ballroom\, 250 W 10th St\, Winona\, MN\, 55987\, United States
CATEGORIES:Clubs & Activities,Clubs & Organizations,Student Life,Warrior Entertainment Network
ATTACH;FMTTYPE=image/jpeg:https://www.winona.edu/about/wp-content/uploads/sites/3/2023/09/WSU_Student-Stage-2018-06-29_132642.jpg
ORGANIZER;CN="Jamie Cable":MAILTO:thenetwork@winona.edu
END:VEVENT
BEGIN:VEVENT
DTSTART;TZID=America/Chicago:20240930T190000
DTEND;TZID=America/Chicago:20240930T190000
DTSTAMP:20260424T175642
CREATED:20241230T223815Z
LAST-MODIFIED:20241230T223817Z
UID:10000085-1727722800-1727722800@www.winona.edu
SUMMARY:"Shang-Chi and the Legend of the Ten Rings" Movie Night
DESCRIPTION:Join us for an outdoor movie night experience as we watch “Shang-Chi and the Legend of the Ten Rings” on Sept. 30 at 7pm at Kryzsko Fire Feature.  \n\n\n\nThere will be free popcorn. We hope to see you there! \n\n\n\n\n\nVenue\n\n\n\n\n\nContact
URL:https://www.winona.edu/about/event/shang-chi-and-the-legend-of-the-ten-rings-movie-night/
LOCATION:Fire Feature Patio\, 250 W 10th St\, Winona\, MN\, 55987\, United States
CATEGORIES:Arts & Entertainment,Clubs & Activities,Clubs & Organizations,Student Life,Warrior Entertainment Network
ATTACH;FMTTYPE=image/jpeg:https://www.winona.edu/about/wp-content/uploads/sites/3/2024/12/WSU-empty-auditorium-chairs-feature-2016-03-30.jpg
ORGANIZER;CN="Jamie Cable":MAILTO:thenetwork@winona.edu
END:VEVENT
BEGIN:VEVENT
DTSTART;TZID=America/Chicago:20240923T190000
DTEND;TZID=America/Chicago:20240923T200000
DTSTAMP:20260424T175642
CREATED:20241230T220445Z
LAST-MODIFIED:20250103T215007Z
UID:10000080-1727118000-1727121600@www.winona.edu
SUMMARY:Grocery Bingo
DESCRIPTION:It’s time for Grocery Bingo!  \n\n\n\nStop by the Kryzsko Ballroom on Sept. 23 at 7pm for a Back-to-School themed bingo where you can win your favorite snacks and drinks. \n\n\n\n\n\nVenue\n\n\n\n\n\nContact
URL:https://www.winona.edu/about/event/grocery-bingo-sept-23/
LOCATION:Great River Ballroom\, 250 W 10th St\, Winona\, MN\, 55987\, United States
CATEGORIES:Clubs & Activities,Clubs & Organizations,Student Life,Warrior Entertainment Network
ATTACH;FMTTYPE=image/jpeg:https://www.winona.edu/about/wp-content/uploads/sites/3/2024/11/WSU-male-students-bingo-feature-2023-08-17.jpg
ORGANIZER;CN="Jamie Cable":MAILTO:thenetwork@winona.edu
END:VEVENT
BEGIN:VEVENT
DTSTART;TZID=America/Chicago:20240917T190000
DTEND;TZID=America/Chicago:20240917T200000
DTSTAMP:20260424T175642
CREATED:20241230T210836Z
LAST-MODIFIED:20241230T210838Z
UID:10000267-1726599600-1726603200@www.winona.edu
SUMMARY:Open Mic Night
DESCRIPTION:Do you have a hidden talent such as singing\, dancing\, or spoken poetry?  \n\n\n\nWe’re launching Open Mic Night where you have the opportunity to get on stage! Stop by the Zane’s Stage on Sept. 17 at 7pm.  \n\n\n\n\n\nVenue\n\n\n\n\n\nContact
URL:https://www.winona.edu/about/event/open-mic-night/
LOCATION:Zane’s Stage\, 250 W 10th St\, Winona\, MN\, 55987\, United States
CATEGORIES:Clubs & Activities,Clubs & Organizations,Student Life,Warrior Entertainment Network
ATTACH;FMTTYPE=image/jpeg:https://www.winona.edu/about/wp-content/uploads/sites/3/2023/09/WSU_Student-Stage-2018-06-29_132642.jpg
ORGANIZER;CN="Jamie Cable":MAILTO:thenetwork@winona.edu
END:VEVENT
BEGIN:VEVENT
DTSTART;TZID=America/Chicago:20240914T170000
DTEND;TZID=America/Chicago:20240914T190000
DTSTAMP:20260424T175642
CREATED:20241230T195013Z
LAST-MODIFIED:20241230T195014Z
UID:10000260-1726333200-1726340400@www.winona.edu
SUMMARY:Sunset Cruise & Trivia
DESCRIPTION:We’re hosting sunset trivia on our beloved Cal Fremling boat on Sept. 14 from 5-7pm.  \n\n\n\nMeet us at Kryzsko Commons at 4:30pm\, so we can all walk to the boat. We hope to see you there! \n\n\n\n\n\nVenue\n\n\n\n\n\nContact
URL:https://www.winona.edu/about/event/sunset-cruise-and-trivia/
LOCATION:Cal Fremling Boat\, 2 Johnson St\, Winona\, MN\, 55987\, United States
CATEGORIES:Clubs & Activities,Clubs & Organizations,Student Life,Warrior Entertainment Network
ATTACH;FMTTYPE=image/jpeg:https://www.winona.edu/about/wp-content/uploads/sites/3/2023/08/WSU_Students-Cal-Fremling-2021-09-15_140347.jpg
ORGANIZER;CN="Jamie Cable":MAILTO:thenetwork@winona.edu
END:VEVENT
BEGIN:VEVENT
DTSTART;TZID=America/Chicago:20240906T210000
DTEND;TZID=America/Chicago:20240906T235900
DTSTAMP:20260424T175642
CREATED:20241230T174615Z
LAST-MODIFIED:20241230T174712Z
UID:10000241-1725656400-1725667140@www.winona.edu
SUMMARY:Kryzsko After Dark
DESCRIPTION:On Sept. 6\, join us for the first Kryzsko After Dark of the semester for a night full of laughter as we host comedian Peter Kim.  \n\n\n\nThere will also be bingo\, trivia\, free Panda Express\, and many prizes! \n\n\n\n    Learn More about Kryzsko After Dark\n\n\n\n\n\nVenue\n\n\n\n\n\nContact
URL:https://www.winona.edu/about/event/kryzsko-after-dark-september-2024/
LOCATION:Kryzsko Commons\, 250 W 10th St\, Winona\, MN\, 55987\, United States
CATEGORIES:Clubs & Activities,Clubs & Organizations,Student Life,Warrior Entertainment Network
ATTACH;FMTTYPE=image/jpeg:https://www.winona.edu/about/wp-content/uploads/sites/3/2024/11/WSU-students-Kryzsko-after-dark-Panda-food-feature-2023-08-23.jpg
ORGANIZER;CN="Jamie Cable":MAILTO:thenetwork@winona.edu
END:VEVENT
BEGIN:VEVENT
DTSTART;TZID=America/Chicago:20240828T140000
DTEND;TZID=America/Chicago:20240828T170000
DTSTAMP:20260424T175642
CREATED:20241230T170809Z
LAST-MODIFIED:20241230T170810Z
UID:10000232-1724853600-1724864400@www.winona.edu
SUMMARY:Spotify Song Plaque DIY
DESCRIPTION:On Aug. 28 from 2-5pm\, join us for the first DIY event of the semester!  \n\n\n\nCreate a Spotify song plaque and roast some s’mores by the Kryzsko Fire Feature. \n\n\n\n\n\nVenue\n\n\n\n\n\nContact
URL:https://www.winona.edu/about/event/spotify-song-plaque-diy/
LOCATION:Fire Feature Patio\, 250 W 10th St\, Winona\, MN\, 55987\, United States
CATEGORIES:Clubs & Activities,Clubs & Organizations,Student Life,Warrior Entertainment Network
ATTACH;FMTTYPE=image/jpeg:https://www.winona.edu/about/wp-content/uploads/sites/3/2024/12/WSU-students-arts-crafts-feature-2024-04-18.jpg
ORGANIZER;CN="Jamie Cable":MAILTO:thenetwork@winona.edu
END:VEVENT
END:VCALENDAR