BEGIN:VCALENDAR
VERSION:2.0
PRODID:-//About - ECPv6.15.16//NONSGML v1.0//EN
CALSCALE:GREGORIAN
METHOD:PUBLISH
X-ORIGINAL-URL:https://www.winona.edu/about
X-WR-CALDESC:Events for About
REFRESH-INTERVAL;VALUE=DURATION:PT1H
X-Robots-Tag:noindex
X-PUBLISHED-TTL:PT1H
BEGIN:VTIMEZONE
TZID:America/Chicago
BEGIN:DAYLIGHT
TZOFFSETFROM:-0600
TZOFFSETTO:-0500
TZNAME:CDT
DTSTART:20240310T080000
END:DAYLIGHT
BEGIN:STANDARD
TZOFFSETFROM:-0500
TZOFFSETTO:-0600
TZNAME:CST
DTSTART:20241103T070000
END:STANDARD
BEGIN:DAYLIGHT
TZOFFSETFROM:-0600
TZOFFSETTO:-0500
TZNAME:CDT
DTSTART:20250309T080000
END:DAYLIGHT
BEGIN:STANDARD
TZOFFSETFROM:-0500
TZOFFSETTO:-0600
TZNAME:CST
DTSTART:20251102T070000
END:STANDARD
BEGIN:DAYLIGHT
TZOFFSETFROM:-0600
TZOFFSETTO:-0500
TZNAME:CDT
DTSTART:20260308T080000
END:DAYLIGHT
BEGIN:STANDARD
TZOFFSETFROM:-0500
TZOFFSETTO:-0600
TZNAME:CST
DTSTART:20261101T070000
END:STANDARD
END:VTIMEZONE
BEGIN:VEVENT
DTSTART;TZID=America/Chicago:20250117T180000
DTEND;TZID=America/Chicago:20250117T200000
DTSTAMP:20260424T094504
CREATED:20250114T173731Z
LAST-MODIFIED:20250114T173732Z
UID:10000481-1737136800-1737144000@www.winona.edu
SUMMARY:"Fun Home" Callback Auditions
DESCRIPTION:Callback auditions for “Fun Home\,” the Spring semester musical\, will be held Jan. 17 from 6-8pm. Please prepare 16-32 bars of music. \n\n\n\nAuditions are open to the campus and local community. \n\n\n\n“Fun Home” will be directed by WSU’s Jim Williams. Books and lyrics are by Lisa Kron and music is by Jeanine Tesori. \n\n\n\n\n\nVenue\n\n\n\n\n\nContact
URL:https://www.winona.edu/about/event/fun-home-callback-auditions/
LOCATION:Vivian Fusillo Main Stage Theatre\, 450 Johnson St\, Winona\, MN\, 55987\, United States
CATEGORIES:Academics,College of Liberal Arts,Colleges,Theatre & Dance Department
ATTACH;FMTTYPE=image/jpeg:https://www.winona.edu/about/wp-content/uploads/sites/3/2023/09/WSU_Student-Stage-2018-06-29_132642.jpg
ORGANIZER;CN="Jensen Drake":MAILTO:jensen.drake@go.winona.edu
END:VEVENT
BEGIN:VEVENT
DTSTART;TZID=America/Chicago:20250116T180000
DTEND;TZID=America/Chicago:20250116T200000
DTSTAMP:20260424T094504
CREATED:20250114T173604Z
LAST-MODIFIED:20250114T173605Z
UID:10000480-1737050400-1737057600@www.winona.edu
SUMMARY:"Fun Home" Auditions
DESCRIPTION:Auditions for “Fun Home\,” the Spring semester musical\, will be held Jan. 16 from 6-8pm. Please prepare 16-32 bars of music. \n\n\n\nAuditions are open to the campus and local community. \n\n\n\n“Fun Home” will be directed by WSU’s Jim Williams. Books and lyrics are by Lisa Kron and music is by Jeanine Tesori. \n\n\n\n\n\nVenue\n\n\n\n\n\nContact
URL:https://www.winona.edu/about/event/fun-home-auditions-jan-16/
LOCATION:Vivian Fusillo Main Stage Theatre\, 450 Johnson St\, Winona\, MN\, 55987\, United States
CATEGORIES:Academics,College of Liberal Arts,Colleges,Theatre & Dance Department
ATTACH;FMTTYPE=image/jpeg:https://www.winona.edu/about/wp-content/uploads/sites/3/2023/09/WSU_Student-Stage-2018-06-29_132642.jpg
ORGANIZER;CN="Jensen Drake":MAILTO:jensen.drake@go.winona.edu
END:VEVENT
BEGIN:VEVENT
DTSTART;TZID=America/Chicago:20250115T180000
DTEND;TZID=America/Chicago:20250115T200000
DTSTAMP:20260424T094504
CREATED:20250114T173124Z
LAST-MODIFIED:20250114T173439Z
UID:10000479-1736964000-1736971200@www.winona.edu
SUMMARY:"Fun Home" Auditions
DESCRIPTION:Auditions for “Fun Home\,” the Spring semester musical\, will be held Jan. 15 from 6-8pm. Please prepare 16-32 bars of music. \n\n\n\nAuditions are open to the campus and local community. \n\n\n\n“Fun Home” will be directed by WSU’s Jim Williams. Books and lyrics are by Lisa Kron and music is by Jeanine Tesori. \n\n\n\n\n\nVenue\n\n\n\n\n\nContact
URL:https://www.winona.edu/about/event/fun-home-auditions-jan-15/
LOCATION:Vivian Fusillo Main Stage Theatre\, 450 Johnson St\, Winona\, MN\, 55987\, United States
CATEGORIES:Academics,College of Liberal Arts,Colleges,Theatre & Dance Department
ATTACH;FMTTYPE=image/jpeg:https://www.winona.edu/about/wp-content/uploads/sites/3/2023/09/WSU_Student-Stage-2018-06-29_132642.jpg
ORGANIZER;CN="Jensen Drake":MAILTO:jensen.drake@go.winona.edu
END:VEVENT
END:VCALENDAR