BEGIN:VCALENDAR
VERSION:2.0
PRODID:-//About - ECPv6.15.16//NONSGML v1.0//EN
CALSCALE:GREGORIAN
METHOD:PUBLISH
X-WR-CALNAME:About
X-ORIGINAL-URL:https://www.winona.edu/about
X-WR-CALDESC:Events for About
REFRESH-INTERVAL;VALUE=DURATION:PT1H
X-Robots-Tag:noindex
X-PUBLISHED-TTL:PT1H
BEGIN:VTIMEZONE
TZID:America/Chicago
BEGIN:DAYLIGHT
TZOFFSETFROM:-0600
TZOFFSETTO:-0500
TZNAME:CDT
DTSTART:20240310T080000
END:DAYLIGHT
BEGIN:STANDARD
TZOFFSETFROM:-0500
TZOFFSETTO:-0600
TZNAME:CST
DTSTART:20241103T070000
END:STANDARD
BEGIN:DAYLIGHT
TZOFFSETFROM:-0600
TZOFFSETTO:-0500
TZNAME:CDT
DTSTART:20250309T080000
END:DAYLIGHT
BEGIN:STANDARD
TZOFFSETFROM:-0500
TZOFFSETTO:-0600
TZNAME:CST
DTSTART:20251102T070000
END:STANDARD
BEGIN:DAYLIGHT
TZOFFSETFROM:-0600
TZOFFSETTO:-0500
TZNAME:CDT
DTSTART:20260308T080000
END:DAYLIGHT
BEGIN:STANDARD
TZOFFSETFROM:-0500
TZOFFSETTO:-0600
TZNAME:CST
DTSTART:20261101T070000
END:STANDARD
END:VTIMEZONE
BEGIN:VEVENT
DTSTART;TZID=America/Chicago:20250408T163000
DTEND;TZID=America/Chicago:20250408T180000
DTSTAMP:20260424T154840
CREATED:20250404T150313Z
LAST-MODIFIED:20250404T150313Z
UID:10000817-1744129800-1744135200@www.winona.edu
SUMMARY:Together We Act\, United We Change: Sexual Assault Awareness Month Presentation
DESCRIPTION:In honor of Sexual Assault Awareness Month\, WSU’s Department of Undergraduate Nursing will be hosting the presentation “Together We Act\, United We Change” on April 8. \n\n\n\nThis presentation will help enhance public understanding of sexual violence\, amplify the voices of survivors\, and empower us to work together to promote the safety and well-being of others. \n\n\n\nThe event is possible thanks to our partners: Winona County Primary Prevention Project\, Advocacy Center of Winona\, and Dodge & Olmsted Victim Services. \n\n\n\n\n\nVenue\n\n\n\n\n\nContact
URL:https://www.winona.edu/about/event/together-we-act-united-we-change-sexual-assault-awareness-month-presentation-april-08/
LOCATION:SLC 120\, 400 Winona St\, Winona\, MN\, 55987\, United States
CATEGORIES:About,Health & Wellness,Leadership & Administration,Student Life,Support & Services
ATTACH;FMTTYPE=image/jpeg:https://www.winona.edu/about/wp-content/uploads/sites/3/2025/01/Pro-students-walking-neighborhood-houses-feature-2022-09-26.jpg
ORGANIZER;CN="Maryann Abendroth":MAILTO:maryann.abendroth@winona.edu
END:VEVENT
END:VCALENDAR