BEGIN:VCALENDAR
VERSION:2.0
PRODID:-//About - ECPv6.15.16//NONSGML v1.0//EN
CALSCALE:GREGORIAN
METHOD:PUBLISH
X-WR-CALNAME:About
X-ORIGINAL-URL:https://www.winona.edu/about
X-WR-CALDESC:Events for About
REFRESH-INTERVAL;VALUE=DURATION:PT1H
X-Robots-Tag:noindex
X-PUBLISHED-TTL:PT1H
BEGIN:VTIMEZONE
TZID:America/Chicago
BEGIN:DAYLIGHT
TZOFFSETFROM:-0600
TZOFFSETTO:-0500
TZNAME:CDT
DTSTART:20240310T080000
END:DAYLIGHT
BEGIN:STANDARD
TZOFFSETFROM:-0500
TZOFFSETTO:-0600
TZNAME:CST
DTSTART:20241103T070000
END:STANDARD
BEGIN:DAYLIGHT
TZOFFSETFROM:-0600
TZOFFSETTO:-0500
TZNAME:CDT
DTSTART:20250309T080000
END:DAYLIGHT
BEGIN:STANDARD
TZOFFSETFROM:-0500
TZOFFSETTO:-0600
TZNAME:CST
DTSTART:20251102T070000
END:STANDARD
BEGIN:DAYLIGHT
TZOFFSETFROM:-0600
TZOFFSETTO:-0500
TZNAME:CDT
DTSTART:20260308T080000
END:DAYLIGHT
BEGIN:STANDARD
TZOFFSETFROM:-0500
TZOFFSETTO:-0600
TZNAME:CST
DTSTART:20261101T070000
END:STANDARD
END:VTIMEZONE
BEGIN:VTIMEZONE
TZID:US/Central
BEGIN:DAYLIGHT
TZOFFSETFROM:-0600
TZOFFSETTO:-0500
TZNAME:CDT
DTSTART:20240310T080000
END:DAYLIGHT
BEGIN:STANDARD
TZOFFSETFROM:-0500
TZOFFSETTO:-0600
TZNAME:CST
DTSTART:20241103T070000
END:STANDARD
BEGIN:DAYLIGHT
TZOFFSETFROM:-0600
TZOFFSETTO:-0500
TZNAME:CDT
DTSTART:20250309T080000
END:DAYLIGHT
BEGIN:STANDARD
TZOFFSETFROM:-0500
TZOFFSETTO:-0600
TZNAME:CST
DTSTART:20251102T070000
END:STANDARD
BEGIN:DAYLIGHT
TZOFFSETFROM:-0600
TZOFFSETTO:-0500
TZNAME:CDT
DTSTART:20260308T080000
END:DAYLIGHT
BEGIN:STANDARD
TZOFFSETFROM:-0500
TZOFFSETTO:-0600
TZNAME:CST
DTSTART:20261101T070000
END:STANDARD
END:VTIMEZONE
BEGIN:VEVENT
DTSTART;TZID=America/Chicago:20250418T150000
DTEND;TZID=America/Chicago:20250418T170000
DTSTAMP:20260424T044202
CREATED:20250328T125933Z
LAST-MODIFIED:20250328T125934Z
UID:10000694-1744988400-1744995600@www.winona.edu
SUMMARY:WSU Softball vs. Southwest Minnesota State University
DESCRIPTION:On April 18\, come cheer on the women’s Softball team as they play against Southwest Minnesota State University. \n\n\n\n\n\nVenue\n\n\n\n\n\nContact
URL:https://www.winona.edu/about/event/wsu-softball-vs-southwest-minnesota-state-university-april-18-evening/
LOCATION:Mustang Field\, 1501 State St.\, Marshall\, MN\, 56258\, United States
CATEGORIES:Student Life,Warrior Athletics
ATTACH;FMTTYPE=image/jpeg:https://www.winona.edu/about/wp-content/uploads/sites/3/2025/02/Pro-womens-softball-athlete-bat-feature-2022-05-07.jpg
ORGANIZER;CN="Melanie Brunsdon":MAILTO:melanie.brunsdon@winona.edu
END:VEVENT
BEGIN:VEVENT
DTSTART;TZID=America/Chicago:20250418T133000
DTEND;TZID=America/Chicago:20250418T153000
DTSTAMP:20260424T044202
CREATED:20250328T125952Z
LAST-MODIFIED:20250328T125953Z
UID:10000780-1744983000-1744990200@www.winona.edu
SUMMARY:WSU Baseball vs. Southwest Minnesota State University
DESCRIPTION:On April 18\, come cheer on the men’s Baseball team as they play against Southwest Minnesota State University. \n\n\n\n\n\nVenue\n\n\n\n\n\nContact
URL:https://www.winona.edu/about/event/wsu-baseball-vs-southwest-minnesota-state-university-april-18-afternoon/
LOCATION:Loughrey Field\, 213 W Sarnia St\, Winona\, MN\, 55987\, United States
CATEGORIES:Student Life,Warrior Athletics
ATTACH;FMTTYPE=image/jpeg:https://www.winona.edu/about/wp-content/uploads/sites/3/2025/03/Pro-mens-baseball-athlete-pitcher-feature-2023-03-26.jpg
ORGANIZER;CN="Melanie Brunsdon":MAILTO:melanie.brunsdon@winona.edu
END:VEVENT
BEGIN:VEVENT
DTSTART;TZID=America/Chicago:20250418T130000
DTEND;TZID=America/Chicago:20250418T150000
DTSTAMP:20260424T044202
CREATED:20250328T130013Z
LAST-MODIFIED:20250328T130014Z
UID:10000693-1744981200-1744988400@www.winona.edu
SUMMARY:WSU Softball vs. Southwest Minnesota State University
DESCRIPTION:On April 18\, come cheer on the women’s Softball team as they play against Southwest Minnesota State University. \n\n\n\n\n\nVenue\n\n\n\n\n\nContact
URL:https://www.winona.edu/about/event/wsu-softball-vs-southwest-minnesota-state-university-april-18-afternoon/
LOCATION:Mustang Field\, 1501 State St.\, Marshall\, MN\, 56258\, United States
CATEGORIES:Student Life,Warrior Athletics
ATTACH;FMTTYPE=image/jpeg:https://www.winona.edu/about/wp-content/uploads/sites/3/2025/02/Pro-womens-softball-athlete-bat-feature-2022-05-07.jpg
ORGANIZER;CN="Melanie Brunsdon":MAILTO:melanie.brunsdon@winona.edu
END:VEVENT
BEGIN:VEVENT
DTSTART;TZID=US/Central:20250417T000000
DTEND;TZID=US/Central:20250418T235959
DTSTAMP:20260424T044202
CREATED:20250328T130053Z
LAST-MODIFIED:20250328T130054Z
UID:10000645-1744848000-1745020799@www.winona.edu
SUMMARY:WSU Men's Golf: NSIC Championships
DESCRIPTION:From April 17-18\, come cheer on the men’s Golf team as they compete at the Northern Sun Intercollegiate Conference (NSIC) championship. \n\n\n\n\n\nVenue\n\n\n\n\n\nContact
URL:https://www.winona.edu/about/event/wsu-mens-golf-meet-nsic-championships-april-17-18/
LOCATION:Adams Pointe Golf Club\, 1601 NE R D Mize Rd\, Blue Springs\, MO\, 64014\, United States
CATEGORIES:Student Life,Warrior Athletics
ATTACH;FMTTYPE=image/jpeg:https://www.winona.edu/about/wp-content/uploads/sites/3/2025/02/Pro-mens-golf-athlete-course-feature-2022-09-07.jpg
ORGANIZER;CN="Melanie Brunsdon":MAILTO:melanie.brunsdon@winona.edu
END:VEVENT
BEGIN:VEVENT
DTSTART;TZID=US/Central:20250417T000000
DTEND;TZID=US/Central:20250418T235959
DTSTAMP:20260424T044202
CREATED:20250328T130033Z
LAST-MODIFIED:20250328T130035Z
UID:10000730-1744848000-1745020799@www.winona.edu
SUMMARY:WSU Women's Track & Field: Phil Esten Challenge
DESCRIPTION:From April 17-18\, come cheer on the women’s Track & Field team as they compete at the Phil Esten Challenge. \n\n\n\n\n\nVenue\n\n\n\n\n\nContact
URL:https://www.winona.edu/about/event/wsu-womens-track-field-phil-esten-challenge-april-17-18/
LOCATION:University of Wisconsin-La Crosse\, 1725 State St\, La Crosse\, WI\, 54601\, United States
CATEGORIES:Student Life,Warrior Athletics
ATTACH;FMTTYPE=image/jpeg:https://www.winona.edu/about/wp-content/uploads/sites/3/2025/02/Pro-womens-track-field-athlete-meet-feature-2023-02-03.jpg
ORGANIZER;CN="Melanie Brunsdon":MAILTO:melanie.brunsdon@winona.edu
END:VEVENT
BEGIN:VEVENT
DTSTART;TZID=America/Chicago:20250415T163000
DTEND;TZID=America/Chicago:20250415T183000
DTSTAMP:20260424T044202
CREATED:20250328T130115Z
LAST-MODIFIED:20250328T130116Z
UID:10000779-1744734600-1744741800@www.winona.edu
SUMMARY:WSU Baseball vs. Concordia University\, St. Paul
DESCRIPTION:On April 15\, come cheer on the men’s Baseball team as they play against Concordia University\, St. Paul. \n\n\n\n\n\nVenue\n\n\n\n\n\nContact
URL:https://www.winona.edu/about/event/wsu-baseball-vs-concordia-university-st-paul-april-15-evening/
LOCATION:Carlander Field\, 235 Hamline Ave. N\, St. Paul\, MN\, 55104\, United States
CATEGORIES:Student Life,Warrior Athletics
ATTACH;FMTTYPE=image/jpeg:https://www.winona.edu/about/wp-content/uploads/sites/3/2025/03/Pro-mens-baseball-athlete-pitcher-feature-2023-03-26.jpg
ORGANIZER;CN="Melanie Brunsdon":MAILTO:melanie.brunsdon@winona.edu
END:VEVENT
BEGIN:VEVENT
DTSTART;TZID=America/Chicago:20250415T133000
DTEND;TZID=America/Chicago:20250415T153000
DTSTAMP:20260424T044202
CREATED:20250328T130135Z
LAST-MODIFIED:20250328T130136Z
UID:10000778-1744723800-1744731000@www.winona.edu
SUMMARY:WSU Baseball vs. Concordia University\, St. Paul
DESCRIPTION:On April 15\, come cheer on the men’s Baseball team as they play against Concordia University\, St. Paul. \n\n\n\n\n\nVenue\n\n\n\n\n\nContact
URL:https://www.winona.edu/about/event/wsu-baseball-vs-concordia-university-st-paul-april-15-afternoon/
LOCATION:Carlander Field\, 235 Hamline Ave. N\, St. Paul\, MN\, 55104\, United States
CATEGORIES:Student Life,Warrior Athletics
ATTACH;FMTTYPE=image/jpeg:https://www.winona.edu/about/wp-content/uploads/sites/3/2025/03/Pro-mens-baseball-athlete-pitcher-feature-2023-03-26.jpg
ORGANIZER;CN="Melanie Brunsdon":MAILTO:melanie.brunsdon@winona.edu
END:VEVENT
BEGIN:VEVENT
DTSTART;TZID=US/Central:20250414T000000
DTEND;TZID=US/Central:20250415T235959
DTSTAMP:20260424T044202
CREATED:20250328T130156Z
LAST-MODIFIED:20250328T130157Z
UID:10000638-1744588800-1744761599@www.winona.edu
SUMMARY:WSU Women's Golf: Wildcat Classic
DESCRIPTION:From April 14-15\, come cheer on the women’s Golf team as they compete at the Wildcat Classic meet. \n\n\n\n\n\nVenue\n\n\n\n\n\nContact
URL:https://www.winona.edu/about/event/wsu-womens-golf-meet-wildcat-classic-april-14-15/
LOCATION:Wayne Country Club\, 302 E 21st St\, Wayne\, NE\, 68787\, United States
CATEGORIES:Student Life,Warrior Athletics
ATTACH;FMTTYPE=image/jpeg:https://www.winona.edu/about/wp-content/uploads/sites/3/2025/02/Pro-womens-golf-athlete-course-feature-2022-09-26.jpg
ORGANIZER;CN="Melanie Brunsdon":MAILTO:melanie.brunsdon@winona.edu
END:VEVENT
BEGIN:VEVENT
DTSTART;TZID=America/Chicago:20250413T140000
DTEND;TZID=America/Chicago:20250413T160000
DTSTAMP:20260424T044202
CREATED:20250328T130217Z
LAST-MODIFIED:20250328T130218Z
UID:10000691-1744552800-1744560000@www.winona.edu
SUMMARY:WSU Softball vs. University of Mary
DESCRIPTION:On April 13\, come cheer on the women’s Softball team as they play against the University of Mary. \n\n\n\n\n\nVenue\n\n\n\n\n\nContact
URL:https://www.winona.edu/about/event/wsu-softball-vs-university-of-mary-april-13-evening/
LOCATION:Maynard R. Johnson Field\, E Sarnia St\, Winona\, MN\, 55987\, United States
CATEGORIES:Student Life,Warrior Athletics
ATTACH;FMTTYPE=image/jpeg:https://www.winona.edu/about/wp-content/uploads/sites/3/2025/02/Pro-womens-softball-athlete-bat-feature-2022-05-07.jpg
ORGANIZER;CN="Melanie Brunsdon":MAILTO:melanie.brunsdon@winona.edu
END:VEVENT
BEGIN:VEVENT
DTSTART;TZID=America/Chicago:20250413T120000
DTEND;TZID=America/Chicago:20250413T140000
DTSTAMP:20260424T044202
CREATED:20250328T130256Z
LAST-MODIFIED:20250328T130257Z
UID:10000690-1744545600-1744552800@www.winona.edu
SUMMARY:WSU Softball vs. University of Mary
DESCRIPTION:On April 13\, come cheer on the women’s Softball team as they play against the University of Mary. \n\n\n\n\n\nVenue\n\n\n\n\n\nContact
URL:https://www.winona.edu/about/event/wsu-softball-vs-university-of-mary-april-13-afternoon/
LOCATION:Maynard R. Johnson Field\, E Sarnia St\, Winona\, MN\, 55987\, United States
CATEGORIES:Student Life,Warrior Athletics
ATTACH;FMTTYPE=image/jpeg:https://www.winona.edu/about/wp-content/uploads/sites/3/2025/02/Pro-womens-softball-athlete-bat-feature-2022-05-07.jpg
ORGANIZER;CN="Melanie Brunsdon":MAILTO:melanie.brunsdon@winona.edu
END:VEVENT
BEGIN:VEVENT
DTSTART;TZID=America/Chicago:20250413T120000
DTEND;TZID=America/Chicago:20250413T140000
DTSTAMP:20260424T044202
CREATED:20250328T130236Z
LAST-MODIFIED:20250328T130237Z
UID:10000777-1744545600-1744552800@www.winona.edu
SUMMARY:WSU Baseball vs. Augustana University
DESCRIPTION:On April 13\, come cheer on the men’s Baseball team as they play against Augustana University. \n\n\n\n\n\nVenue\n\n\n\n\n\nContact
URL:https://www.winona.edu/about/event/wsu-baseball-vs-augustana-university-april-13/
LOCATION:Augustana University\, 2001 S Summit Ave\, Sioux Falls\, SD\, 57197\, United States
CATEGORIES:Student Life,Warrior Athletics
ATTACH;FMTTYPE=image/jpeg:https://www.winona.edu/about/wp-content/uploads/sites/3/2025/03/Pro-mens-baseball-athlete-pitcher-feature-2023-03-26.jpg
ORGANIZER;CN="Melanie Brunsdon":MAILTO:melanie.brunsdon@winona.edu
END:VEVENT
BEGIN:VEVENT
DTSTART;TZID=America/Chicago:20250412T163000
DTEND;TZID=America/Chicago:20250412T183000
DTSTAMP:20260424T044202
CREATED:20250328T130315Z
LAST-MODIFIED:20250328T130317Z
UID:10000776-1744475400-1744482600@www.winona.edu
SUMMARY:WSU Baseball vs. Augustana University
DESCRIPTION:On April 12\, come cheer on the men’s Baseball team as they play against Augustana University. \n\n\n\n\n\nVenue\n\n\n\n\n\nContact
URL:https://www.winona.edu/about/event/wsu-baseball-vs-augustana-university-april-12-evening/
LOCATION:Augustana University\, 2001 S Summit Ave\, Sioux Falls\, SD\, 57197\, United States
CATEGORIES:Student Life,Warrior Athletics
ATTACH;FMTTYPE=image/jpeg:https://www.winona.edu/about/wp-content/uploads/sites/3/2025/03/Pro-mens-baseball-athlete-pitcher-feature-2023-03-26.jpg
ORGANIZER;CN="Melanie Brunsdon":MAILTO:melanie.brunsdon@winona.edu
END:VEVENT
BEGIN:VEVENT
DTSTART;TZID=America/Chicago:20250412T150000
DTEND;TZID=America/Chicago:20250412T170000
DTSTAMP:20260424T044202
CREATED:20250328T130336Z
LAST-MODIFIED:20250328T130337Z
UID:10000689-1744470000-1744477200@www.winona.edu
SUMMARY:WSU Softball vs. Minot State University
DESCRIPTION:On April 12\, come cheer on the women’s Softball team as they play against Minot State University. \n\n\n\n\n\nVenue\n\n\n\n\n\nContact
URL:https://www.winona.edu/about/event/wsu-softball-vs-minot-state-university-april-12-evening/
LOCATION:Maynard R. Johnson Field\, E Sarnia St\, Winona\, MN\, 55987\, United States
CATEGORIES:Student Life,Warrior Athletics
ATTACH;FMTTYPE=image/jpeg:https://www.winona.edu/about/wp-content/uploads/sites/3/2025/02/Pro-womens-softball-athlete-bat-feature-2022-05-07.jpg
ORGANIZER;CN="Melanie Brunsdon":MAILTO:melanie.brunsdon@winona.edu
END:VEVENT
BEGIN:VEVENT
DTSTART;TZID=America/Chicago:20250412T133000
DTEND;TZID=America/Chicago:20250412T153000
DTSTAMP:20260424T044202
CREATED:20250328T130355Z
LAST-MODIFIED:20250328T130357Z
UID:10000775-1744464600-1744471800@www.winona.edu
SUMMARY:WSU Baseball vs. Augustana University
DESCRIPTION:On April 12\, come cheer on the men’s Baseball team as they play against Augustana University. \n\n\n\n\n\nVenue\n\n\n\n\n\nContact
URL:https://www.winona.edu/about/event/wsu-baseball-vs-augustana-university-april-12-afternoon/
LOCATION:Augustana University\, 2001 S Summit Ave\, Sioux Falls\, SD\, 57197\, United States
CATEGORIES:Student Life,Warrior Athletics
ATTACH;FMTTYPE=image/jpeg:https://www.winona.edu/about/wp-content/uploads/sites/3/2025/03/Pro-mens-baseball-athlete-pitcher-feature-2023-03-26.jpg
ORGANIZER;CN="Melanie Brunsdon":MAILTO:melanie.brunsdon@winona.edu
END:VEVENT
BEGIN:VEVENT
DTSTART;TZID=America/Chicago:20250412T130000
DTEND;TZID=America/Chicago:20250412T150000
DTSTAMP:20260424T044202
CREATED:20250328T130414Z
LAST-MODIFIED:20250328T130415Z
UID:10000688-1744462800-1744470000@www.winona.edu
SUMMARY:WSU Softball vs. Minot State University
DESCRIPTION:On April 12\, come cheer on the women’s Softball team as they play against Minot State University. \n\n\n\n\n\nVenue\n\n\n\n\n\nContact
URL:https://www.winona.edu/about/event/wsu-softball-vs-minot-state-university-april-12-afternoon/
LOCATION:Maynard R. Johnson Field\, E Sarnia St\, Winona\, MN\, 55987\, United States
CATEGORIES:Student Life,Warrior Athletics
ATTACH;FMTTYPE=image/jpeg:https://www.winona.edu/about/wp-content/uploads/sites/3/2025/02/Pro-womens-softball-athlete-bat-feature-2022-05-07.jpg
ORGANIZER;CN="Melanie Brunsdon":MAILTO:melanie.brunsdon@winona.edu
END:VEVENT
BEGIN:VEVENT
DTSTART;TZID=US/Central:20250412T000000
DTEND;TZID=US/Central:20250412T235959
DTSTAMP:20260424T044202
CREATED:20250328T130453Z
LAST-MODIFIED:20250328T130454Z
UID:10000615-1744416000-1744502399@www.winona.edu
SUMMARY:WSU Women's Track & Field: MN State Open
DESCRIPTION:On April 12\, come cheer on the women’s Track & Field team as they compete at the MN State Open meet. \n\n\n\n\n\nVenue\n\n\n\n\n\nContact
URL:https://www.winona.edu/about/event/wsu-womens-track-field-meet-mn-state-open-april-12/
LOCATION:Minnesota State University\, Mankato\, 228 Wiecking Center\, Mankato\, MN\, 56001\, United States
CATEGORIES:Student Life,Warrior Athletics
ATTACH;FMTTYPE=image/jpeg:https://www.winona.edu/about/wp-content/uploads/sites/3/2025/02/Pro-womens-track-field-athlete-meet-feature-2023-02-03.jpg
ORGANIZER;CN="Melanie Brunsdon":MAILTO:melanie.brunsdon@winona.edu
END:VEVENT
BEGIN:VEVENT
DTSTART;TZID=US/Central:20250412T000000
DTEND;TZID=US/Central:20250412T235959
DTSTAMP:20260424T044202
CREATED:20250328T130435Z
LAST-MODIFIED:20250328T130436Z
UID:10000633-1744416000-1744502399@www.winona.edu
SUMMARY:WSU Women's Tennis vs. Minnesota State University\, Mankato
DESCRIPTION:On April 12\, come cheer on the women’s Tennis team as they compete against Minnesota State University\, Mankato. \n\n\n\n\n\nVenue\n\n\n\n\n\nContact
URL:https://www.winona.edu/about/event/wsu-womens-tennis-vs-minnesota-state-university-mankato-match/
LOCATION:Minnesota State University\, Mankato\, 228 Wiecking Center\, Mankato\, MN\, 56001\, United States
CATEGORIES:Student Life,Warrior Athletics
ATTACH;FMTTYPE=image/jpeg:https://www.winona.edu/about/wp-content/uploads/sites/3/2025/02/Pro-womens-tennis-athlete-racket-court-feature-2022-04-04.jpg
ORGANIZER;CN="Melanie Brunsdon":MAILTO:melanie.brunsdon@winona.edu
END:VEVENT
BEGIN:VEVENT
DTSTART;TZID=America/Chicago:20250409T163000
DTEND;TZID=America/Chicago:20250409T183000
DTSTAMP:20260424T044202
CREATED:20250328T130513Z
LAST-MODIFIED:20250328T130514Z
UID:10000774-1744216200-1744223400@www.winona.edu
SUMMARY:WSU Baseball vs. Minnesota State University\, Mankato
DESCRIPTION:On April 9\, come cheer on the men’s Baseball team as they play against Minnesota State University\, Mankato. \n\n\n\n\n\nVenue\n\n\n\n\n\nContact
URL:https://www.winona.edu/about/event/wsu-baseball-vs-minnesota-state-university-mankato-april-09-evening/
LOCATION:Loughrey Field\, 213 W Sarnia St\, Winona\, MN\, 55987\, United States
CATEGORIES:Student Life,Warrior Athletics
ATTACH;FMTTYPE=image/jpeg:https://www.winona.edu/about/wp-content/uploads/sites/3/2025/03/Pro-mens-baseball-athlete-pitcher-feature-2023-03-26.jpg
ORGANIZER;CN="Melanie Brunsdon":MAILTO:melanie.brunsdon@winona.edu
END:VEVENT
BEGIN:VEVENT
DTSTART;TZID=America/Chicago:20250409T160000
DTEND;TZID=America/Chicago:20250409T180000
DTSTAMP:20260424T044202
CREATED:20250328T130532Z
LAST-MODIFIED:20250328T130533Z
UID:10000687-1744214400-1744221600@www.winona.edu
SUMMARY:WSU Softball vs. Minnesota State University\, Mankato
DESCRIPTION:On April 9\, come cheer on the women’s Softball team as they play against Minnesota State University\, Mankato. \n\n\n\n\n\nVenue\n\n\n\n\n\nContact
URL:https://www.winona.edu/about/event/wsu-softball-vs-minnesota-state-university-mankato-april-09-evening/
LOCATION:Maynard R. Johnson Field\, E Sarnia St\, Winona\, MN\, 55987\, United States
CATEGORIES:Student Life,Warrior Athletics
ATTACH;FMTTYPE=image/jpeg:https://www.winona.edu/about/wp-content/uploads/sites/3/2025/02/Pro-womens-softball-athlete-bat-feature-2022-05-07.jpg
ORGANIZER;CN="Melanie Brunsdon":MAILTO:melanie.brunsdon@winona.edu
END:VEVENT
BEGIN:VEVENT
DTSTART;TZID=America/Chicago:20250409T140000
DTEND;TZID=America/Chicago:20250409T160000
DTSTAMP:20260424T044202
CREATED:20250328T130552Z
LAST-MODIFIED:20250328T130553Z
UID:10000686-1744207200-1744214400@www.winona.edu
SUMMARY:WSU Softball vs. Minnesota State University\, Mankato
DESCRIPTION:On April 9\, come cheer on the women’s Softball team as they play against Minnesota State University\, Mankato. \n\n\n\n\n\nVenue\n\n\n\n\n\nContact
URL:https://www.winona.edu/about/event/wsu-softball-vs-minnesota-state-university-mankato-april-09-afternoon/
LOCATION:Maynard R. Johnson Field\, E Sarnia St\, Winona\, MN\, 55987\, United States
CATEGORIES:Student Life,Warrior Athletics
ATTACH;FMTTYPE=image/jpeg:https://www.winona.edu/about/wp-content/uploads/sites/3/2025/02/Pro-womens-softball-athlete-bat-feature-2022-05-07.jpg
ORGANIZER;CN="Melanie Brunsdon":MAILTO:melanie.brunsdon@winona.edu
END:VEVENT
BEGIN:VEVENT
DTSTART;TZID=America/Chicago:20250409T133000
DTEND;TZID=America/Chicago:20250409T153000
DTSTAMP:20260424T044202
CREATED:20250328T130611Z
LAST-MODIFIED:20250328T130612Z
UID:10000773-1744205400-1744212600@www.winona.edu
SUMMARY:WSU Baseball vs. Minnesota State University\, Mankato
DESCRIPTION:On April 9\, come cheer on the men’s Baseball team as they play against Minnesota State University\, Mankato. \n\n\n\n\n\nVenue\n\n\n\n\n\nContact
URL:https://www.winona.edu/about/event/wsu-baseball-vs-minnesota-state-university-mankato-april-09-afternoon/
LOCATION:Loughrey Field\, 213 W Sarnia St\, Winona\, MN\, 55987\, United States
CATEGORIES:Student Life,Warrior Athletics
ATTACH;FMTTYPE=image/jpeg:https://www.winona.edu/about/wp-content/uploads/sites/3/2025/03/Pro-mens-baseball-athlete-pitcher-feature-2023-03-26.jpg
ORGANIZER;CN="Melanie Brunsdon":MAILTO:melanie.brunsdon@winona.edu
END:VEVENT
BEGIN:VEVENT
DTSTART;TZID=US/Central:20250407T000000
DTEND;TZID=US/Central:20250408T235959
DTSTAMP:20260424T044202
CREATED:20250328T130632Z
LAST-MODIFIED:20250328T130633Z
UID:10000644-1743984000-1744156799@www.winona.edu
SUMMARY:WSU Men's Golf: Firekeeper Open
DESCRIPTION:From April 7-8\, come cheer on the men’s Golf team as they compete at the Firekeeper Open meet. \n\n\n\n\n\nVenue\n\n\n\n\n\nContact
URL:https://www.winona.edu/about/event/wsu-mens-golf-meet-firekeeper-open-april-07-08/
LOCATION:Firekeeper Golf Course\, 12524 150th Rd #8819\, Mayetta\, KS\, 66509\, United States
CATEGORIES:Student Life,Warrior Athletics
ATTACH;FMTTYPE=image/jpeg:https://www.winona.edu/about/wp-content/uploads/sites/3/2025/02/Pro-mens-golf-athlete-course-feature-2022-09-07.jpg
ORGANIZER;CN="Melanie Brunsdon":MAILTO:melanie.brunsdon@winona.edu
END:VEVENT
BEGIN:VEVENT
DTSTART;TZID=America/Chicago:20250406T140000
DTEND;TZID=America/Chicago:20250406T160000
DTSTAMP:20260424T044202
CREATED:20250328T130650Z
LAST-MODIFIED:20250328T130651Z
UID:10000685-1743948000-1743955200@www.winona.edu
SUMMARY:WSU Softball vs. University of Minnesota Crookston
DESCRIPTION:On April 6\, come cheer on the women’s Softball team as they play against the University of Minnesota Crookston. \n\n\n\n\n\nVenue\n\n\n\n\n\nContact
URL:https://www.winona.edu/about/event/wsu-softball-vs-university-of-minnesota-crookston-april-06-evening/
LOCATION:Minnesota Crookston Softball Field\, 2900 University Ave\, Crookston\, MN\, 56716\, United States
CATEGORIES:Student Life,Warrior Athletics
ATTACH;FMTTYPE=image/jpeg:https://www.winona.edu/about/wp-content/uploads/sites/3/2025/02/Pro-womens-softball-athlete-bat-feature-2022-05-07.jpg
ORGANIZER;CN="Melanie Brunsdon":MAILTO:melanie.brunsdon@winona.edu
END:VEVENT
BEGIN:VEVENT
DTSTART;TZID=America/Chicago:20250406T120000
DTEND;TZID=America/Chicago:20250406T140000
DTSTAMP:20260424T044202
CREATED:20250328T130730Z
LAST-MODIFIED:20250328T130731Z
UID:10000684-1743940800-1743948000@www.winona.edu
SUMMARY:WSU Softball vs. University of Minnesota Crookston
DESCRIPTION:On April 6\, come cheer on the women’s Softball team as they play against the University of Minnesota Crookston. \n\n\n\n\n\nVenue\n\n\n\n\n\nContact
URL:https://www.winona.edu/about/event/wsu-softball-vs-university-of-minnesota-crookston-april-06-afternoon/
LOCATION:Minnesota Crookston Softball Field\, 2900 University Ave\, Crookston\, MN\, 56716\, United States
CATEGORIES:Student Life,Warrior Athletics
ATTACH;FMTTYPE=image/jpeg:https://www.winona.edu/about/wp-content/uploads/sites/3/2025/02/Pro-womens-softball-athlete-bat-feature-2022-05-07.jpg
ORGANIZER;CN="Melanie Brunsdon":MAILTO:melanie.brunsdon@winona.edu
END:VEVENT
BEGIN:VEVENT
DTSTART;TZID=America/Chicago:20250406T120000
DTEND;TZID=America/Chicago:20250406T140000
DTSTAMP:20260424T044202
CREATED:20250328T130710Z
LAST-MODIFIED:20250328T130711Z
UID:10000772-1743940800-1743948000@www.winona.edu
SUMMARY:WSU Baseball vs. University of Minnesota Crookston
DESCRIPTION:On April 6\, come cheer on the men’s Baseball team as they play against the University of Minnesota Crookston. \n\n\n\n\n\nVenue\n\n\n\n\n\nContact
URL:https://www.winona.edu/about/event/wsu-baseball-vs-university-of-minnesota-crookston-april-06/
LOCATION:University of Minnesota Crookston\, 2900 University Ave\, Crookston\, MN\, 56716\, United States
CATEGORIES:Student Life,Warrior Athletics
ATTACH;FMTTYPE=image/jpeg:https://www.winona.edu/about/wp-content/uploads/sites/3/2025/03/Pro-mens-baseball-athlete-pitcher-feature-2023-03-26.jpg
ORGANIZER;CN="Melanie Brunsdon":MAILTO:melanie.brunsdon@winona.edu
END:VEVENT
BEGIN:VEVENT
DTSTART;TZID=US/Central:20250406T090000
DTEND;TZID=US/Central:20250406T110000
DTSTAMP:20260424T044202
CREATED:20250328T130832Z
LAST-MODIFIED:20250328T130833Z
UID:10000632-1743930000-1743937200@www.winona.edu
SUMMARY:WSU Women's Tennis vs. University of Minnesota Crookston
DESCRIPTION:On April 6\, come cheer on the women’s Tennis team as they compete against University of Minnesota Crookston. \n\n\n\n\n\nVenue\n\n\n\n\n\nContact
URL:https://www.winona.edu/about/event/wsu-womens-tennis-vs-university-of-minnesota-crookston-match-april-06/
LOCATION:University of Minnesota Crookston\, 2900 University Ave\, Crookston\, MN\, 56716\, United States
CATEGORIES:Student Life,Warrior Athletics
ATTACH;FMTTYPE=image/jpeg:https://www.winona.edu/about/wp-content/uploads/sites/3/2025/02/Pro-womens-tennis-athlete-racket-court-feature-2022-04-04.jpg
ORGANIZER;CN="Melanie Brunsdon":MAILTO:melanie.brunsdon@winona.edu
END:VEVENT
BEGIN:VEVENT
DTSTART;TZID=US/Central:20250405T160000
DTEND;TZID=US/Central:20250405T180000
DTSTAMP:20260424T044202
CREATED:20250328T130850Z
LAST-MODIFIED:20250328T130851Z
UID:10000631-1743868800-1743876000@www.winona.edu
SUMMARY:WSU Women's Tennis vs. Bemidji State University
DESCRIPTION:On April 5\, come cheer on the women’s Tennis team as they compete against Bemidji State University. \n\n\n\n\n\nVenue\n\n\n\n\n\nContact
URL:https://www.winona.edu/about/event/wsu-womens-tennis-vs-bemidji-state-university-match-april-05/
LOCATION:Bemidji State University\, 1500 Birchmont Dr NE\, Bemidji\, MN\, 56601\, United States
CATEGORIES:Student Life,Warrior Athletics
ATTACH;FMTTYPE=image/jpeg:https://www.winona.edu/about/wp-content/uploads/sites/3/2025/02/Pro-womens-tennis-athlete-racket-court-feature-2022-04-04.jpg
ORGANIZER;CN="Melanie Brunsdon":MAILTO:melanie.brunsdon@winona.edu
END:VEVENT
BEGIN:VEVENT
DTSTART;TZID=America/Chicago:20250405T150000
DTEND;TZID=America/Chicago:20250405T170000
DTSTAMP:20260424T044202
CREATED:20250328T130927Z
LAST-MODIFIED:20250328T130928Z
UID:10000683-1743865200-1743872400@www.winona.edu
SUMMARY:WSU Softball vs. Bemidji State University
DESCRIPTION:On April 5\, come cheer on the women’s Softball team as they play against Bemidji State University. \n\n\n\n\n\nVenue\n\n\n\n\n\nContact
URL:https://www.winona.edu/about/event/wsu-softball-vs-bemidji-state-university-april-05-evening/
LOCATION:BSU Softball Field\, 19th St NE\, Bemidji\, MN\, 56601\, United States
CATEGORIES:Student Life,Warrior Athletics
ATTACH;FMTTYPE=image/jpeg:https://www.winona.edu/about/wp-content/uploads/sites/3/2025/02/Pro-womens-softball-athlete-bat-feature-2022-05-07.jpg
ORGANIZER;CN="Melanie Brunsdon":MAILTO:melanie.brunsdon@winona.edu
END:VEVENT
BEGIN:VEVENT
DTSTART;TZID=America/Chicago:20250405T150000
DTEND;TZID=America/Chicago:20250405T170000
DTSTAMP:20260424T044202
CREATED:20250328T130908Z
LAST-MODIFIED:20250328T130910Z
UID:10000771-1743865200-1743872400@www.winona.edu
SUMMARY:WSU Baseball vs. University of Minnesota Crookston
DESCRIPTION:On April 5\, come cheer on the men’s Baseball team as they play against the University of Minnesota Crookston. \n\n\n\n\n\nVenue\n\n\n\n\n\nContact
URL:https://www.winona.edu/about/event/wsu-baseball-vs-university-of-minnesota-crookston-april-05-evening/
LOCATION:University of Minnesota Crookston\, 2900 University Ave\, Crookston\, MN\, 56716\, United States
CATEGORIES:Student Life,Warrior Athletics
ATTACH;FMTTYPE=image/jpeg:https://www.winona.edu/about/wp-content/uploads/sites/3/2025/03/Pro-mens-baseball-athlete-pitcher-feature-2023-03-26.jpg
ORGANIZER;CN="Melanie Brunsdon":MAILTO:melanie.brunsdon@winona.edu
END:VEVENT
BEGIN:VEVENT
DTSTART;TZID=America/Chicago:20250405T130000
DTEND;TZID=America/Chicago:20250405T150000
DTSTAMP:20260424T044202
CREATED:20250328T130946Z
LAST-MODIFIED:20250328T130947Z
UID:10000682-1743858000-1743865200@www.winona.edu
SUMMARY:WSU Softball vs. Bemidji State University
DESCRIPTION:On April 5\, come cheer on the women’s Softball team as they play against Bemidji State University. \n\n\n\n\n\nVenue\n\n\n\n\n\nContact
URL:https://www.winona.edu/about/event/wsu-softball-vs-bemidji-state-university-april-05-afternoon/
LOCATION:BSU Softball Field\, 19th St NE\, Bemidji\, MN\, 56601\, United States
CATEGORIES:Student Life,Warrior Athletics
ATTACH;FMTTYPE=image/jpeg:https://www.winona.edu/about/wp-content/uploads/sites/3/2025/02/Pro-womens-softball-athlete-bat-feature-2022-05-07.jpg
ORGANIZER;CN="Melanie Brunsdon":MAILTO:melanie.brunsdon@winona.edu
END:VEVENT
END:VCALENDAR