BEGIN:VCALENDAR
VERSION:2.0
PRODID:-//About - ECPv6.15.16//NONSGML v1.0//EN
CALSCALE:GREGORIAN
METHOD:PUBLISH
X-WR-CALNAME:About
X-ORIGINAL-URL:https://www.winona.edu/about
X-WR-CALDESC:Events for About
REFRESH-INTERVAL;VALUE=DURATION:PT1H
X-Robots-Tag:noindex
X-PUBLISHED-TTL:PT1H
BEGIN:VTIMEZONE
TZID:America/Chicago
BEGIN:DAYLIGHT
TZOFFSETFROM:-0600
TZOFFSETTO:-0500
TZNAME:CDT
DTSTART:20240310T080000
END:DAYLIGHT
BEGIN:STANDARD
TZOFFSETFROM:-0500
TZOFFSETTO:-0600
TZNAME:CST
DTSTART:20241103T070000
END:STANDARD
BEGIN:DAYLIGHT
TZOFFSETFROM:-0600
TZOFFSETTO:-0500
TZNAME:CDT
DTSTART:20250309T080000
END:DAYLIGHT
BEGIN:STANDARD
TZOFFSETFROM:-0500
TZOFFSETTO:-0600
TZNAME:CST
DTSTART:20251102T070000
END:STANDARD
BEGIN:DAYLIGHT
TZOFFSETFROM:-0600
TZOFFSETTO:-0500
TZNAME:CDT
DTSTART:20260308T080000
END:DAYLIGHT
BEGIN:STANDARD
TZOFFSETFROM:-0500
TZOFFSETTO:-0600
TZNAME:CST
DTSTART:20261101T070000
END:STANDARD
END:VTIMEZONE
BEGIN:VTIMEZONE
TZID:US/Central
BEGIN:DAYLIGHT
TZOFFSETFROM:-0600
TZOFFSETTO:-0500
TZNAME:CDT
DTSTART:20230312T080000
END:DAYLIGHT
BEGIN:STANDARD
TZOFFSETFROM:-0500
TZOFFSETTO:-0600
TZNAME:CST
DTSTART:20231105T070000
END:STANDARD
BEGIN:DAYLIGHT
TZOFFSETFROM:-0600
TZOFFSETTO:-0500
TZNAME:CDT
DTSTART:20240310T080000
END:DAYLIGHT
BEGIN:STANDARD
TZOFFSETFROM:-0500
TZOFFSETTO:-0600
TZNAME:CST
DTSTART:20241103T070000
END:STANDARD
BEGIN:DAYLIGHT
TZOFFSETFROM:-0600
TZOFFSETTO:-0500
TZNAME:CDT
DTSTART:20250309T080000
END:DAYLIGHT
BEGIN:STANDARD
TZOFFSETFROM:-0500
TZOFFSETTO:-0600
TZNAME:CST
DTSTART:20251102T070000
END:STANDARD
BEGIN:DAYLIGHT
TZOFFSETFROM:-0600
TZOFFSETTO:-0500
TZNAME:CDT
DTSTART:20260308T080000
END:DAYLIGHT
BEGIN:STANDARD
TZOFFSETFROM:-0500
TZOFFSETTO:-0600
TZNAME:CST
DTSTART:20261101T070000
END:STANDARD
END:VTIMEZONE
BEGIN:VEVENT
DTSTART;TZID=America/Chicago:20250405T120000
DTEND;TZID=America/Chicago:20250405T140000
DTSTAMP:20260424T062711
CREATED:20250328T131005Z
LAST-MODIFIED:20250328T131007Z
UID:10000770-1743854400-1743861600@www.winona.edu
SUMMARY:WSU Baseball vs. University of Minnesota Crookston
DESCRIPTION:On April 5\, come cheer on the men’s Baseball team as they play against the University of Minnesota Crookston. \n\n\n\n\n\nVenue\n\n\n\n\n\nContact
URL:https://www.winona.edu/about/event/wsu-baseball-vs-university-of-minnesota-crookston-april-05-afternoon/
LOCATION:University of Minnesota Crookston\, 2900 University Ave\, Crookston\, MN\, 56716\, United States
CATEGORIES:Student Life,Warrior Athletics
ATTACH;FMTTYPE=image/jpeg:https://www.winona.edu/about/wp-content/uploads/sites/3/2025/03/Pro-mens-baseball-athlete-pitcher-feature-2023-03-26.jpg
ORGANIZER;CN="Melanie Brunsdon":MAILTO:melanie.brunsdon@winona.edu
END:VEVENT
BEGIN:VEVENT
DTSTART;TZID=US/Central:20250405T000000
DTEND;TZID=US/Central:20250406T235959
DTSTAMP:20260424T062711
CREATED:20250328T131026Z
LAST-MODIFIED:20250328T131027Z
UID:10000637-1743811200-1743983999@www.winona.edu
SUMMARY:WSU Women's Golf: Upper Iowa Invitational
DESCRIPTION:From April 5-6\, come cheer on the women’s Golf team as they compete at the Upper Iowa Invitational meet. \n\n\n\n\n\nVenue\n\n\n\n\n\nContact
URL:https://www.winona.edu/about/event/wsu-womens-golf-meet-upper-iowa-invitational-april-05-06/
LOCATION:Sunnyside Golf & Country Club\, 1600 Olympic Dr\, Waterloo\, IA\, 50701\, United States
CATEGORIES:Student Life,Warrior Athletics
ATTACH;FMTTYPE=image/jpeg:https://www.winona.edu/about/wp-content/uploads/sites/3/2025/02/Pro-womens-golf-athlete-course-feature-2022-09-26.jpg
ORGANIZER;CN="Melanie Brunsdon":MAILTO:melanie.brunsdon@winona.edu
END:VEVENT
BEGIN:VEVENT
DTSTART;TZID=US/Central:20250405T000000
DTEND;TZID=US/Central:20250405T235959
DTSTAMP:20260424T062711
CREATED:20250328T131046Z
LAST-MODIFIED:20250328T131047Z
UID:10000614-1743811200-1743897599@www.winona.edu
SUMMARY:WSU Women's Track & Field: Ashton May Invite
DESCRIPTION:On April 5\, come cheer on the women’s Track & Field team as they compete at the Ashton May Invite meet. \n\n\n\n\n\nVenue\n\n\n\n\n\nContact
URL:https://www.winona.edu/about/event/wsu-womens-track-field-meet-ashton-may-invite-april-05/
LOCATION:University of Wisconsin-La Crosse\, 1725 State St\, La Crosse\, WI\, 54601\, United States
CATEGORIES:Student Life,Warrior Athletics
ATTACH;FMTTYPE=image/jpeg:https://www.winona.edu/about/wp-content/uploads/sites/3/2025/02/Pro-womens-track-field-athlete-meet-feature-2023-02-03.jpg
ORGANIZER;CN="Melanie Brunsdon":MAILTO:melanie.brunsdon@winona.edu
END:VEVENT
BEGIN:VEVENT
DTSTART;TZID=America/Chicago:20250404T133000
DTEND;TZID=America/Chicago:20250404T153000
DTSTAMP:20260424T062711
CREATED:20250328T131106Z
LAST-MODIFIED:20250328T131107Z
UID:10000769-1743773400-1743780600@www.winona.edu
SUMMARY:WSU Baseball vs. University of Minnesota Crookston
DESCRIPTION:On April 4\, come cheer on the men’s Baseball team as they play against the University of Minnesota Crookston. \n\n\n\n\n\nVenue\n\n\n\n\n\nContact
URL:https://www.winona.edu/about/event/wsu-baseball-vs-university-of-minnesota-crookston-april-04/
LOCATION:University of Minnesota Crookston\, 2900 University Ave\, Crookston\, MN\, 56716\, United States
CATEGORIES:Student Life,Warrior Athletics
ATTACH;FMTTYPE=image/jpeg:https://www.winona.edu/about/wp-content/uploads/sites/3/2025/03/Pro-mens-baseball-athlete-pitcher-feature-2023-03-26.jpg
ORGANIZER;CN="Melanie Brunsdon":MAILTO:melanie.brunsdon@winona.edu
END:VEVENT
BEGIN:VEVENT
DTSTART;TZID=US/Central:20250331T000000
DTEND;TZID=US/Central:20250401T235959
DTSTAMP:20260424T062711
CREATED:20250328T131127Z
LAST-MODIFIED:20250328T131128Z
UID:10000636-1743379200-1743551999@www.winona.edu
SUMMARY:WSU Women's Golf: NSIC Preview
DESCRIPTION:From March 31-April 1\, come cheer on the women’s Golf team as they compete at the Northern Sun Intercollegiate Conference (NSIC) preview meet. \n\n\n\n\n\nVenue\n\n\n\n\n\nContact
URL:https://www.winona.edu/about/event/wsu-womens-golf-meet-nsic-preview-march-31-april-01/
LOCATION:Paradise Pointe Golf Complex\, 18212 Golf Course Rd\, Smithville\, MO\, 64089\, United States
CATEGORIES:Student Life,Warrior Athletics
ATTACH;FMTTYPE=image/jpeg:https://www.winona.edu/about/wp-content/uploads/sites/3/2025/02/Pro-womens-golf-athlete-course-feature-2022-09-26.jpg
ORGANIZER;CN="Melanie Brunsdon":MAILTO:melanie.brunsdon@winona.edu
END:VEVENT
BEGIN:VEVENT
DTSTART;TZID=US/Central:20250330T190000
DTEND;TZID=US/Central:20250330T210000
DTSTAMP:20260424T062711
CREATED:20250328T131147Z
LAST-MODIFIED:20250328T131149Z
UID:10000630-1743361200-1743368400@www.winona.edu
SUMMARY:WSU Women's Tennis vs. Augustana University
DESCRIPTION:On March 30\, come cheer on the women’s Tennis team as they compete against Augustana University. \n\n\n\n\n\nVenue\n\n\n\n\n\nContact
URL:https://www.winona.edu/about/event/wsu-womens-tennis-vs-augustana-university-match-march-30/
LOCATION:Augustana University\, 2001 S Summit Ave\, Sioux Falls\, SD\, 57197\, United States
CATEGORIES:Student Life,Warrior Athletics
ATTACH;FMTTYPE=image/jpeg:https://www.winona.edu/about/wp-content/uploads/sites/3/2025/02/Pro-womens-tennis-athlete-racket-court-feature-2022-04-04.jpg
ORGANIZER;CN="Melanie Brunsdon":MAILTO:melanie.brunsdon@winona.edu
END:VEVENT
BEGIN:VEVENT
DTSTART;TZID=America/Chicago:20250330T150000
DTEND;TZID=America/Chicago:20250330T170000
DTSTAMP:20260424T062711
CREATED:20250328T131208Z
LAST-MODIFIED:20250328T131209Z
UID:10000681-1743346800-1743354000@www.winona.edu
SUMMARY:WSU Softball vs. Northern State University
DESCRIPTION:On March 30\, come cheer on the women’s Softball team as they play against Northern State University. \n\n\n\n\n\nVenue\n\n\n\n\n\nContact
URL:https://www.winona.edu/about/event/wsu-softball-vs-northern-state-university-march-30-evening/
LOCATION:Maynard R. Johnson Field\, E Sarnia St\, Winona\, MN\, 55987\, United States
CATEGORIES:Student Life,Warrior Athletics
ATTACH;FMTTYPE=image/jpeg:https://www.winona.edu/about/wp-content/uploads/sites/3/2025/02/Pro-womens-softball-athlete-bat-feature-2022-05-07.jpg
ORGANIZER;CN="Melanie Brunsdon":MAILTO:melanie.brunsdon@winona.edu
END:VEVENT
BEGIN:VEVENT
DTSTART;TZID=America/Chicago:20250330T130000
DTEND;TZID=America/Chicago:20250330T150000
DTSTAMP:20260424T062711
CREATED:20250328T131229Z
LAST-MODIFIED:20250328T131230Z
UID:10000680-1743339600-1743346800@www.winona.edu
SUMMARY:WSU Softball vs. Northern State University
DESCRIPTION:On March 30\, come cheer on the women’s Softball team as they play against Northern State University. \n\n\n\n\n\nVenue\n\n\n\n\n\nContact
URL:https://www.winona.edu/about/event/wsu-softball-vs-northern-state-university-march-30-afternoon/
LOCATION:Maynard R. Johnson Field\, E Sarnia St\, Winona\, MN\, 55987\, United States
CATEGORIES:Student Life,Warrior Athletics
ATTACH;FMTTYPE=image/jpeg:https://www.winona.edu/about/wp-content/uploads/sites/3/2025/02/Pro-womens-softball-athlete-bat-feature-2022-05-07.jpg
ORGANIZER;CN="Melanie Brunsdon":MAILTO:melanie.brunsdon@winona.edu
END:VEVENT
BEGIN:VEVENT
DTSTART;TZID=US/Central:20250329T160000
DTEND;TZID=US/Central:20250329T180000
DTSTAMP:20260424T062711
CREATED:20250328T131247Z
LAST-MODIFIED:20250328T131248Z
UID:10000629-1743264000-1743271200@www.winona.edu
SUMMARY:WSU Women's Tennis vs. University of Sioux Falls
DESCRIPTION:On March 29\, come cheer on the women’s Tennis team as they compete against the University of Sioux Falls. \n\n\n\n\n\nVenue\n\n\n\n\n\nContact
URL:https://www.winona.edu/about/event/wsu-womens-tennis-vs-university-of-sioux-falls-match-march-29/
LOCATION:University of Sioux Falls\, 1101 W 22nd St\, Sioux Falls\, SD\, 57105\, United States
CATEGORIES:Student Life,Warrior Athletics
ATTACH;FMTTYPE=image/jpeg:https://www.winona.edu/about/wp-content/uploads/sites/3/2025/02/Pro-womens-tennis-athlete-racket-court-feature-2022-04-04.jpg
ORGANIZER;CN="Melanie Brunsdon":MAILTO:melanie.brunsdon@winona.edu
END:VEVENT
BEGIN:VEVENT
DTSTART;TZID=America/Chicago:20250329T150000
DTEND;TZID=America/Chicago:20250329T170000
DTSTAMP:20260424T062711
CREATED:20250328T131328Z
LAST-MODIFIED:20250328T131329Z
UID:10000679-1743260400-1743267600@www.winona.edu
SUMMARY:WSU Softball vs. Minnesota State University Moorhead
DESCRIPTION:On March 29\, come cheer on the women’s Softball team as they play against Minnesota State University Moorhead. \n\n\n\n\n\nVenue\n\n\n\n\n\nContact
URL:https://www.winona.edu/about/event/wsu-softball-vs-minnesota-state-university-moorhead-march-29-evening/
LOCATION:Maynard R. Johnson Field\, E Sarnia St\, Winona\, MN\, 55987\, United States
CATEGORIES:Student Life,Warrior Athletics
ATTACH;FMTTYPE=image/jpeg:https://www.winona.edu/about/wp-content/uploads/sites/3/2025/02/Pro-womens-softball-athlete-bat-feature-2022-05-07.jpg
ORGANIZER;CN="Melanie Brunsdon":MAILTO:melanie.brunsdon@winona.edu
END:VEVENT
BEGIN:VEVENT
DTSTART;TZID=America/Chicago:20250329T150000
DTEND;TZID=America/Chicago:20250329T170000
DTSTAMP:20260424T062711
CREATED:20250328T131306Z
LAST-MODIFIED:20250328T131307Z
UID:10000768-1743260400-1743267600@www.winona.edu
SUMMARY:WSU Baseball vs. Bemidji State University
DESCRIPTION:On March 29\, come cheer on the men’s Baseball team as they play against Bemidji State University. \n\n\n\n\n\nVenue\n\n\n\n\n\nContact
URL:https://www.winona.edu/about/event/wsu-baseball-vs-bemidji-state-university-march-29/
LOCATION:Bemidji State University\, 1500 Birchmont Dr NE\, Bemidji\, MN\, 56601\, United States
CATEGORIES:Student Life,Warrior Athletics
ATTACH;FMTTYPE=image/jpeg:https://www.winona.edu/about/wp-content/uploads/sites/3/2025/03/Pro-mens-baseball-athlete-pitcher-feature-2023-03-26.jpg
ORGANIZER;CN="Melanie Brunsdon":MAILTO:melanie.brunsdon@winona.edu
END:VEVENT
BEGIN:VEVENT
DTSTART;TZID=America/Chicago:20250329T130000
DTEND;TZID=America/Chicago:20250329T150000
DTSTAMP:20260424T062711
CREATED:20250328T131349Z
LAST-MODIFIED:20250328T131350Z
UID:10000678-1743253200-1743260400@www.winona.edu
SUMMARY:WSU Softball vs. Minnesota State University Moorhead
DESCRIPTION:On March 29\, come cheer on the women’s Softball team as they play against Minnesota State University Moorhead. \n\n\n\n\n\nVenue\n\n\n\n\n\nContact
URL:https://www.winona.edu/about/event/wsu-softball-vs-minnesota-state-university-moorhead-march-29-afternoon/
LOCATION:Maynard R. Johnson Field\, E Sarnia St\, Winona\, MN\, 55987\, United States
CATEGORIES:Student Life,Warrior Athletics
ATTACH;FMTTYPE=image/jpeg:https://www.winona.edu/about/wp-content/uploads/sites/3/2025/02/Pro-womens-softball-athlete-bat-feature-2022-05-07.jpg
ORGANIZER;CN="Melanie Brunsdon":MAILTO:melanie.brunsdon@winona.edu
END:VEVENT
BEGIN:VEVENT
DTSTART;TZID=America/Chicago:20250329T120000
DTEND;TZID=America/Chicago:20250329T140000
DTSTAMP:20260424T062711
CREATED:20250328T131409Z
LAST-MODIFIED:20250328T131410Z
UID:10000767-1743249600-1743256800@www.winona.edu
SUMMARY:WSU Baseball vs. Bemidji State University
DESCRIPTION:On March 29\, come cheer on the men’s Baseball team as they play against Bemidji State University. \n\n\n\n\n\nVenue\n\n\n\n\n\nContact
URL:https://www.winona.edu/about/event/wsu-baseball-vs-bemidji-state-university-march-29-afternoon/
LOCATION:Bemidji State University\, 1500 Birchmont Dr NE\, Bemidji\, MN\, 56601\, United States
CATEGORIES:Student Life,Warrior Athletics
ATTACH;FMTTYPE=image/jpeg:https://www.winona.edu/about/wp-content/uploads/sites/3/2025/03/Pro-mens-baseball-athlete-pitcher-feature-2023-03-26.jpg
ORGANIZER;CN="Melanie Brunsdon":MAILTO:melanie.brunsdon@winona.edu
END:VEVENT
BEGIN:VEVENT
DTSTART;TZID=America/Chicago:20250328T163000
DTEND;TZID=America/Chicago:20250328T183000
DTSTAMP:20260424T062711
CREATED:20250328T131428Z
LAST-MODIFIED:20250328T131429Z
UID:10000766-1743179400-1743186600@www.winona.edu
SUMMARY:WSU Baseball vs. Bemidji State University
DESCRIPTION:On March 28\, come cheer on the men’s Baseball team as they play against Bemidji State University. \n\n\n\n\n\nVenue\n\n\n\n\n\nContact
URL:https://www.winona.edu/about/event/wsu-baseball-vs-bemidji-state-university-march-28-evening/
LOCATION:Bemidji State University\, 1500 Birchmont Dr NE\, Bemidji\, MN\, 56601\, United States
CATEGORIES:Student Life,Warrior Athletics
ATTACH;FMTTYPE=image/jpeg:https://www.winona.edu/about/wp-content/uploads/sites/3/2025/03/Pro-mens-baseball-athlete-pitcher-feature-2023-03-26.jpg
ORGANIZER;CN="Melanie Brunsdon":MAILTO:melanie.brunsdon@winona.edu
END:VEVENT
BEGIN:VEVENT
DTSTART;TZID=America/Chicago:20250328T133000
DTEND;TZID=America/Chicago:20250328T153000
DTSTAMP:20260424T062711
CREATED:20250328T131449Z
LAST-MODIFIED:20250328T131451Z
UID:10000765-1743168600-1743175800@www.winona.edu
SUMMARY:WSU Baseball vs. Bemidji State University
DESCRIPTION:On March 28\, come cheer on the men’s Baseball team as they play against Bemidji State University. \n\n\n\n\n\nVenue\n\n\n\n\n\nContact
URL:https://www.winona.edu/about/event/wsu-baseball-vs-bemidji-state-university-march-28-afternoon/
LOCATION:Bemidji State University\, 1500 Birchmont Dr NE\, Bemidji\, MN\, 56601\, United States
CATEGORIES:Student Life,Warrior Athletics
ATTACH;FMTTYPE=image/jpeg:https://www.winona.edu/about/wp-content/uploads/sites/3/2025/03/Pro-mens-baseball-athlete-pitcher-feature-2023-03-26.jpg
ORGANIZER;CN="Melanie Brunsdon":MAILTO:melanie.brunsdon@winona.edu
END:VEVENT
BEGIN:VEVENT
DTSTART;TZID=US/Central:20241020T150000
DTEND;TZID=US/Central:20241020T170000
DTSTAMP:20260424T062711
CREATED:20241231T162840Z
LAST-MODIFIED:20241231T162842Z
UID:10000123-1729436400-1729443600@www.winona.edu
SUMMARY:Zombie Crawl Activities
DESCRIPTION:On Oct. 20\, the Winona State student-athletes are hosting a Zombie Crawl at the Altra Federal Credit Union Stadium for community youngsters. \n\n\n\nElementary-aged and younger kiddos are encouraged to wear their Halloween costumes as they venture through the activity stations. Parents should wear costumes\, too! Healthy snacks will be provided at this free event. \n\n\n\nIf the weather is less than ideal\, the Zombie Crawl will be held in McCown Gym. \n\n\n\n\n\nVenue\n\n\n\n\n\nRain Venue\n\n\n\n\n\nContact
URL:https://www.winona.edu/about/event/zombie-crawl-activities/
LOCATION:Altra Federal Credit Union Stadium\, 601 Johnson St\, Winona\, MN\, 55987\, United States
CATEGORIES:Student Life,Warrior Athletics
ATTACH;FMTTYPE=image/jpeg:https://www.winona.edu/about/wp-content/uploads/sites/3/2024/12/WSU-children-halloween-costumes-outside-feature-2024-10-08.jpg
ORGANIZER;CN="Melanie Brunsdon":MAILTO:melanie.brunsdon@winona.edu
END:VEVENT
END:VCALENDAR