BEGIN:VCALENDAR
VERSION:2.0
PRODID:-//About - ECPv6.15.16//NONSGML v1.0//EN
CALSCALE:GREGORIAN
METHOD:PUBLISH
X-WR-CALNAME:About
X-ORIGINAL-URL:https://www.winona.edu/about
X-WR-CALDESC:Events for About
REFRESH-INTERVAL;VALUE=DURATION:PT1H
X-Robots-Tag:noindex
X-PUBLISHED-TTL:PT1H
BEGIN:VTIMEZONE
TZID:America/Chicago
BEGIN:DAYLIGHT
TZOFFSETFROM:-0600
TZOFFSETTO:-0500
TZNAME:CDT
DTSTART:20240310T080000
END:DAYLIGHT
BEGIN:STANDARD
TZOFFSETFROM:-0500
TZOFFSETTO:-0600
TZNAME:CST
DTSTART:20241103T070000
END:STANDARD
BEGIN:DAYLIGHT
TZOFFSETFROM:-0600
TZOFFSETTO:-0500
TZNAME:CDT
DTSTART:20250309T080000
END:DAYLIGHT
BEGIN:STANDARD
TZOFFSETFROM:-0500
TZOFFSETTO:-0600
TZNAME:CST
DTSTART:20251102T070000
END:STANDARD
BEGIN:DAYLIGHT
TZOFFSETFROM:-0600
TZOFFSETTO:-0500
TZNAME:CDT
DTSTART:20260308T080000
END:DAYLIGHT
BEGIN:STANDARD
TZOFFSETFROM:-0500
TZOFFSETTO:-0600
TZNAME:CST
DTSTART:20261101T070000
END:STANDARD
END:VTIMEZONE
BEGIN:VEVENT
DTSTART;TZID=America/Chicago:20251031T120000
DTEND;TZID=America/Chicago:20251031T150000
DTSTAMP:20260424T192258
CREATED:20250902T141121Z
LAST-MODIFIED:20250902T141121Z
UID:10001085-1761912000-1761922800@www.winona.edu
SUMMARY:MN Government & Nonprofit Career Fair
DESCRIPTION:Join us on Oct. 31 at the University of Minnesota for the MN Government & Nonprofit Career Fair. \n\n\n\nThe fair is open to all WSU students and alumni. \n\n\n\nIn a traditional fair fashion\, you can stop by employer booths and ask about jobs and internships. You will also be able to attend panels and presentations to learn more about careers in the government and nonprofit fields. \n\n\n\nStudents should bring their student ID\, copies of their resumes\, and questions for recruiters. \n\n\n\nFind more information and register for this event in Handshake. Registration is not required\, but it is recommended. \n\n\n\n    Explore Handshake\n\n\n\n\n\nVenue\n\n\n\n\n\nContact
URL:https://www.winona.edu/about/event/mn-government-nonprofit-career-fair-2025/
CATEGORIES:Academics,Career Services,Student Life,Support & Services,Warrior Success Center
ATTACH;FMTTYPE=image/jpeg:https://www.winona.edu/about/wp-content/uploads/sites/3/2024/11/WSU-male-student-professional-job-internship-fair-feature-2017-09-27.jpg
ORGANIZER;CN="Michelle Keller":MAILTO:mkeller@winona.edu
END:VEVENT
BEGIN:VEVENT
DTSTART;TZID=America/Chicago:20251014T120000
DTEND;TZID=America/Chicago:20251014T150000
DTSTAMP:20260424T192258
CREATED:20250902T141108Z
LAST-MODIFIED:20250902T141109Z
UID:10001072-1760443200-1760454000@www.winona.edu
SUMMARY:Criminal Justice Career & Internship Fair
DESCRIPTION:Join us on Oct. 14 for the Criminal Justice Career & Internship Fair. \n\n\n\nThe fair is open to all students and majors (first-year through seniors\, and graduate students). \n\n\n\nOpen networking with over 50 employers will be held from 12-3pm. In a traditional fair fashion\, students can stop by employer booths and ask about jobs and internships. \n\n\n\nPreparing a resume and elevator pitch prior to the event is highly recommended. Business casual or professional attire is also advised. \n\n\n\nFor more tools and resources\, join the Career and Internship Fair Prep Kit in D2L under Self-Registration. \n\n\n\nA Resume Rush schedule is also available in Handshake for all students who are interested in polishing their resume prior to the event. Spaces are limited. \n\n\n\n    Explore Handshake\n\n\n\n\n\nVenue\n\n\n\n\n\nContact
URL:https://www.winona.edu/about/event/criminal-justice-career-internship-fair-2025/
LOCATION:Great River Ballroom\, 250 W 10th St\, Winona\, MN\, 55987\, United States
CATEGORIES:Academics,Career Services,College of Liberal Arts,Colleges,Sociology & Criminal Justice Department,Student Life,Support & Services,Warrior Success Center
ATTACH;FMTTYPE=image/jpeg:https://www.winona.edu/about/wp-content/uploads/sites/3/2024/11/WSU-male-student-professional-job-internship-fair-feature-2017-09-27.jpg
ORGANIZER;CN="Michelle Keller":MAILTO:mkeller@winona.edu
END:VEVENT
END:VCALENDAR