BEGIN:VCALENDAR
VERSION:2.0
PRODID:-//About - ECPv6.15.16//NONSGML v1.0//EN
CALSCALE:GREGORIAN
METHOD:PUBLISH
X-WR-CALNAME:About
X-ORIGINAL-URL:https://www.winona.edu/about
X-WR-CALDESC:Events for About
REFRESH-INTERVAL;VALUE=DURATION:PT1H
X-Robots-Tag:noindex
X-PUBLISHED-TTL:PT1H
BEGIN:VTIMEZONE
TZID:America/Chicago
BEGIN:DAYLIGHT
TZOFFSETFROM:-0600
TZOFFSETTO:-0500
TZNAME:CDT
DTSTART:20230312T080000
END:DAYLIGHT
BEGIN:STANDARD
TZOFFSETFROM:-0500
TZOFFSETTO:-0600
TZNAME:CST
DTSTART:20231105T070000
END:STANDARD
BEGIN:DAYLIGHT
TZOFFSETFROM:-0600
TZOFFSETTO:-0500
TZNAME:CDT
DTSTART:20240310T080000
END:DAYLIGHT
BEGIN:STANDARD
TZOFFSETFROM:-0500
TZOFFSETTO:-0600
TZNAME:CST
DTSTART:20241103T070000
END:STANDARD
BEGIN:DAYLIGHT
TZOFFSETFROM:-0600
TZOFFSETTO:-0500
TZNAME:CDT
DTSTART:20250309T080000
END:DAYLIGHT
BEGIN:STANDARD
TZOFFSETFROM:-0500
TZOFFSETTO:-0600
TZNAME:CST
DTSTART:20251102T070000
END:STANDARD
END:VTIMEZONE
BEGIN:VEVENT
DTSTART;TZID=America/Chicago:20241120T160000
DTEND;TZID=America/Chicago:20241120T170000
DTSTAMP:20260424T212955
CREATED:20250105T193642Z
LAST-MODIFIED:20250905T144656Z
UID:10000322-1732118400-1732122000@www.winona.edu
SUMMARY:Cultural Café: A Sip of Argentina
DESCRIPTION:In celebration of International Education Week\, join us for our Cultural Café\, “A Sip of Argentina.”  \n\n\n\nEat alfajores and drink yerba mate while learning about Messi’s land\, tango beats\, and more. \n\n\n\n\n\nVenue\n\n\n\n\n\nContact
URL:https://www.winona.edu/about/event/cultural-cafe-a-sip-of-argentina/
LOCATION:College of Business Engagement Center\, 175 West Mark Street\, Winona\, MN\, 55987\, United States
CATEGORIES:Equity & Inclusive Excellence,Events & Traditions,International Services,Student Life,Support & Services
ATTACH;FMTTYPE=image/jpeg:https://www.winona.edu/about/wp-content/uploads/sites/3/2024/11/WSU-international-flags-feature-2016-09-15.jpg
ORGANIZER;CN="Oresta Felts":MAILTO:ofelts@winona.edu
END:VEVENT
END:VCALENDAR