BEGIN:VCALENDAR
VERSION:2.0
PRODID:-//About - ECPv6.15.16//NONSGML v1.0//EN
CALSCALE:GREGORIAN
METHOD:PUBLISH
X-WR-CALNAME:About
X-ORIGINAL-URL:https://www.winona.edu/about
X-WR-CALDESC:Events for About
REFRESH-INTERVAL;VALUE=DURATION:PT1H
X-Robots-Tag:noindex
X-PUBLISHED-TTL:PT1H
BEGIN:VTIMEZONE
TZID:America/Chicago
BEGIN:DAYLIGHT
TZOFFSETFROM:-0600
TZOFFSETTO:-0500
TZNAME:CDT
DTSTART:20240310T080000
END:DAYLIGHT
BEGIN:STANDARD
TZOFFSETFROM:-0500
TZOFFSETTO:-0600
TZNAME:CST
DTSTART:20241103T070000
END:STANDARD
BEGIN:DAYLIGHT
TZOFFSETFROM:-0600
TZOFFSETTO:-0500
TZNAME:CDT
DTSTART:20250309T080000
END:DAYLIGHT
BEGIN:STANDARD
TZOFFSETFROM:-0500
TZOFFSETTO:-0600
TZNAME:CST
DTSTART:20251102T070000
END:STANDARD
BEGIN:DAYLIGHT
TZOFFSETFROM:-0600
TZOFFSETTO:-0500
TZNAME:CDT
DTSTART:20260308T080000
END:DAYLIGHT
BEGIN:STANDARD
TZOFFSETFROM:-0500
TZOFFSETTO:-0600
TZNAME:CST
DTSTART:20261101T070000
END:STANDARD
END:VTIMEZONE
BEGIN:VEVENT
DTSTART;TZID=America/Chicago:20251204T140000
DTEND;TZID=America/Chicago:20251204T153000
DTSTAMP:20260424T135046
CREATED:20251125T160044Z
LAST-MODIFIED:20251125T160045Z
UID:10001386-1764856800-1764862200@www.winona.edu
SUMMARY:Winona State 2035 Exhibit: "Be a Part of WSU’s Future"
DESCRIPTION:Join the Public Relations Student Society of American (PRSSA) and Public Relations students for an exhibit on the Winona State 2035 strategic plan\, located in the Kryzsko Commons Lower Hyphen. \n\n\n\nLearn why the Winona State 2035 plan matters to students\, explore the vision for our shared future\, and vote for which part of the plan resonates most with you. \n\n\n\nThen help spread the message by sharing what you learned with someone who hasn’t heard about Winona State 2035 yet. \n\n\n\nThis exhibition is free and open to the public. This event is sponsored by PRSSA and the Mass Communication Department. \n\n\n\n    Learn More about Winona State 2035\n\n\n\n\n\nVenue\n\n\n\n\n\nContact\n\n\n\n\n\nDisclaimer\n\n\n\nThe views and opinions expressed by the speakers and programs hosted at Winona State University do not necessarily reflect the views or positions of the university or of the Minnesota State Colleges & Universities system.
URL:https://www.winona.edu/about/event/winona-state-2035-exhibit-be-a-part-of-wsus-future/
LOCATION:Kryzsko Commons\, 250 W 10th St\, Winona\, MN\, 55987\, United States
CATEGORIES:About,Academics,Clubs & Activities,Clubs & Organizations,College of Liberal Arts,Colleges,Leadership & Administration,Mass Communication Department,Student Life
ATTACH;FMTTYPE=image/jpeg:https://www.winona.edu/about/wp-content/uploads/sites/3/2025/11/WSU-Female-Student-Poster-Board.jpg
ORGANIZER;CN="Samantha Krohn":MAILTO:samantha.krohn@go.winona.edu
END:VEVENT
END:VCALENDAR