BEGIN:VCALENDAR
VERSION:2.0
PRODID:-//About - ECPv6.15.16//NONSGML v1.0//EN
CALSCALE:GREGORIAN
METHOD:PUBLISH
X-ORIGINAL-URL:https://www.winona.edu/about
X-WR-CALDESC:Events for About
REFRESH-INTERVAL;VALUE=DURATION:PT1H
X-Robots-Tag:noindex
X-PUBLISHED-TTL:PT1H
BEGIN:VTIMEZONE
TZID:America/Chicago
BEGIN:DAYLIGHT
TZOFFSETFROM:-0600
TZOFFSETTO:-0500
TZNAME:CDT
DTSTART:20240310T080000
END:DAYLIGHT
BEGIN:STANDARD
TZOFFSETFROM:-0500
TZOFFSETTO:-0600
TZNAME:CST
DTSTART:20241103T070000
END:STANDARD
BEGIN:DAYLIGHT
TZOFFSETFROM:-0600
TZOFFSETTO:-0500
TZNAME:CDT
DTSTART:20250309T080000
END:DAYLIGHT
BEGIN:STANDARD
TZOFFSETFROM:-0500
TZOFFSETTO:-0600
TZNAME:CST
DTSTART:20251102T070000
END:STANDARD
BEGIN:DAYLIGHT
TZOFFSETFROM:-0600
TZOFFSETTO:-0500
TZNAME:CDT
DTSTART:20260308T080000
END:DAYLIGHT
BEGIN:STANDARD
TZOFFSETFROM:-0500
TZOFFSETTO:-0600
TZNAME:CST
DTSTART:20261101T070000
END:STANDARD
END:VTIMEZONE
BEGIN:VEVENT
DTSTART;TZID=America/Chicago:20250510T000000
DTEND;TZID=America/Chicago:20250510T235959
DTSTAMP:20260424T135118
CREATED:20250410T155542Z
LAST-MODIFIED:20250410T155543Z
UID:10000832-1746835200-1746921599@www.winona.edu
SUMMARY:Welcome Crew Sign-up Ends
DESCRIPTION:May 10 is the last day when students can sign up to join this year’s Welcome Crew. \n\n\n\nWelcome Crew is a group of students\, faculty\, and staff that help our first-year students move into the residence halls. They do a variety of jobs: traffic control\, directions\, helping families move in (actually moving boxes)\, and dumpster duty. \n\n\n\nVolunteers will be able to give their preference for the building they want to work in\, but if we need you in other areas\, we’ll let you know.  \n\n\n\nYou can choose to help for a full or half day. Also\, if you have a group or team that wants to work together\, please make sure you put that on the form\, and we’ll make arrangements.  \n\n\n\nVolunteer Benefits\n\n\n\nWhen you join Welcome Crew\, you will: \n\n\n\n\nreceive a free Welcome Crew T-shirt.\n\n\n\nget a free lunch or dinner on the day you volunteer.\n\n\n\ngain valuable volunteer hours.\n\n\n\n\nRecognized campus organizations that have at least 5 members sign up and work a shift will receive $200 in club funding. \n\n\n\n    Register to Join Welcome Crew\n\n\n\n\n\nVenue\n\n\n\n\n\nContact
URL:https://www.winona.edu/about/event/welcome-crew-sign-up-ends-2025/
LOCATION:Winona Campus\, 175 West Mark Street\, Winona\, MN\, 55987\, United States
CATEGORIES:Housing & Dining,Student Life
ATTACH;FMTTYPE=image/jpeg:https://www.winona.edu/about/wp-content/uploads/sites/3/2024/12/WSU-welcome-crew-shirt-feature-2019-08-19.jpg
ORGANIZER;CN="Sarah Olcott":MAILTO:solcott@winona.edu
END:VEVENT
BEGIN:VEVENT
DTSTART;TZID=America/Chicago:20250414T000000
DTEND;TZID=America/Chicago:20250414T235959
DTSTAMP:20260424T135118
CREATED:20250410T155221Z
LAST-MODIFIED:20250410T155618Z
UID:10000831-1744588800-1744675199@www.winona.edu
SUMMARY:Welcome Crew Sign-up Begins
DESCRIPTION:April 14 is when students can begin to sign up to join this year’s Welcome Crew. \n\n\n\nWelcome Crew is a group of students\, faculty\, and staff that help our first-year students move into the residence halls. They do a variety of jobs: traffic control\, directions\, helping families move in (actually moving boxes)\, and dumpster duty. \n\n\n\nVolunteers will be able to give their preference for the building they want to work in\, but if we need you in other areas\, we’ll let you know.  \n\n\n\nYou can choose to help for a full or half day. Also\, if you have a group or team that wants to work together\, please make sure you put that on the form\, and we’ll make arrangements.  \n\n\n\nVolunteer Benefits\n\n\n\nWhen you join Welcome Crew\, you will: \n\n\n\n\nreceive a free Welcome Crew T-shirt.\n\n\n\nget a free lunch or dinner on the day you volunteer.\n\n\n\ngain valuable volunteer hours.\n\n\n\n\nRecognized campus organizations that have at least 5 members sign up and work a shift will receive $200 in club funding. \n\n\n\n    Register to Join Welcome Crew\n\n\n\n\n\nVenue\n\n\n\n\n\nContact
URL:https://www.winona.edu/about/event/welcome-crew-sign-up-begins-2025/
LOCATION:Winona Campus\, 175 West Mark Street\, Winona\, MN\, 55987\, United States
CATEGORIES:Housing & Dining,Student Life
ATTACH;FMTTYPE=image/jpeg:https://www.winona.edu/about/wp-content/uploads/sites/3/2024/12/WSU-welcome-crew-shirt-feature-2019-08-19.jpg
ORGANIZER;CN="Sarah Olcott":MAILTO:solcott@winona.edu
END:VEVENT
END:VCALENDAR