BEGIN:VCALENDAR
VERSION:2.0
PRODID:-//About - ECPv6.15.16//NONSGML v1.0//EN
CALSCALE:GREGORIAN
METHOD:PUBLISH
X-WR-CALNAME:About
X-ORIGINAL-URL:https://www.winona.edu/about
X-WR-CALDESC:Events for About
REFRESH-INTERVAL;VALUE=DURATION:PT1H
X-Robots-Tag:noindex
X-PUBLISHED-TTL:PT1H
BEGIN:VTIMEZONE
TZID:America/Chicago
BEGIN:DAYLIGHT
TZOFFSETFROM:-0600
TZOFFSETTO:-0500
TZNAME:CDT
DTSTART:20250309T080000
END:DAYLIGHT
BEGIN:STANDARD
TZOFFSETFROM:-0500
TZOFFSETTO:-0600
TZNAME:CST
DTSTART:20251102T070000
END:STANDARD
BEGIN:DAYLIGHT
TZOFFSETFROM:-0600
TZOFFSETTO:-0500
TZNAME:CDT
DTSTART:20260308T080000
END:DAYLIGHT
BEGIN:STANDARD
TZOFFSETFROM:-0500
TZOFFSETTO:-0600
TZNAME:CST
DTSTART:20261101T070000
END:STANDARD
BEGIN:DAYLIGHT
TZOFFSETFROM:-0600
TZOFFSETTO:-0500
TZNAME:CDT
DTSTART:20270314T080000
END:DAYLIGHT
BEGIN:STANDARD
TZOFFSETFROM:-0500
TZOFFSETTO:-0600
TZNAME:CST
DTSTART:20271107T070000
END:STANDARD
END:VTIMEZONE
BEGIN:VEVENT
DTSTART;TZID=America/Chicago:20260120T123000
DTEND;TZID=America/Chicago:20260120T140000
DTSTAMP:20260424T192504
CREATED:20260114T222042Z
LAST-MODIFIED:20260114T222042Z
UID:10001427-1768912200-1768917600@www.winona.edu
SUMMARY:Foundation Hall Groundbreaking Ceremony
DESCRIPTION:Join us for a groundbreaking ceremony celebrating the start of construction on Foundation Hall\, Winona State’s newest residence hall. \n\n\n\nThe ceremony will be located at the corner of Mark Street and Main Street\, and it will highlight how Foundation Hall will support growing student housing needs and enhance the on-campus living experience. \n\n\n\nThis event is free and open to the public. \n\n\n\n\n\nVenue\n\n\n\n\n\nContact\n\n\n\n\n\nDisclaimer\n\n\n\nThe views and opinions expressed by the speakers and programs hosted at Winona State University do not necessarily reflect the views or positions of the university or of the Minnesota State Colleges & Universities system.
URL:https://www.winona.edu/about/event/foundation-hall-groundbreaking-ceremony/
LOCATION:101 W Mark Street\, 101 W Mark St.\, Winona\, MN\, 55987\, United States
CATEGORIES:About,Housing & Dining,Leadership & Administration,Student Life
ATTACH;FMTTYPE=image/jpeg:https://www.winona.edu/about/wp-content/uploads/sites/3/2026/01/WSU-Construction-Caution-Tape-2018-10-24.jpg
ORGANIZER;CN="University Marketing &amp%3B Communications":MAILTO:wsunews@winona.edu
END:VEVENT
END:VCALENDAR