BEGIN:VCALENDAR
VERSION:2.0
PRODID:-//About - ECPv6.15.16//NONSGML v1.0//EN
CALSCALE:GREGORIAN
METHOD:PUBLISH
X-WR-CALNAME:About
X-ORIGINAL-URL:https://www.winona.edu/about
X-WR-CALDESC:Events for About
REFRESH-INTERVAL;VALUE=DURATION:PT1H
X-Robots-Tag:noindex
X-PUBLISHED-TTL:PT1H
BEGIN:VTIMEZONE
TZID:America/Chicago
BEGIN:DAYLIGHT
TZOFFSETFROM:-0600
TZOFFSETTO:-0500
TZNAME:CDT
DTSTART:20240310T080000
END:DAYLIGHT
BEGIN:STANDARD
TZOFFSETFROM:-0500
TZOFFSETTO:-0600
TZNAME:CST
DTSTART:20241103T070000
END:STANDARD
BEGIN:DAYLIGHT
TZOFFSETFROM:-0600
TZOFFSETTO:-0500
TZNAME:CDT
DTSTART:20250309T080000
END:DAYLIGHT
BEGIN:STANDARD
TZOFFSETFROM:-0500
TZOFFSETTO:-0600
TZNAME:CST
DTSTART:20251102T070000
END:STANDARD
BEGIN:DAYLIGHT
TZOFFSETFROM:-0600
TZOFFSETTO:-0500
TZNAME:CDT
DTSTART:20260308T080000
END:DAYLIGHT
BEGIN:STANDARD
TZOFFSETFROM:-0500
TZOFFSETTO:-0600
TZNAME:CST
DTSTART:20261101T070000
END:STANDARD
BEGIN:DAYLIGHT
TZOFFSETFROM:-0600
TZOFFSETTO:-0500
TZNAME:CDT
DTSTART:20270314T080000
END:DAYLIGHT
BEGIN:STANDARD
TZOFFSETFROM:-0500
TZOFFSETTO:-0600
TZNAME:CST
DTSTART:20271107T070000
END:STANDARD
END:VTIMEZONE
BEGIN:VEVENT
DTSTART;TZID=America/Chicago:20260219T000000
DTEND;TZID=America/Chicago:20260219T235959
DTSTAMP:20260424T211216
CREATED:20260205T170223Z
LAST-MODIFIED:20260205T170224Z
UID:10001518-1771459200-1771545599@www.winona.edu
SUMMARY:WSU Giving Day Fundraiser
DESCRIPTION:Feb. 19 is WSU Giving Day\, a 24-hour fundraising event that creates opportunities for our students\, supports a premier education\, and makes a difference for our university. \n\n\n\nGifts of any size are appreciated and help us transform the student experience for all! \n\n\n\nWinona State students and staff can join the impact by becoming fundraisers for various areas of campus. Sign up as a fundraiser and help us by sharing it on social media and with your friends and family.  \n\n\n\nBonus: the WSU Foundation will be matching up to $50\,000 for fundraising challenges. \n\n\n\n    Make a Giving Day Donation\n\n\n\n\n\nVenue\n\n\n\n\n\nContact\n\n\n\n\n\nDisclaimer\n\n\n\nThe views and opinions expressed by the speakers and programs hosted at Winona State University do not necessarily reflect the views or positions of the university or of the Minnesota State Colleges & Universities system.
URL:https://www.winona.edu/about/event/wsu-giving-day-fundraiser-2026/
LOCATION:Winona Campus\, 175 West Mark Street\, Winona\, MN\, 55987\, United States
CATEGORIES:About,Leadership & Administration
ATTACH;FMTTYPE=image/jpeg:https://www.winona.edu/about/wp-content/uploads/sites/3/2025/01/Pro-students-walking-campus-feature-2023-09-15.jpg
ORGANIZER;CN="WSU Foundation":MAILTO:wsufoundation@winona.edu
END:VEVENT
BEGIN:VEVENT
DTSTART;TZID=America/Chicago:20250220T000000
DTEND;TZID=America/Chicago:20250220T235959
DTSTAMP:20260424T211216
CREATED:20250123T163403Z
LAST-MODIFIED:20250123T163530Z
UID:10000514-1740009600-1740095999@www.winona.edu
SUMMARY:WSU Giving Day Fundraiser
DESCRIPTION:Feb. 20 is WSU Giving Day\, a 24-hour fundraising event that creates opportunities for our students\, supports a premier education\, and makes a difference for our university. \n\n\n\nGifts of any size are appreciated and help us transform the student experience for all! \n\n\n\nWSU students and staff can join the impact by becoming fundraisers for various areas of campus. Sign up as a fundraiser and help us by sharing it on social media and with your friends and family.  \n\n\n\nEmail annualgiving@winona.edu if you have questions. \n\n\n\n    Make a Giving Day Donation\n\n\n\n\n\nVenue\n\n\n\n\n\nContact
URL:https://www.winona.edu/about/event/wsu-giving-day-fundraiser-2025/
LOCATION:Winona Campus\, 175 West Mark Street\, Winona\, MN\, 55987\, United States
CATEGORIES:About,Leadership & Administration
ATTACH;FMTTYPE=image/jpeg:https://www.winona.edu/about/wp-content/uploads/sites/3/2025/01/Pro-students-walking-campus-feature-2023-09-15.jpg
ORGANIZER;CN="WSU Foundation":MAILTO:wsufoundation@winona.edu
END:VEVENT
END:VCALENDAR