BEGIN:VCALENDAR
VERSION:2.0
PRODID:-//About - ECPv6.15.16//NONSGML v1.0//EN
CALSCALE:GREGORIAN
METHOD:PUBLISH
X-WR-CALNAME:About
X-ORIGINAL-URL:https://www.winona.edu/about
X-WR-CALDESC:Events for About
REFRESH-INTERVAL;VALUE=DURATION:PT1H
X-Robots-Tag:noindex
X-PUBLISHED-TTL:PT1H
BEGIN:VTIMEZONE
TZID:America/Chicago
BEGIN:DAYLIGHT
TZOFFSETFROM:-0600
TZOFFSETTO:-0500
TZNAME:CDT
DTSTART:20230312T080000
END:DAYLIGHT
BEGIN:STANDARD
TZOFFSETFROM:-0500
TZOFFSETTO:-0600
TZNAME:CST
DTSTART:20231105T070000
END:STANDARD
BEGIN:DAYLIGHT
TZOFFSETFROM:-0600
TZOFFSETTO:-0500
TZNAME:CDT
DTSTART:20240310T080000
END:DAYLIGHT
BEGIN:STANDARD
TZOFFSETFROM:-0500
TZOFFSETTO:-0600
TZNAME:CST
DTSTART:20241103T070000
END:STANDARD
BEGIN:DAYLIGHT
TZOFFSETFROM:-0600
TZOFFSETTO:-0500
TZNAME:CDT
DTSTART:20250309T080000
END:DAYLIGHT
BEGIN:STANDARD
TZOFFSETFROM:-0500
TZOFFSETTO:-0600
TZNAME:CST
DTSTART:20251102T070000
END:STANDARD
BEGIN:DAYLIGHT
TZOFFSETFROM:-0600
TZOFFSETTO:-0500
TZNAME:CDT
DTSTART:20260308T080000
END:DAYLIGHT
BEGIN:STANDARD
TZOFFSETFROM:-0500
TZOFFSETTO:-0600
TZNAME:CST
DTSTART:20261101T070000
END:STANDARD
END:VTIMEZONE
BEGIN:VEVENT
DTSTART;TZID=America/Chicago:20250411T150000
DTEND;TZID=America/Chicago:20250411T160000
DTSTAMP:20260424T062743
CREATED:20250404T193753Z
LAST-MODIFIED:20250404T193754Z
UID:10000818-1744383600-1744387200@www.winona.edu
SUMMARY:Vinyl Decal & Magnets Creative Workshop
DESCRIPTION:On April 11\, the WSU Design Program invites you to the Creative Workshop Series. Come learn how to print your own design\, then cut and apply the final image. \n\n\n\nThere will be a brief overview of why the media is important and impactful\, followed by a demo and the opportunity for you to make your magnets and vinyl decals.  \n\n\n\nDecals will be on black vinyl\, and magnets will be printed on special sublimation paper applied to a magnet sheet and then cut out manually. \n\n\n\n\n\nVenue\n\n\n\n\n\nContact
URL:https://www.winona.edu/about/event/vinyl-decal-magnets-creative-workshop-april-11/
LOCATION:Design Production Lab (Watkins 114)\, 225 W King St\, Winona\, MN\, 55987\, United States
CATEGORIES:Academics,Art & Design Department,College of Liberal Arts,Colleges
ATTACH;FMTTYPE=image/jpeg:https://www.winona.edu/about/wp-content/uploads/sites/3/2022/12/WSU-3D-Printer-2018-04-18_092501.jpg
ORGANIZER;CN="Danilo Bojic":MAILTO:dbojic@winona.edu
END:VEVENT
BEGIN:VEVENT
DTSTART;TZID=America/Chicago:20250402T180000
DTEND;TZID=America/Chicago:20250402T190000
DTSTAMP:20260424T062743
CREATED:20250317T200621Z
LAST-MODIFIED:20250317T200624Z
UID:10000799-1743616800-1743620400@www.winona.edu
SUMMARY:5th Channel Printing Design Workshop
DESCRIPTION:On April 2\, the WSU Design Program invites you to the Creative Workshop Series. Come explore the different colors and ways that 5th channel printing can be used by seeing our Ricoh Digital Press in action.  \n\n\n\nThere will be a short presentation followed by a demonstration of 5th channel printing. You’ll have an opportunity to print your own poster to test out the 5th channel yourself. \n\n\n\n\n\nVenue\n\n\n\n\n\nContact
URL:https://www.winona.edu/about/event/5th-channel-printing-design-workshop/
LOCATION:Design Production Lab (Watkins 114)\, 225 W King St\, Winona\, MN\, 55987\, United States
CATEGORIES:Academics,Art & Design Department,College of Liberal Arts,Colleges
ATTACH;FMTTYPE=image/jpeg:https://www.winona.edu/about/wp-content/uploads/sites/3/2022/12/WSU-3D-Printer-2018-04-18_092501.jpg
ORGANIZER;CN="Danilo Bojic":MAILTO:dbojic@winona.edu
END:VEVENT
BEGIN:VEVENT
DTSTART;TZID=America/Chicago:20241119T160000
DTEND;TZID=America/Chicago:20241119T170000
DTSTAMP:20260424T062743
CREATED:20250105T183337Z
LAST-MODIFIED:20250105T183338Z
UID:10000320-1732032000-1732035600@www.winona.edu
SUMMARY:Laser Design Workshop
DESCRIPTION:On Nov. 19\, the WSU Design Program invites you to the Creative Workshop Series. Come learn how to use a laser engraver to create your holiday ornaments and other fun items. \n\n\n\nThe WSU Design Program Lab Assistants will help facilitate the workshop. \n\n\n\n\n\nVenue\n\n\n\n\n\nContact
URL:https://www.winona.edu/about/event/laser-design-workshop-nov-19/
LOCATION:Design Production Lab (Watkins 114)\, 225 W King St\, Winona\, MN\, 55987\, United States
CATEGORIES:Academics,Art & Design Department,College of Liberal Arts,Colleges
ATTACH;FMTTYPE=image/jpeg:https://www.winona.edu/about/wp-content/uploads/sites/3/2022/12/WSU-3D-Printer-2018-04-18_092501.jpg
ORGANIZER;CN="Danilo Bojic":MAILTO:dbojic@winona.edu
END:VEVENT
BEGIN:VEVENT
DTSTART;TZID=America/Chicago:20241111T170000
DTEND;TZID=America/Chicago:20241111T180000
DTSTAMP:20260424T062743
CREATED:20250103T174406Z
LAST-MODIFIED:20250103T174407Z
UID:10000313-1731344400-1731348000@www.winona.edu
SUMMARY:Laser Design Workshop
DESCRIPTION:On Nov. 11\, the WSU Design Program invites you to the Creative Workshop Series. Come learn how to use a laser cutter/engraver. You may use your sticker design if you attended the previous workshop. \n\n\n\nThe WSU Design Program Lab Assistants will help facilitate the workshop. \n\n\n\n\n\nVenue\n\n\n\n\n\nContact
URL:https://www.winona.edu/about/event/laser-design-workshop/
LOCATION:Design Production Lab (Watkins 114)\, 225 W King St\, Winona\, MN\, 55987\, United States
CATEGORIES:Academics,Art & Design Department,College of Liberal Arts,Colleges
ATTACH;FMTTYPE=image/jpeg:https://www.winona.edu/about/wp-content/uploads/sites/3/2022/12/WSU-3D-Printer-2018-04-18_092501.jpg
ORGANIZER;CN="Danilo Bojic":MAILTO:dbojic@winona.edu
END:VEVENT
BEGIN:VEVENT
DTSTART;TZID=America/Chicago:20241111T160000
DTEND;TZID=America/Chicago:20241111T170000
DTSTAMP:20260424T062743
CREATED:20250103T173809Z
LAST-MODIFIED:20250103T173810Z
UID:10000312-1731340800-1731344400@www.winona.edu
SUMMARY:Stickers Design Workshop
DESCRIPTION:On Nov. 11\, the WSU Design Program invites you to the Creative Workshop Series. Come learn how to make stickers\, take them home\, or use them for the Laser Workshop that will follow. \n\n\n\nThe WSU Design Program Lab Assistants will help facilitate the workshop. \n\n\n\n\n\nVenue\n\n\n\n\n\nContact
URL:https://www.winona.edu/about/event/stickers-design-workshop/
LOCATION:Design Production Lab (Watkins 114)\, 225 W King St\, Winona\, MN\, 55987\, United States
CATEGORIES:Academics,Art & Design Department,College of Liberal Arts,Colleges
ATTACH;FMTTYPE=image/jpeg:https://www.winona.edu/about/wp-content/uploads/sites/3/2024/12/WSU-students-arts-crafts-feature-2024-04-18.jpg
ORGANIZER;CN="Danilo Bojic":MAILTO:dbojic@winona.edu
END:VEVENT
END:VCALENDAR