BEGIN:VCALENDAR
VERSION:2.0
PRODID:-//About - ECPv6.15.16//NONSGML v1.0//EN
CALSCALE:GREGORIAN
METHOD:PUBLISH
X-WR-CALNAME:About
X-ORIGINAL-URL:https://www.winona.edu/about
X-WR-CALDESC:Events for About
REFRESH-INTERVAL;VALUE=DURATION:PT1H
X-Robots-Tag:noindex
X-PUBLISHED-TTL:PT1H
BEGIN:VTIMEZONE
TZID:US/Central
BEGIN:DAYLIGHT
TZOFFSETFROM:-0600
TZOFFSETTO:-0500
TZNAME:CDT
DTSTART:20230312T080000
END:DAYLIGHT
BEGIN:STANDARD
TZOFFSETFROM:-0500
TZOFFSETTO:-0600
TZNAME:CST
DTSTART:20231105T070000
END:STANDARD
BEGIN:DAYLIGHT
TZOFFSETFROM:-0600
TZOFFSETTO:-0500
TZNAME:CDT
DTSTART:20240310T080000
END:DAYLIGHT
BEGIN:STANDARD
TZOFFSETFROM:-0500
TZOFFSETTO:-0600
TZNAME:CST
DTSTART:20241103T070000
END:STANDARD
BEGIN:DAYLIGHT
TZOFFSETFROM:-0600
TZOFFSETTO:-0500
TZNAME:CDT
DTSTART:20250309T080000
END:DAYLIGHT
BEGIN:STANDARD
TZOFFSETFROM:-0500
TZOFFSETTO:-0600
TZNAME:CST
DTSTART:20251102T070000
END:STANDARD
BEGIN:DAYLIGHT
TZOFFSETFROM:-0600
TZOFFSETTO:-0500
TZNAME:CDT
DTSTART:20260308T080000
END:DAYLIGHT
BEGIN:STANDARD
TZOFFSETFROM:-0500
TZOFFSETTO:-0600
TZNAME:CST
DTSTART:20261101T070000
END:STANDARD
END:VTIMEZONE
BEGIN:VTIMEZONE
TZID:America/Chicago
BEGIN:DAYLIGHT
TZOFFSETFROM:-0600
TZOFFSETTO:-0500
TZNAME:CDT
DTSTART:20230312T080000
END:DAYLIGHT
BEGIN:STANDARD
TZOFFSETFROM:-0500
TZOFFSETTO:-0600
TZNAME:CST
DTSTART:20231105T070000
END:STANDARD
BEGIN:DAYLIGHT
TZOFFSETFROM:-0600
TZOFFSETTO:-0500
TZNAME:CDT
DTSTART:20240310T080000
END:DAYLIGHT
BEGIN:STANDARD
TZOFFSETFROM:-0500
TZOFFSETTO:-0600
TZNAME:CST
DTSTART:20241103T070000
END:STANDARD
BEGIN:DAYLIGHT
TZOFFSETFROM:-0600
TZOFFSETTO:-0500
TZNAME:CDT
DTSTART:20250309T080000
END:DAYLIGHT
BEGIN:STANDARD
TZOFFSETFROM:-0500
TZOFFSETTO:-0600
TZNAME:CST
DTSTART:20251102T070000
END:STANDARD
BEGIN:DAYLIGHT
TZOFFSETFROM:-0600
TZOFFSETTO:-0500
TZNAME:CDT
DTSTART:20260308T080000
END:DAYLIGHT
BEGIN:STANDARD
TZOFFSETFROM:-0500
TZOFFSETTO:-0600
TZNAME:CST
DTSTART:20261101T070000
END:STANDARD
END:VTIMEZONE
BEGIN:VEVENT
DTSTART;TZID=US/Central:20251122T193000
DTEND;TZID=US/Central:20251122T213000
DTSTAMP:20260424T135349
CREATED:20251003T151058Z
LAST-MODIFIED:20251031T155502Z
UID:10001290-1763839800-1763847000@www.winona.edu
SUMMARY:“I and You” Play
DESCRIPTION:Enjoy a performance of the play “I and You\,” directed by WSU’s Heather Williams-Williams and adapted for the stage by Lauren Gunderson. \n\n\n\n    Get Tickets to This Event\n\n\n\n\n\nVenue\n\n\n\n\n\nContact\n\n\n\n\n\nDisclaimer\n\n\n\nThe views and opinions expressed by the speakers and programs hosted at Winona State University do not necessarily reflect the views or positions of the university or of the Minnesota State Colleges & Universities system.
URL:https://www.winona.edu/about/event/i-and-you-play-nov-22/
LOCATION:Dorothy B. Magnus Black Box Theatre\, 450 Johnson St\, Winona\, MN\, 55987\, United States
CATEGORIES:Academics,Arts & Entertainment,College of Liberal Arts,Colleges,Student Life,Theatre & Dance Department
ATTACH;FMTTYPE=image/jpeg:https://www.winona.edu/about/wp-content/uploads/sites/3/2023/10/WSU_Actors-Theater-2022-11-14_204853.jpg
ORGANIZER;CN="Marybeth Lenhardt":MAILTO:mlenhardt@winona.edu
END:VEVENT
BEGIN:VEVENT
DTSTART;TZID=US/Central:20251121T193000
DTEND;TZID=US/Central:20251121T213000
DTSTAMP:20260424T135349
CREATED:20251003T151100Z
LAST-MODIFIED:20251031T155527Z
UID:10001289-1763753400-1763760600@www.winona.edu
SUMMARY:“I and You” Play
DESCRIPTION:Enjoy a performance of the play “I and You\,” directed by WSU’s Heather Williams-Williams and adapted for the stage by Lauren Gunderson. \n\n\n\n    Get Tickets to This Event\n\n\n\n\n\nVenue\n\n\n\n\n\nContact\n\n\n\n\n\nDisclaimer\n\n\n\nThe views and opinions expressed by the speakers and programs hosted at Winona State University do not necessarily reflect the views or positions of the university or of the Minnesota State Colleges & Universities system.
URL:https://www.winona.edu/about/event/i-and-you-play-nov-21/
LOCATION:Dorothy B. Magnus Black Box Theatre\, 450 Johnson St\, Winona\, MN\, 55987\, United States
CATEGORIES:Academics,Arts & Entertainment,College of Liberal Arts,Colleges,Student Life,Theatre & Dance Department
ATTACH;FMTTYPE=image/jpeg:https://www.winona.edu/about/wp-content/uploads/sites/3/2023/10/WSU_Actors-Theater-2022-11-14_204853.jpg
ORGANIZER;CN="Marybeth Lenhardt":MAILTO:mlenhardt@winona.edu
END:VEVENT
BEGIN:VEVENT
DTSTART;TZID=US/Central:20251120T193000
DTEND;TZID=US/Central:20251120T213000
DTSTAMP:20260424T135349
CREATED:20251003T151102Z
LAST-MODIFIED:20251031T155547Z
UID:10001288-1763667000-1763674200@www.winona.edu
SUMMARY:“I and You” Play
DESCRIPTION:Enjoy a performance of the play “I and You\,” directed by WSU’s Heather Williams-Williams and adapted for the stage by Lauren Gunderson. \n\n\n\n    Get Tickets to This Event\n\n\n\n\n\nVenue\n\n\n\n\n\nContact\n\n\n\n\n\nDisclaimer\n\n\n\nThe views and opinions expressed by the speakers and programs hosted at Winona State University do not necessarily reflect the views or positions of the university or of the Minnesota State Colleges & Universities system.
URL:https://www.winona.edu/about/event/i-and-you-play-nov-20/
LOCATION:Dorothy B. Magnus Black Box Theatre\, 450 Johnson St\, Winona\, MN\, 55987\, United States
CATEGORIES:Academics,Arts & Entertainment,College of Liberal Arts,Colleges,Student Life,Theatre & Dance Department
ATTACH;FMTTYPE=image/jpeg:https://www.winona.edu/about/wp-content/uploads/sites/3/2023/10/WSU_Actors-Theater-2022-11-14_204853.jpg
ORGANIZER;CN="Marybeth Lenhardt":MAILTO:mlenhardt@winona.edu
END:VEVENT
BEGIN:VEVENT
DTSTART;TZID=US/Central:20251119T193000
DTEND;TZID=US/Central:20251119T213000
DTSTAMP:20260424T135349
CREATED:20251003T151103Z
LAST-MODIFIED:20251031T155627Z
UID:10001287-1763580600-1763587800@www.winona.edu
SUMMARY:“I and You” Play
DESCRIPTION:Enjoy a performance of the play “I and You\,” directed by WSU’s Heather Williams-Williams and adapted for the stage by Lauren Gunderson. \n\n\n\n    Get Tickets to This Event\n\n\n\n\n\nVenue\n\n\n\n\n\nContact\n\n\n\n\n\nDisclaimer\n\n\n\nThe views and opinions expressed by the speakers and programs hosted at Winona State University do not necessarily reflect the views or positions of the university or of the Minnesota State Colleges & Universities system.
URL:https://www.winona.edu/about/event/i-and-you-play-nov-19/
LOCATION:Dorothy B. Magnus Black Box Theatre\, 450 Johnson St\, Winona\, MN\, 55987\, United States
CATEGORIES:Academics,Arts & Entertainment,College of Liberal Arts,Colleges,Student Life,Theatre & Dance Department
ATTACH;FMTTYPE=image/jpeg:https://www.winona.edu/about/wp-content/uploads/sites/3/2023/10/WSU_Actors-Theater-2022-11-14_204853.jpg
ORGANIZER;CN="Marybeth Lenhardt":MAILTO:mlenhardt@winona.edu
END:VEVENT
BEGIN:VEVENT
DTSTART;TZID=America/Chicago:20250414T153000
DTEND;TZID=America/Chicago:20250414T170000
DTSTAMP:20260424T135349
CREATED:20250218T230212Z
LAST-MODIFIED:20250218T230213Z
UID:10000580-1744644600-1744650000@www.winona.edu
SUMMARY:Trauma-Informed Panel on “Fun Home” & LGBTQIA+ Theatre
DESCRIPTION:Before our campus performs “Fun Home\,” join us on April 14 for a panel to discuss the play and LGBTQIA+ theatre. \n\n\n\nPanelists include: \n\n\n\n\nKara Eggers\, Intimacy Choreographer\n\n\n\nTL Jordan\, Instructor of Women’s\, Gender & Sexuality Studies\n\n\n\nMary Jo Klinker\, Professor of Women’s\, Gender & Sexuality Studies\n\n\n\nRieko Miyakuni\, Assistant Professor of Clinical Mental Health Counseling\n\n\n\n\nFollowing the panel\, enjoy pizza with the “Fun Home” cast and crew. \n\n\n\n\n\nVenue\n\n\n\n\n\nContact
URL:https://www.winona.edu/about/event/trauma-informed-panel-on-fun-home-lgbtqia-theatre/
LOCATION:Dorothy B. Magnus Black Box Theatre\, 450 Johnson St\, Winona\, MN\, 55987\, United States
CATEGORIES:Academics,Arts & Entertainment,College of Liberal Arts,Colleges,Housing & Dining,Student Life,Theatre & Dance Department,Women's, Gender & Sexuality Studies Department
ATTACH;FMTTYPE=image/jpeg:https://www.winona.edu/about/wp-content/uploads/sites/3/2023/10/WSU_Students-Event-2023-01-20_234236.jpg
END:VEVENT
BEGIN:VEVENT
DTSTART;TZID=America/Chicago:20250319T180000
DTEND;TZID=America/Chicago:20250319T203000
DTSTAMP:20260424T135349
CREATED:20250217T201133Z
LAST-MODIFIED:20250217T201134Z
UID:10000573-1742407200-1742416200@www.winona.edu
SUMMARY:"My Name Is Rachel Corrie" Reading
DESCRIPTION:In honor of Women’s History Month\, join us on March 19 for a reading of the play “My Name Is Rachel Corrie” (edited by Alan Rickman and Katharine Viner)\, with performances interspersed throughout. \n\n\n\nThis play excerpts the diaries of Rachel Corrie\, who was murdered in 2003 by Israeli forces while protecting a Palestinian family. \n\n\n\nOpening performances are by Sana Wazwaz and Andrea Shaker. There will be opportunities to learn about civic engagement at the end of the performance. \n\n\n\nDoors open at 5:30pm.   \n\n\n\nThis event is a collaboration between the Women’s\, Gender\, & Sexuality Studies and Theatre & Dance departments; The Cedar Tree Project; and Theatre Du Mississippi. \n\n\n\n\n\nVenue\n\n\n\n\n\nContact
URL:https://www.winona.edu/about/event/my-name-is-rachel-corrie-reading/
LOCATION:Dorothy B. Magnus Black Box Theatre\, 450 Johnson St\, Winona\, MN\, 55987\, United States
CATEGORIES:Academics,Arts & Entertainment,College of Liberal Arts,Colleges,Student Life,Theatre & Dance Department,Women's, Gender & Sexuality Studies Department
ATTACH;FMTTYPE=image/jpeg:https://www.winona.edu/about/wp-content/uploads/sites/3/2023/10/WSU_Students-Event-2023-01-20_234236.jpg
ORGANIZER;CN="Mary Jo Klinker":MAILTO:mklinker@winona.edu
END:VEVENT
BEGIN:VEVENT
DTSTART;TZID=US/Central:20241123T193000
DTEND;TZID=US/Central:20241123T210000
DTSTAMP:20260424T135349
CREATED:20250105T212217Z
LAST-MODIFIED:20250105T212218Z
UID:10000178-1732390200-1732395600@www.winona.edu
SUMMARY:“Tiny Beautiful Things” Performance
DESCRIPTION:On Nov. 23\, enjoy a free performance of “Tiny Beautiful Things\,” directed by WSU’s Jim Williams and adapted for the stage by Nia Vardalos. \n\n\n\nThis performance will be held in the Dorothy B. Magnus Black Box Theatre. \n\n\n\n\n\nVenue\n\n\n\n\n\nContact
URL:https://www.winona.edu/about/event/tiny-beautiful-things-performance-nov-23/
LOCATION:Dorothy B. Magnus Black Box Theatre\, 450 Johnson St\, Winona\, MN\, 55987\, United States
CATEGORIES:Academics,Arts & Entertainment,College of Liberal Arts,Colleges,Student Life,Theatre & Dance Department
ATTACH;FMTTYPE=image/jpeg:https://www.winona.edu/about/wp-content/uploads/sites/3/2025/01/WSU-female-student-actor-theater-performance-feature-2024-04-08.jpg
ORGANIZER;CN="Alisha Syrmopoulos":MAILTO:asyrmopoulos@winona.edu
END:VEVENT
BEGIN:VEVENT
DTSTART;TZID=US/Central:20241122T193000
DTEND;TZID=US/Central:20241122T210000
DTSTAMP:20260424T135349
CREATED:20250105T211946Z
LAST-MODIFIED:20250105T211946Z
UID:10000177-1732303800-1732309200@www.winona.edu
SUMMARY:“Tiny Beautiful Things” Performance
DESCRIPTION:On Nov. 22\, enjoy a free performance of “Tiny Beautiful Things\,” directed by WSU’s Jim Williams and adapted for the stage by Nia Vardalos. \n\n\n\nThis performance will be held in the Dorothy B. Magnus Black Box Theatre. \n\n\n\n\n\nVenue\n\n\n\n\n\nContact
URL:https://www.winona.edu/about/event/tiny-beautiful-things-performance-nov-22/
LOCATION:Dorothy B. Magnus Black Box Theatre\, 450 Johnson St\, Winona\, MN\, 55987\, United States
CATEGORIES:Academics,Arts & Entertainment,College of Liberal Arts,Colleges,Student Life,Theatre & Dance Department
ATTACH;FMTTYPE=image/jpeg:https://www.winona.edu/about/wp-content/uploads/sites/3/2025/01/WSU-female-student-actor-theater-performance-feature-2024-04-08.jpg
END:VEVENT
BEGIN:VEVENT
DTSTART;TZID=US/Central:20241121T193000
DTEND;TZID=US/Central:20241121T210000
DTSTAMP:20260424T135349
CREATED:20250105T201308Z
LAST-MODIFIED:20250105T201309Z
UID:10000175-1732217400-1732222800@www.winona.edu
SUMMARY:“Tiny Beautiful Things” Performance
DESCRIPTION:On Nov. 21\, enjoy a free performance of “Tiny Beautiful Things\,” directed by WSU’s Jim Williams and adapted for the stage by Nia Vardalos. \n\n\n\nThis performance will be held in the Dorothy B. Magnus Black Box Theatre. \n\n\n\n\n\nVenue\n\n\n\n\n\nContact
URL:https://www.winona.edu/about/event/tiny-beautiful-things-performance-nov-21/
LOCATION:Dorothy B. Magnus Black Box Theatre\, 450 Johnson St\, Winona\, MN\, 55987\, United States
CATEGORIES:Academics,Arts & Entertainment,College of Liberal Arts,Colleges,Student Life,Theatre & Dance Department
ATTACH;FMTTYPE=image/jpeg:https://www.winona.edu/about/wp-content/uploads/sites/3/2025/01/WSU-female-student-actor-theater-performance-feature-2024-04-08.jpg
END:VEVENT
BEGIN:VEVENT
DTSTART;TZID=US/Central:20241120T193000
DTEND;TZID=US/Central:20241120T210000
DTSTAMP:20260424T135349
CREATED:20250105T195053Z
LAST-MODIFIED:20250105T195053Z
UID:10000173-1732131000-1732136400@www.winona.edu
SUMMARY:“Tiny Beautiful Things” Performance
DESCRIPTION:On Nov. 20\, enjoy a free performance of “Tiny Beautiful Things\,” directed by WSU’s Jim Williams and adapted for the stage by Nia Vardalos. \n\n\n\nThis performance will be held in the Dorothy B. Magnus Black Box Theatre. \n\n\n\n\n\nVenue\n\n\n\n\n\nContact
URL:https://www.winona.edu/about/event/tiny-beautiful-things-performance-nov-20/
LOCATION:Dorothy B. Magnus Black Box Theatre\, 450 Johnson St\, Winona\, MN\, 55987\, United States
CATEGORIES:Academics,Arts & Entertainment,College of Liberal Arts,Colleges,Student Life,Theatre & Dance Department
ATTACH;FMTTYPE=image/jpeg:https://www.winona.edu/about/wp-content/uploads/sites/3/2025/01/WSU-female-student-actor-theater-performance-feature-2024-04-08.jpg
END:VEVENT
BEGIN:VEVENT
DTSTART;TZID=US/Central:20241019T150000
DTEND;TZID=US/Central:20241019T170000
DTSTAMP:20260424T135349
CREATED:20241231T162254Z
LAST-MODIFIED:20241231T162255Z
UID:10000122-1729350000-1729357200@www.winona.edu
SUMMARY:“Elephant & Piggie: We Are In a Play!” Performance
DESCRIPTION:On Oct. 19\, enjoy a free performance of “Elephant & Piggie: We Are In a Play!”\, directed by WSU’s Heather Williams-Williams. Books and lyrics are by Mo Willems and music is by Deborah Wicks La Puma. \n\n\n\nThis performance will be held in the Dorothy B. Magnus Theatre. \n\n\n\n\n\nVenue\n\n\n\n\n\nContact
URL:https://www.winona.edu/about/event/elephant-piggie-we-are-in-a-play-performance-oct-19-afternoon/
LOCATION:Dorothy B. Magnus Black Box Theatre\, 450 Johnson St\, Winona\, MN\, 55987\, United States
CATEGORIES:Academics,Arts & Entertainment,College of Liberal Arts,Colleges,Student Life,Theatre & Dance Department
ATTACH;FMTTYPE=image/jpeg:https://www.winona.edu/about/wp-content/uploads/sites/3/2023/10/WSU_Actors-Theater-2022-11-14_204853.jpg
END:VEVENT
BEGIN:VEVENT
DTSTART;TZID=US/Central:20241019T103000
DTEND;TZID=US/Central:20241019T123000
DTSTAMP:20260424T135349
CREATED:20241231T162200Z
LAST-MODIFIED:20241231T162202Z
UID:10000121-1729333800-1729341000@www.winona.edu
SUMMARY:“Elephant & Piggie: We Are In a Play!” Performance
DESCRIPTION:On Oct. 19\, enjoy a free performance of “Elephant & Piggie: We Are In a Play!”\, directed by WSU’s Heather Williams-Williams. Books and lyrics are by Mo Willems and music is by Deborah Wicks La Puma. \n\n\n\nThis performance will be held in the Dorothy B. Magnus Theatre. \n\n\n\n\n\nVenue\n\n\n\n\n\nContact
URL:https://www.winona.edu/about/event/elephant-piggie-we-are-in-a-play-performance-oct-19-morning/
LOCATION:Dorothy B. Magnus Black Box Theatre\, 450 Johnson St\, Winona\, MN\, 55987\, United States
CATEGORIES:Academics,Arts & Entertainment,College of Liberal Arts,Colleges,Student Life,Theatre & Dance Department
ATTACH;FMTTYPE=image/jpeg:https://www.winona.edu/about/wp-content/uploads/sites/3/2023/10/WSU_Actors-Theater-2022-11-14_204853.jpg
END:VEVENT
BEGIN:VEVENT
DTSTART;TZID=US/Central:20241018T190000
DTEND;TZID=US/Central:20241018T210000
DTSTAMP:20260424T135349
CREATED:20241231T160642Z
LAST-MODIFIED:20241231T160643Z
UID:10000120-1729278000-1729285200@www.winona.edu
SUMMARY:“Elephant & Piggie: We Are In a Play!” Performance
DESCRIPTION:On Oct. 18\, enjoy a free performance of “Elephant & Piggie: We Are In a Play!”\, directed by WSU’s Heather Williams-Williams. Books and lyrics are by Mo Willems and music is by Deborah Wicks La Puma. \n\n\n\nThis performance will be held in the Dorothy B. Magnus Theatre. \n\n\n\n\n\nVenue\n\n\n\n\n\nContact
URL:https://www.winona.edu/about/event/elephant-piggie-we-are-in-a-play-performance-oct-18/
LOCATION:Dorothy B. Magnus Black Box Theatre\, 450 Johnson St\, Winona\, MN\, 55987\, United States
CATEGORIES:Academics,Arts & Entertainment,College of Liberal Arts,Colleges,Student Life,Theatre & Dance Department
ATTACH;FMTTYPE=image/jpeg:https://www.winona.edu/about/wp-content/uploads/sites/3/2023/10/WSU_Actors-Theater-2022-11-14_204853.jpg
END:VEVENT
BEGIN:VEVENT
DTSTART;TZID=US/Central:20241017T190000
DTEND;TZID=US/Central:20241017T210000
DTSTAMP:20260424T135349
CREATED:20241231T155723Z
LAST-MODIFIED:20241231T155725Z
UID:10000119-1729191600-1729198800@www.winona.edu
SUMMARY:“Elephant & Piggie: We Are In a Play!” Performance
DESCRIPTION:On Oct. 17\, enjoy a free performance of “Elephant & Piggie: We Are In a Play!”\, directed by WSU’s Heather Williams-Williams. Books and lyrics are by Mo Willems and music is by Deborah Wicks La Puma. \n\n\n\nThis performance will be held in the Dorothy B. Magnus Theatre. \n\n\n\n\n\nVenue\n\n\n\n\n\nContact
URL:https://www.winona.edu/about/event/elephant-piggie-we-are-in-a-play-performance-oct-17/
LOCATION:Dorothy B. Magnus Black Box Theatre\, 450 Johnson St\, Winona\, MN\, 55987\, United States
CATEGORIES:Academics,Arts & Entertainment,College of Liberal Arts,Colleges,Student Life,Theatre & Dance Department
ATTACH;FMTTYPE=image/jpeg:https://www.winona.edu/about/wp-content/uploads/sites/3/2023/10/WSU_Actors-Theater-2022-11-14_204853.jpg
END:VEVENT
BEGIN:VEVENT
DTSTART;TZID=US/Central:20241016T190000
DTEND;TZID=US/Central:20241016T210000
DTSTAMP:20260424T135349
CREATED:20241231T154332Z
LAST-MODIFIED:20241231T154333Z
UID:10000114-1729105200-1729112400@www.winona.edu
SUMMARY:"Elephant & Piggie: We Are In a Play!" Performance
DESCRIPTION:On Oct. 16\, enjoy a free performance of “Elephant & Piggie: We Are In a Play!”\, directed by WSU’s Heather Williams-Williams. Books and lyrics are by Mo Willems and music is by Deborah Wicks La Puma. \n\n\n\nThis performance will be held in the Dorothy B. Magnus Theatre. \n\n\n\n\n\nVenue\n\n\n\n\n\nContact
URL:https://www.winona.edu/about/event/elephant-piggie-we-are-in-a-play-performance-oct-16/
LOCATION:Dorothy B. Magnus Black Box Theatre\, 450 Johnson St\, Winona\, MN\, 55987\, United States
CATEGORIES:Academics,Arts & Entertainment,College of Liberal Arts,Colleges,Student Life,Theatre & Dance Department
ATTACH;FMTTYPE=image/jpeg:https://www.winona.edu/about/wp-content/uploads/sites/3/2023/10/WSU_Actors-Theater-2022-11-14_204853.jpg
END:VEVENT
BEGIN:VEVENT
DTSTART;TZID=America/Chicago:20240914T193000
DTEND;TZID=America/Chicago:20240914T210000
DTSTAMP:20260424T135349
CREATED:20241230T195103Z
LAST-MODIFIED:20241230T195104Z
UID:10000261-1726342200-1726347600@www.winona.edu
SUMMARY:"Alabaster" Performance
DESCRIPTION:Enjoy “Alabaster\,” a play written by Audrey Cefaly and directed by WSU’s Heather Williams-Williams. \n\n\n\nThis performance will be held in the Dorothy B. Magnus Theatre. \n\n\n\n    Learn More about Theatre\n\n\n\n\n\nVenue\n\n\n\n\n\nContact
URL:https://www.winona.edu/about/event/alabaster-performance-september-14/
LOCATION:Dorothy B. Magnus Black Box Theatre\, 450 Johnson St\, Winona\, MN\, 55987\, United States
CATEGORIES:Academics,Arts & Entertainment,College of Liberal Arts,Colleges,Student Life,Theatre & Dance Department
ATTACH;FMTTYPE=image/jpeg:https://www.winona.edu/about/wp-content/uploads/sites/3/2023/10/WSU_Actors-Theater-2022-11-14_204853.jpg
ORGANIZER;CN="Alisha Syrmopoulos":MAILTO:asyrmopoulos@winona.edu
END:VEVENT
BEGIN:VEVENT
DTSTART;TZID=America/Chicago:20240913T193000
DTEND;TZID=America/Chicago:20240913T210000
DTSTAMP:20260424T135349
CREATED:20241230T194745Z
LAST-MODIFIED:20241230T194746Z
UID:10000258-1726255800-1726261200@www.winona.edu
SUMMARY:"Alabaster" Performance
DESCRIPTION:Enjoy “Alabaster\,” a play written by Audrey Cefaly and directed by WSU’s Heather Williams-Williams. \n\n\n\nThis performance will be held in the Dorothy B. Magnus Theatre. \n\n\n\n    Learn More about Theatre\n\n\n\n\n\nVenue\n\n\n\n\n\nContact
URL:https://www.winona.edu/about/event/alabaster-performance-september-13/
LOCATION:Dorothy B. Magnus Black Box Theatre\, 450 Johnson St\, Winona\, MN\, 55987\, United States
CATEGORIES:Academics,Arts & Entertainment,College of Liberal Arts,Colleges,Student Life,Theatre & Dance Department
ATTACH;FMTTYPE=image/jpeg:https://www.winona.edu/about/wp-content/uploads/sites/3/2023/10/WSU_Actors-Theater-2022-11-14_204853.jpg
ORGANIZER;CN="Alisha Syrmopoulos":MAILTO:asyrmopoulos@winona.edu
END:VEVENT
END:VCALENDAR