BEGIN:VCALENDAR
VERSION:2.0
PRODID:-//About - ECPv6.15.16//NONSGML v1.0//EN
CALSCALE:GREGORIAN
METHOD:PUBLISH
X-WR-CALNAME:About
X-ORIGINAL-URL:https://www.winona.edu/about
X-WR-CALDESC:Events for About
REFRESH-INTERVAL;VALUE=DURATION:PT1H
X-Robots-Tag:noindex
X-PUBLISHED-TTL:PT1H
BEGIN:VTIMEZONE
TZID:America/Chicago
BEGIN:DAYLIGHT
TZOFFSETFROM:-0600
TZOFFSETTO:-0500
TZNAME:CDT
DTSTART:20240310T080000
END:DAYLIGHT
BEGIN:STANDARD
TZOFFSETFROM:-0500
TZOFFSETTO:-0600
TZNAME:CST
DTSTART:20241103T070000
END:STANDARD
BEGIN:DAYLIGHT
TZOFFSETFROM:-0600
TZOFFSETTO:-0500
TZNAME:CDT
DTSTART:20250309T080000
END:DAYLIGHT
BEGIN:STANDARD
TZOFFSETFROM:-0500
TZOFFSETTO:-0600
TZNAME:CST
DTSTART:20251102T070000
END:STANDARD
BEGIN:DAYLIGHT
TZOFFSETFROM:-0600
TZOFFSETTO:-0500
TZNAME:CDT
DTSTART:20260308T080000
END:DAYLIGHT
BEGIN:STANDARD
TZOFFSETFROM:-0500
TZOFFSETTO:-0600
TZNAME:CST
DTSTART:20261101T070000
END:STANDARD
END:VTIMEZONE
BEGIN:VEVENT
DTSTART;TZID=America/Chicago:20250807T110000
DTEND;TZID=America/Chicago:20250807T203000
DTSTAMP:20260424T195449
CREATED:20250512T151934Z
LAST-MODIFIED:20250512T151935Z
UID:10000859-1754564400-1754598600@www.winona.edu
SUMMARY:WSU-Rochester Thursdays Downtown Booth
DESCRIPTION:On Aug. 7\, join WSU-Rochester at Thursdays Downtown\, a free\, block-party-style event that combines arts\, music\, food\, and a vendor market. \n\n\n\nThe WSU-R campus is sponsoring a music stage during the evening and will have a booth where you can score WSU-Rochester swag\, learn about transfer resources\, and connect with WSU-R staff. \n\n\n\n\n\nVenue\n\n\n\n\n\nContact
URL:https://www.winona.edu/about/event/wsu-rochester-thursdays-downtown-booth-aug-07/
LOCATION:Massey Building\, 202 1st Ave SW\, Rochester\, MN\, 55902\, United States
CATEGORIES:Student Life
ATTACH;FMTTYPE=image/jpeg:https://www.winona.edu/about/wp-content/uploads/sites/3/2025/05/WSU-student-community-member-booth-feature-2024-10-12.jpg
ORGANIZER;CN="WSU-Rochester":MAILTO:wsurochester@winona.edu
END:VEVENT
BEGIN:VEVENT
DTSTART;TZID=America/Chicago:20250612T110000
DTEND;TZID=America/Chicago:20250612T203000
DTSTAMP:20260424T195449
CREATED:20250512T151944Z
LAST-MODIFIED:20250512T151945Z
UID:10000858-1749726000-1749760200@www.winona.edu
SUMMARY:WSU-Rochester Thursdays Downtown Booth
DESCRIPTION:On June 12\, join WSU-Rochester at Thursdays Downtown\, a free\, block-party-style event that combines arts\, music\, food\, and a vendor market. \n\n\n\nThe WSU-R campus is sponsoring a music stage during the evening and will have a booth where you can score WSU-Rochester swag\, learn about transfer resources\, and connect with WSU-R staff. \n\n\n\n\n\nVenue\n\n\n\n\n\nContact
URL:https://www.winona.edu/about/event/wsu-rochester-thursdays-downtown-booth-june-12/
LOCATION:Massey Building\, 202 1st Ave SW\, Rochester\, MN\, 55902\, United States
CATEGORIES:Student Life
ATTACH;FMTTYPE=image/jpeg:https://www.winona.edu/about/wp-content/uploads/sites/3/2025/05/WSU-student-community-member-booth-feature-2024-10-12.jpg
ORGANIZER;CN="WSU-Rochester":MAILTO:wsurochester@winona.edu
END:VEVENT
END:VCALENDAR