BEGIN:VCALENDAR
VERSION:2.0
PRODID:-//About - ECPv6.15.16//NONSGML v1.0//EN
CALSCALE:GREGORIAN
METHOD:PUBLISH
X-ORIGINAL-URL:https://www.winona.edu/about
X-WR-CALDESC:Events for About
REFRESH-INTERVAL;VALUE=DURATION:PT1H
X-Robots-Tag:noindex
X-PUBLISHED-TTL:PT1H
BEGIN:VTIMEZONE
TZID:America/Chicago
BEGIN:DAYLIGHT
TZOFFSETFROM:-0600
TZOFFSETTO:-0500
TZNAME:CDT
DTSTART:20240310T080000
END:DAYLIGHT
BEGIN:STANDARD
TZOFFSETFROM:-0500
TZOFFSETTO:-0600
TZNAME:CST
DTSTART:20241103T070000
END:STANDARD
BEGIN:DAYLIGHT
TZOFFSETFROM:-0600
TZOFFSETTO:-0500
TZNAME:CDT
DTSTART:20250309T080000
END:DAYLIGHT
BEGIN:STANDARD
TZOFFSETFROM:-0500
TZOFFSETTO:-0600
TZNAME:CST
DTSTART:20251102T070000
END:STANDARD
BEGIN:DAYLIGHT
TZOFFSETFROM:-0600
TZOFFSETTO:-0500
TZNAME:CDT
DTSTART:20260308T080000
END:DAYLIGHT
BEGIN:STANDARD
TZOFFSETFROM:-0500
TZOFFSETTO:-0600
TZNAME:CST
DTSTART:20261101T070000
END:STANDARD
END:VTIMEZONE
BEGIN:VEVENT
DTSTART;TZID=America/Chicago:20251007T143000
DTEND;TZID=America/Chicago:20251007T160000
DTSTAMP:20260424T211213
CREATED:20250717T144806Z
LAST-MODIFIED:20250717T144807Z
UID:10000960-1759847400-1759852800@www.winona.edu
SUMMARY:Senior University: Hot Topics That Politicians Don’t Want to Talk About 
DESCRIPTION:On Oct. 7\, join us for the final part of this 5-part Senior University class to discuss timely political topics in a Socrates Café-style format. \n\n\n\nLed by Richard Shields\, this session will focus on the group’s chosen topic of discussion. \n\n\n\nYou will conduct your own research and have the chance to present your position to the group.  \n\n\n\nThe course fee of $40 covers all 5 class meetings. \n\n\n\nThis class is for older adults only. \n\n\n\n    Register for This Class\n\n\n\n\n\nVenue\n\n\n\n\n\nContact
URL:https://www.winona.edu/about/event/senior-university-hot-topics-that-politicians-dont-want-to-talk-about-oct-7/
LOCATION:Maxwell 239\, 170 W 8th St\, Winona\, MN\, 55987\, United States
CATEGORIES:About,Leadership & Administration
ATTACH;FMTTYPE=image/jpeg:https://www.winona.edu/about/wp-content/uploads/sites/3/2024/12/WSU-political-science-vote-stickers-feature-2016-09-26.jpg
ORGANIZER;CN="Jess Kauphusman":MAILTO:jkauphusman@winona.edu
END:VEVENT
BEGIN:VEVENT
DTSTART;TZID=America/Chicago:20250930T143000
DTEND;TZID=America/Chicago:20250930T160000
DTSTAMP:20260424T211213
CREATED:20250717T144731Z
LAST-MODIFIED:20250717T144732Z
UID:10000959-1759242600-1759248000@www.winona.edu
SUMMARY:Senior University: Hot Topics That Politicians Don’t Want to Talk About 
DESCRIPTION:On Sept. 30\, join us for the fourth part of this 5-part Senior University class to discuss timely political topics in a Socrates Café-style format. \n\n\n\nLed by Richard Shields\, this session will focus on the group’s chosen topic of discussion. \n\n\n\nYou will conduct your own research and have the chance to present your position to the group.  \n\n\n\nThe course fee of $40 covers all 5 class meetings. \n\n\n\nThis class is for older adults only. \n\n\n\n    Register for This Class\n\n\n\n\n\nVenue\n\n\n\n\n\nContact
URL:https://www.winona.edu/about/event/senior-university-hot-topics-that-politicians-dont-want-to-talk-about-sept-30/
LOCATION:Maxwell 239\, 170 W 8th St\, Winona\, MN\, 55987\, United States
CATEGORIES:About,Leadership & Administration
ATTACH;FMTTYPE=image/jpeg:https://www.winona.edu/about/wp-content/uploads/sites/3/2024/12/WSU-political-science-vote-stickers-feature-2016-09-26.jpg
ORGANIZER;CN="Jess Kauphusman":MAILTO:jkauphusman@winona.edu
END:VEVENT
BEGIN:VEVENT
DTSTART;TZID=America/Chicago:20250923T143000
DTEND;TZID=America/Chicago:20250923T160000
DTSTAMP:20260424T211213
CREATED:20250717T144709Z
LAST-MODIFIED:20250717T144710Z
UID:10000958-1758637800-1758643200@www.winona.edu
SUMMARY:Senior University: Hot Topics That Politicians Don’t Want to Talk About 
DESCRIPTION:On Sept. 23\, join us for the third part of this 5-part Senior University class to discuss timely political topics in a Socrates Café-style format. \n\n\n\nLed by Richard Shields\, this session will focus on the group’s chosen topic of discussion. \n\n\n\nYou will conduct your own research and have the chance to present your position to the group.  \n\n\n\nThe course fee of $40 covers all 5 class meetings. \n\n\n\nThis class is for older adults only. \n\n\n\n    Register for This Class\n\n\n\n\n\nVenue\n\n\n\n\n\nContact
URL:https://www.winona.edu/about/event/senior-university-hot-topics-that-politicians-dont-want-to-talk-about-sept-23/
LOCATION:Maxwell 239\, 170 W 8th St\, Winona\, MN\, 55987\, United States
CATEGORIES:About,Leadership & Administration
ATTACH;FMTTYPE=image/jpeg:https://www.winona.edu/about/wp-content/uploads/sites/3/2024/12/WSU-political-science-vote-stickers-feature-2016-09-26.jpg
ORGANIZER;CN="Jess Kauphusman":MAILTO:jkauphusman@winona.edu
END:VEVENT
BEGIN:VEVENT
DTSTART;TZID=America/Chicago:20250918T143000
DTEND;TZID=America/Chicago:20250918T160000
DTSTAMP:20260424T211213
CREATED:20250717T150640Z
LAST-MODIFIED:20250730T202258Z
UID:10000955-1758205800-1758211200@www.winona.edu
SUMMARY:Senior University: Genealogical Resilience\, Integrity & Tenacity (GRIT)
DESCRIPTION:On Sept. 18\, join us for the final part of this 4-part Senior University class to discuss overcoming obstacles when researching genealogy. \n\n\n\nTaught by genealogical researcher Janis Martin\, class topics include finding new resources\, exploring updated databases\, and questioning what you already know. \n\n\n\nThe course fee of $40 covers all 4 class meetings. \n\n\n\nThis class is for older adults only. \n\n\n\n    Register for This Class\n\n\n\n\n\nVenue\n\n\n\n\n\nContact
URL:https://www.winona.edu/about/event/senior-university-grit-genealogical-resilience-integrity-tenacity-sept-18/
LOCATION:Maxwell 239\, 170 W 8th St\, Winona\, MN\, 55987\, United States
CATEGORIES:About,Leadership & Administration
ATTACH;FMTTYPE=image/jpeg:https://www.winona.edu/about/wp-content/uploads/sites/3/2025/07/WSU_Older-Adults-Event-2018-06-20.jpg
ORGANIZER;CN="Jess Kauphusman":MAILTO:jkauphusman@winona.edu
END:VEVENT
BEGIN:VEVENT
DTSTART;TZID=America/Chicago:20250916T143000
DTEND;TZID=America/Chicago:20250916T160000
DTSTAMP:20260424T211213
CREATED:20250717T144646Z
LAST-MODIFIED:20250717T144646Z
UID:10000957-1758033000-1758038400@www.winona.edu
SUMMARY:Senior University: Hot Topics That Politicians Don’t Want to Talk About 
DESCRIPTION:On Sept. 16\, join us for the second part of this 5-part Senior University class to discuss timely political topics in a Socrates Café-style format. \n\n\n\nLed by Richard Shields\, this session will focus on the group’s chosen topic of discussion. \n\n\n\nYou will conduct your own research and have the chance to present your position to the group.  \n\n\n\nThe course fee of $40 covers all 5 class meetings. \n\n\n\nThis class is for older adults only. \n\n\n\n    Register for This Class\n\n\n\n\n\nVenue\n\n\n\n\n\nContact
URL:https://www.winona.edu/about/event/senior-university-hot-topics-that-politicians-dont-want-to-talk-about-sept-16/
LOCATION:Maxwell 239\, 170 W 8th St\, Winona\, MN\, 55987\, United States
CATEGORIES:About,Leadership & Administration
ATTACH;FMTTYPE=image/jpeg:https://www.winona.edu/about/wp-content/uploads/sites/3/2024/12/WSU-political-science-vote-stickers-feature-2016-09-26.jpg
ORGANIZER;CN="Jess Kauphusman":MAILTO:jkauphusman@winona.edu
END:VEVENT
BEGIN:VEVENT
DTSTART;TZID=America/Chicago:20250911T143000
DTEND;TZID=America/Chicago:20250911T160000
DTSTAMP:20260424T211213
CREATED:20250717T150621Z
LAST-MODIFIED:20250730T202314Z
UID:10000954-1757601000-1757606400@www.winona.edu
SUMMARY:Senior University: Genealogical Resilience\, Integrity & Tenacity (GRIT)
DESCRIPTION:On Sept. 11\, join us for the third part of this 4-part Senior University class to discuss overcoming obstacles when researching genealogy. \n\n\n\nTaught by genealogical researcher Janis Martin\, class topics include finding new resources\, exploring updated databases\, and questioning what you already know. \n\n\n\nThe course fee of $40 covers all 4 class meetings. \n\n\n\nThis class is for older adults only. \n\n\n\n    Register for This Class\n\n\n\n\n\nVenue\n\n\n\n\n\nContact
URL:https://www.winona.edu/about/event/senior-university-grit-genealogical-resilience-integrity-tenacity-sept-11/
LOCATION:Maxwell 239\, 170 W 8th St\, Winona\, MN\, 55987\, United States
CATEGORIES:About,Leadership & Administration
ATTACH;FMTTYPE=image/jpeg:https://www.winona.edu/about/wp-content/uploads/sites/3/2025/07/WSU_Older-Adults-Event-2018-06-20.jpg
ORGANIZER;CN="Jess Kauphusman":MAILTO:jkauphusman@winona.edu
END:VEVENT
BEGIN:VEVENT
DTSTART;TZID=America/Chicago:20250909T143000
DTEND;TZID=America/Chicago:20250909T160000
DTSTAMP:20260424T211213
CREATED:20250717T144622Z
LAST-MODIFIED:20250717T144623Z
UID:10000956-1757428200-1757433600@www.winona.edu
SUMMARY:Senior University: Hot Topics That Politicians Don’t Want to Talk About 
DESCRIPTION:On Sept. 9\, join us for the first part of this 5-part Senior University class to discuss timely political topics in a Socrates Café-style format. \n\n\n\nLed by Richard Shields\, this session will focus on the topic of “Changing Demographics.” \n\n\n\nYou will conduct your own research and have the chance to present your position to the group.  \n\n\n\nThe course fee of $40 covers all 5 class meetings. \n\n\n\nThis class is for older adults only. \n\n\n\n    Register for This Class\n\n\n\n\n\nVenue\n\n\n\n\n\nContact
URL:https://www.winona.edu/about/event/senior-university-hot-topics-that-politicians-dont-want-to-talk-about-sept-9/
LOCATION:Maxwell 239\, 170 W 8th St\, Winona\, MN\, 55987\, United States
CATEGORIES:About,Leadership & Administration
ATTACH;FMTTYPE=image/jpeg:https://www.winona.edu/about/wp-content/uploads/sites/3/2024/12/WSU-political-science-vote-stickers-feature-2016-09-26.jpg
ORGANIZER;CN="Jess Kauphusman":MAILTO:jkauphusman@winona.edu
END:VEVENT
BEGIN:VEVENT
DTSTART;TZID=America/Chicago:20250904T143000
DTEND;TZID=America/Chicago:20250904T160000
DTSTAMP:20260424T211213
CREATED:20250717T150601Z
LAST-MODIFIED:20250730T202324Z
UID:10000953-1756996200-1757001600@www.winona.edu
SUMMARY:Senior University: Genealogical Resilience\, Integrity & Tenacity (GRIT)
DESCRIPTION:On Sept. 4\, join us for the second part of this 4-part Senior University class to discuss overcoming obstacles when researching genealogy. \n\n\n\nTaught by genealogical researcher Janis Martin\, class topics include finding new resources\, exploring updated databases\, and questioning what you already know. \n\n\n\nThe course fee of $40 covers all 4 class meetings. \n\n\n\nThis class is for older adults only. \n\n\n\n    Register for This Class\n\n\n\n\n\nVenue\n\n\n\n\n\nContact
URL:https://www.winona.edu/about/event/senior-university-grit-genealogical-resilience-integrity-tenacity-sept-4/
LOCATION:Maxwell 239\, 170 W 8th St\, Winona\, MN\, 55987\, United States
CATEGORIES:About,Leadership & Administration
ATTACH;FMTTYPE=image/jpeg:https://www.winona.edu/about/wp-content/uploads/sites/3/2025/07/WSU_Older-Adults-Event-2018-06-20.jpg
ORGANIZER;CN="Jess Kauphusman":MAILTO:jkauphusman@winona.edu
END:VEVENT
BEGIN:VEVENT
DTSTART;TZID=America/Chicago:20250828T143000
DTEND;TZID=America/Chicago:20250828T160000
DTSTAMP:20260424T211213
CREATED:20250717T150543Z
LAST-MODIFIED:20250730T202336Z
UID:10000952-1756391400-1756396800@www.winona.edu
SUMMARY:Senior University: Genealogical Resilience\, Integrity & Tenacity (GRIT)
DESCRIPTION:On Aug. 28\, join us for the first part of this 4-part Senior University class to discuss overcoming obstacles when researching genealogy. \n\n\n\nTaught by genealogical researcher Janis Martin\, class topics include finding new resources\, exploring updated databases\, and questioning what you already know. \n\n\n\nThe course fee of $40 covers all 4 class meetings. \n\n\n\nThis class is for older adults only. \n\n\n\n    Register for This Class\n\n\n\n\n\nVenue\n\n\n\n\n\nContact
URL:https://www.winona.edu/about/event/senior-university-grit-genealogical-resilience-integrity-tenacity-aug-28/
LOCATION:Maxwell 239\, 170 W 8th St\, Winona\, MN\, 55987\, United States
CATEGORIES:About,Leadership & Administration
ATTACH;FMTTYPE=image/jpeg:https://www.winona.edu/about/wp-content/uploads/sites/3/2025/07/WSU_Older-Adults-Event-2018-06-20.jpg
ORGANIZER;CN="Jess Kauphusman":MAILTO:jkauphusman@winona.edu
END:VEVENT
END:VCALENDAR