BEGIN:VCALENDAR
VERSION:2.0
PRODID:-//About - ECPv6.15.16//NONSGML v1.0//EN
CALSCALE:GREGORIAN
METHOD:PUBLISH
X-WR-CALNAME:About
X-ORIGINAL-URL:https://www.winona.edu/about
X-WR-CALDESC:Events for About
REFRESH-INTERVAL;VALUE=DURATION:PT1H
X-Robots-Tag:noindex
X-PUBLISHED-TTL:PT1H
BEGIN:VTIMEZONE
TZID:America/Chicago
BEGIN:DAYLIGHT
TZOFFSETFROM:-0600
TZOFFSETTO:-0500
TZNAME:CDT
DTSTART:20250309T080000
END:DAYLIGHT
BEGIN:STANDARD
TZOFFSETFROM:-0500
TZOFFSETTO:-0600
TZNAME:CST
DTSTART:20251102T070000
END:STANDARD
BEGIN:DAYLIGHT
TZOFFSETFROM:-0600
TZOFFSETTO:-0500
TZNAME:CDT
DTSTART:20260308T080000
END:DAYLIGHT
BEGIN:STANDARD
TZOFFSETFROM:-0500
TZOFFSETTO:-0600
TZNAME:CST
DTSTART:20261101T070000
END:STANDARD
BEGIN:DAYLIGHT
TZOFFSETFROM:-0600
TZOFFSETTO:-0500
TZNAME:CDT
DTSTART:20270314T080000
END:DAYLIGHT
BEGIN:STANDARD
TZOFFSETFROM:-0500
TZOFFSETTO:-0600
TZNAME:CST
DTSTART:20271107T070000
END:STANDARD
END:VTIMEZONE
BEGIN:VEVENT
DTSTART;TZID=America/Chicago:20260423T140000
DTEND;TZID=America/Chicago:20260423T153000
DTSTAMP:20260424T150024
CREATED:20260127T165658Z
LAST-MODIFIED:20260127T165659Z
UID:10001491-1776952800-1776958200@www.winona.edu
SUMMARY:Senior University: Adventures in Fermentation
DESCRIPTION:Dive into the science and culture of fermentation\, from everyday foods to surprising industrial products. \n\n\n\nTaught by chemist Dr. Jennifer Zemke\, this final session will also discuss how fermentation is used around the world. \n\n\n\nThis Senior University class is 5 sessions total\, and the course fee of $40 covers all 5 class meetings. \n\n\n\nThis class is for older adults only. \n\n\n\n    Register for This Class\n\n\n\n\n\nVenue\n\n\n\n\n\nContact\n\n\n\n\n\nDisclaimer\n\n\n\nThe views and opinions expressed by the speakers and programs hosted at Winona State University do not necessarily reflect the views or positions of the university or of the Minnesota State Colleges & Universities system.
URL:https://www.winona.edu/about/event/senior-university-adventures-in-fermentation-april-23/
LOCATION:Maxwell 287\, 170 W 8th St\, Winona\, MN\, 55987\, United States
CATEGORIES:About,Leadership & Administration
ATTACH;FMTTYPE=image/jpeg:https://www.winona.edu/about/wp-content/uploads/sites/3/2024/11/WSU-student-chemistry-beakers-feature-2019-02-01.jpg
ORGANIZER;CN="Jess Kauphusman":MAILTO:jkauphusman@winona.edu
END:VEVENT
BEGIN:VEVENT
DTSTART;TZID=America/Chicago:20260416T140000
DTEND;TZID=America/Chicago:20260416T153000
DTSTAMP:20260424T150024
CREATED:20260127T165700Z
LAST-MODIFIED:20260127T165701Z
UID:10001490-1776348000-1776353400@www.winona.edu
SUMMARY:Senior University: Adventures in Fermentation
DESCRIPTION:Dive into the science and culture of fermentation\, from everyday foods to surprising industrial products. \n\n\n\nTaught by chemist Dr. Jennifer Zemke\, this fourth session will also discuss how fermentation is used around the world. \n\n\n\nThis Senior University class is 5 sessions total\, and the course fee of $40 covers all 5 class meetings. \n\n\n\nThis class is for older adults only. \n\n\n\n    Register for This Class\n\n\n\n\n\nVenue\n\n\n\n\n\nContact\n\n\n\n\n\nDisclaimer\n\n\n\nThe views and opinions expressed by the speakers and programs hosted at Winona State University do not necessarily reflect the views or positions of the university or of the Minnesota State Colleges & Universities system.
URL:https://www.winona.edu/about/event/senior-university-adventures-in-fermentation-april-16/
LOCATION:Maxwell 287\, 170 W 8th St\, Winona\, MN\, 55987\, United States
CATEGORIES:About,Leadership & Administration
ATTACH;FMTTYPE=image/jpeg:https://www.winona.edu/about/wp-content/uploads/sites/3/2024/11/WSU-student-chemistry-beakers-feature-2019-02-01.jpg
ORGANIZER;CN="Jess Kauphusman":MAILTO:jkauphusman@winona.edu
END:VEVENT
BEGIN:VEVENT
DTSTART;TZID=America/Chicago:20260409T140000
DTEND;TZID=America/Chicago:20260409T153000
DTSTAMP:20260424T150024
CREATED:20260127T165702Z
LAST-MODIFIED:20260127T165703Z
UID:10001489-1775743200-1775748600@www.winona.edu
SUMMARY:Senior University: Adventures in Fermentation
DESCRIPTION:Dive into the science and culture of fermentation\, from everyday foods to surprising industrial products. \n\n\n\nTaught by chemist Dr. Jennifer Zemke\, this third session will also discuss how fermentation is used around the world. \n\n\n\nThis Senior University class is 5 sessions total\, and the course fee of $40 covers all 5 class meetings. \n\n\n\nThis class is for older adults only. \n\n\n\n    Register for This Class\n\n\n\n\n\nVenue\n\n\n\n\n\nContact\n\n\n\n\n\nDisclaimer\n\n\n\nThe views and opinions expressed by the speakers and programs hosted at Winona State University do not necessarily reflect the views or positions of the university or of the Minnesota State Colleges & Universities system.
URL:https://www.winona.edu/about/event/senior-university-adventures-in-fermentation/
LOCATION:Maxwell 287\, 170 W 8th St\, Winona\, MN\, 55987\, United States
CATEGORIES:About,Leadership & Administration
ATTACH;FMTTYPE=image/jpeg:https://www.winona.edu/about/wp-content/uploads/sites/3/2024/11/WSU-student-chemistry-beakers-feature-2019-02-01.jpg
ORGANIZER;CN="Jess Kauphusman":MAILTO:jkauphusman@winona.edu
END:VEVENT
BEGIN:VEVENT
DTSTART;TZID=America/Chicago:20260402T140000
DTEND;TZID=America/Chicago:20260402T153000
DTSTAMP:20260424T150024
CREATED:20260127T165704Z
LAST-MODIFIED:20260127T165705Z
UID:10001488-1775138400-1775143800@www.winona.edu
SUMMARY:Senior University: Adventures in Fermentation
DESCRIPTION:Dive into the science and culture of fermentation\, from everyday foods to surprising industrial products. \n\n\n\nTaught by chemist Dr. Jennifer Zemke\, this second session will also discuss how fermentation is used around the world. \n\n\n\nThis Senior University class is 5 sessions total\, and the course fee of $40 covers all 5 class meetings. \n\n\n\nThis class is for older adults only. \n\n\n\n    Register for This Class\n\n\n\n\n\nVenue\n\n\n\n\n\nContact\n\n\n\n\n\nDisclaimer\n\n\n\nThe views and opinions expressed by the speakers and programs hosted at Winona State University do not necessarily reflect the views or positions of the university or of the Minnesota State Colleges & Universities system.
URL:https://www.winona.edu/about/event/senior-university-adventures-in-fermentation-april-2/
LOCATION:Maxwell 287\, 170 W 8th St\, Winona\, MN\, 55987\, United States
CATEGORIES:About,Leadership & Administration
ATTACH;FMTTYPE=image/jpeg:https://www.winona.edu/about/wp-content/uploads/sites/3/2024/11/WSU-student-chemistry-beakers-feature-2019-02-01.jpg
ORGANIZER;CN="Jess Kauphusman":MAILTO:jkauphusman@winona.edu
END:VEVENT
BEGIN:VEVENT
DTSTART;TZID=America/Chicago:20260326T140000
DTEND;TZID=America/Chicago:20260326T153000
DTSTAMP:20260424T150024
CREATED:20260127T165735Z
LAST-MODIFIED:20260127T165736Z
UID:10001455-1774533600-1774539000@www.winona.edu
SUMMARY:Senior University: Adventures in Fermentation
DESCRIPTION:Dive into the science and culture of fermentation\, from everyday foods to surprising industrial products. \n\n\n\nTaught by chemist Dr. Jennifer Zemke\, this first session will also discuss how fermentation is used around the world. \n\n\n\nThis Senior University class is 5 sessions total\, and the course fee of $40 covers all 5 class meetings. \n\n\n\nThis class is for older adults only. \n\n\n\n    Register for This Class\n\n\n\n\n\nVenue\n\n\n\n\n\nContact\n\n\n\n\n\nDisclaimer\n\n\n\nThe views and opinions expressed by the speakers and programs hosted at Winona State University do not necessarily reflect the views or positions of the university or of the Minnesota State Colleges & Universities system.
URL:https://www.winona.edu/about/event/senior-university-adventures-in-fermentation-march-26/
LOCATION:Maxwell 287\, 170 W 8th St\, Winona\, MN\, 55987\, United States
CATEGORIES:About,Leadership & Administration
ATTACH;FMTTYPE=image/jpeg:https://www.winona.edu/about/wp-content/uploads/sites/3/2024/11/WSU-student-chemistry-beakers-feature-2019-02-01.jpg
ORGANIZER;CN="Jess Kauphusman":MAILTO:jkauphusman@winona.edu
END:VEVENT
END:VCALENDAR