BEGIN:VCALENDAR
VERSION:2.0
PRODID:-//About - ECPv6.15.16//NONSGML v1.0//EN
CALSCALE:GREGORIAN
METHOD:PUBLISH
X-WR-CALNAME:About
X-ORIGINAL-URL:https://www.winona.edu/about
X-WR-CALDESC:Events for About
REFRESH-INTERVAL;VALUE=DURATION:PT1H
X-Robots-Tag:noindex
X-PUBLISHED-TTL:PT1H
BEGIN:VTIMEZONE
TZID:US/Central
BEGIN:DAYLIGHT
TZOFFSETFROM:-0600
TZOFFSETTO:-0500
TZNAME:CDT
DTSTART:20230312T080000
END:DAYLIGHT
BEGIN:STANDARD
TZOFFSETFROM:-0500
TZOFFSETTO:-0600
TZNAME:CST
DTSTART:20231105T070000
END:STANDARD
BEGIN:DAYLIGHT
TZOFFSETFROM:-0600
TZOFFSETTO:-0500
TZNAME:CDT
DTSTART:20240310T080000
END:DAYLIGHT
BEGIN:STANDARD
TZOFFSETFROM:-0500
TZOFFSETTO:-0600
TZNAME:CST
DTSTART:20241103T070000
END:STANDARD
BEGIN:DAYLIGHT
TZOFFSETFROM:-0600
TZOFFSETTO:-0500
TZNAME:CDT
DTSTART:20250309T080000
END:DAYLIGHT
BEGIN:STANDARD
TZOFFSETFROM:-0500
TZOFFSETTO:-0600
TZNAME:CST
DTSTART:20251102T070000
END:STANDARD
BEGIN:DAYLIGHT
TZOFFSETFROM:-0600
TZOFFSETTO:-0500
TZNAME:CDT
DTSTART:20260308T080000
END:DAYLIGHT
BEGIN:STANDARD
TZOFFSETFROM:-0500
TZOFFSETTO:-0600
TZNAME:CST
DTSTART:20261101T070000
END:STANDARD
END:VTIMEZONE
BEGIN:VEVENT
DTSTART;TZID=US/Central:20250502T000000
DTEND;TZID=US/Central:20250502T235959
DTSTAMP:20260424T023341
CREATED:20250328T125116Z
LAST-MODIFIED:20250328T125117Z
UID:10000620-1746144000-1746230399@www.winona.edu
SUMMARY:WSU Women's Track & Field: Maverick Open #2
DESCRIPTION:On May 2\, come cheer on the women’s Track & Field team as they compete at the second Maverick Open meet. \n\n\n\n\n\nVenue\n\n\n\n\n\nContact
URL:https://www.winona.edu/about/event/wsu-womens-track-field-meet-maverick-open-2-may-02/
LOCATION:Minnesota State University\, Mankato\, 228 Wiecking Center\, Mankato\, MN\, 56001\, United States
CATEGORIES:Student Life,Warrior Athletics
ATTACH;FMTTYPE=image/jpeg:https://www.winona.edu/about/wp-content/uploads/sites/3/2025/02/Pro-womens-track-field-athlete-meet-feature-2023-02-03.jpg
ORGANIZER;CN="Melanie Brunsdon":MAILTO:melanie.brunsdon@winona.edu
END:VEVENT
BEGIN:VEVENT
DTSTART;TZID=US/Central:20250430T000000
DTEND;TZID=US/Central:20250430T235959
DTSTAMP:20260424T023341
CREATED:20250328T125157Z
LAST-MODIFIED:20250328T125159Z
UID:10000619-1745971200-1746057599@www.winona.edu
SUMMARY:WSU Women's Track & Field: Maverick Open #1
DESCRIPTION:On April 30\, come cheer on the women’s Track & Field team as they compete at the first Maverick Open meet. \n\n\n\n\n\nVenue\n\n\n\n\n\nContact
URL:https://www.winona.edu/about/event/wsu-womens-track-field-meet-maverick-open-1-april-30/
LOCATION:Minnesota State University\, Mankato\, 228 Wiecking Center\, Mankato\, MN\, 56001\, United States
CATEGORIES:Student Life,Warrior Athletics
ATTACH;FMTTYPE=image/jpeg:https://www.winona.edu/about/wp-content/uploads/sites/3/2025/02/Pro-womens-track-field-athlete-meet-feature-2023-02-03.jpg
ORGANIZER;CN="Melanie Brunsdon":MAILTO:melanie.brunsdon@winona.edu
END:VEVENT
BEGIN:VEVENT
DTSTART;TZID=US/Central:20250412T000000
DTEND;TZID=US/Central:20250412T235959
DTSTAMP:20260424T023341
CREATED:20250328T130453Z
LAST-MODIFIED:20250328T130454Z
UID:10000615-1744416000-1744502399@www.winona.edu
SUMMARY:WSU Women's Track & Field: MN State Open
DESCRIPTION:On April 12\, come cheer on the women’s Track & Field team as they compete at the MN State Open meet. \n\n\n\n\n\nVenue\n\n\n\n\n\nContact
URL:https://www.winona.edu/about/event/wsu-womens-track-field-meet-mn-state-open-april-12/
LOCATION:Minnesota State University\, Mankato\, 228 Wiecking Center\, Mankato\, MN\, 56001\, United States
CATEGORIES:Student Life,Warrior Athletics
ATTACH;FMTTYPE=image/jpeg:https://www.winona.edu/about/wp-content/uploads/sites/3/2025/02/Pro-womens-track-field-athlete-meet-feature-2023-02-03.jpg
ORGANIZER;CN="Melanie Brunsdon":MAILTO:melanie.brunsdon@winona.edu
END:VEVENT
BEGIN:VEVENT
DTSTART;TZID=US/Central:20250412T000000
DTEND;TZID=US/Central:20250412T235959
DTSTAMP:20260424T023341
CREATED:20250328T130435Z
LAST-MODIFIED:20250328T130436Z
UID:10000633-1744416000-1744502399@www.winona.edu
SUMMARY:WSU Women's Tennis vs. Minnesota State University\, Mankato
DESCRIPTION:On April 12\, come cheer on the women’s Tennis team as they compete against Minnesota State University\, Mankato. \n\n\n\n\n\nVenue\n\n\n\n\n\nContact
URL:https://www.winona.edu/about/event/wsu-womens-tennis-vs-minnesota-state-university-mankato-match/
LOCATION:Minnesota State University\, Mankato\, 228 Wiecking Center\, Mankato\, MN\, 56001\, United States
CATEGORIES:Student Life,Warrior Athletics
ATTACH;FMTTYPE=image/jpeg:https://www.winona.edu/about/wp-content/uploads/sites/3/2025/02/Pro-womens-tennis-athlete-racket-court-feature-2022-04-04.jpg
ORGANIZER;CN="Melanie Brunsdon":MAILTO:melanie.brunsdon@winona.edu
END:VEVENT
BEGIN:VEVENT
DTSTART;TZID=US/Central:20250228T000000
DTEND;TZID=US/Central:20250301T235959
DTSTAMP:20260424T023341
CREATED:20250304T145419Z
LAST-MODIFIED:20250304T145422Z
UID:10000728-1740700800-1740873599@www.winona.edu
SUMMARY:WSU Women's Track & Field: NSIC Indoor Championships
DESCRIPTION:From Feb. 28-March 1\, come cheer on the women’s Track & Field team as they compete at the Northern Sun Intercollegiate Conference (NSIC) indoor championship. \n\n\n\n\n\nVenue\n\n\n\n\n\nContact
URL:https://www.winona.edu/about/event/wsu-womens-track-field-nsic-indoor-championships-feb-28-march-01/
LOCATION:Minnesota State University\, Mankato\, 228 Wiecking Center\, Mankato\, MN\, 56001\, United States
CATEGORIES:Student Life,Warrior Athletics
ATTACH;FMTTYPE=image/jpeg:https://www.winona.edu/about/wp-content/uploads/sites/3/2025/02/Pro-womens-track-field-athlete-meet-feature-2023-02-03.jpg
ORGANIZER;CN="Eric Schoh":MAILTO:eschoh@winona.edu
END:VEVENT
BEGIN:VEVENT
DTSTART;TZID=US/Central:20250215T000000
DTEND;TZID=US/Central:20250215T235959
DTSTAMP:20260424T023341
CREATED:20250225T152305Z
LAST-MODIFIED:20250227T142318Z
UID:10000610-1739577600-1739663999@www.winona.edu
SUMMARY:WSU Women's Track & Field: Maverick Premier Meet #2
DESCRIPTION:On Feb. 15\, come cheer on the women’s Track & Field team as they compete at the second Maverick Premier meet. \n\n\n\n\n\nVenue\n\n\n\n\n\nContact
URL:https://www.winona.edu/about/event/wsu-womens-track-field-meet-maverick-premier-meet-2-feb-15/
LOCATION:Minnesota State University\, Mankato\, 228 Wiecking Center\, Mankato\, MN\, 56001\, United States
CATEGORIES:Student Life,Warrior Athletics
ATTACH;FMTTYPE=image/jpeg:https://www.winona.edu/about/wp-content/uploads/sites/3/2025/02/Pro-womens-track-field-athlete-meet-feature-2023-02-03.jpg
ORGANIZER;CN="Eric Schoh":MAILTO:eschoh@winona.edu
END:VEVENT
BEGIN:VEVENT
DTSTART;TZID=US/Central:20250214T000000
DTEND;TZID=US/Central:20250214T235959
DTSTAMP:20260424T023341
CREATED:20250225T152109Z
LAST-MODIFIED:20250227T142308Z
UID:10000609-1739491200-1739577599@www.winona.edu
SUMMARY:WSU Women's Track & Field: Maverick Premier Meet #1
DESCRIPTION:On Feb. 14\, come cheer on the women’s Track & Field team as they compete at the first Maverick Premier meet. \n\n\n\n\n\nVenue\n\n\n\n\n\nContact
URL:https://www.winona.edu/about/event/wsu-womens-track-field-meet-maverick-premier-meet-1-feb-14/
LOCATION:Minnesota State University\, Mankato\, 228 Wiecking Center\, Mankato\, MN\, 56001\, United States
CATEGORIES:Student Life,Warrior Athletics
ATTACH;FMTTYPE=image/jpeg:https://www.winona.edu/about/wp-content/uploads/sites/3/2025/02/Pro-womens-track-field-athlete-meet-feature-2023-02-03.jpg
ORGANIZER;CN="Eric Schoh":MAILTO:eschoh@winona.edu
END:VEVENT
BEGIN:VEVENT
DTSTART;TZID=US/Central:20250201T000000
DTEND;TZID=US/Central:20250201T235959
DTSTAMP:20260424T023341
CREATED:20250304T152156Z
LAST-MODIFIED:20250304T152157Z
UID:10000737-1738368000-1738454399@www.winona.edu
SUMMARY:WSU Women's Track & Field: Mark Schuck Open & Multi
DESCRIPTION:On Feb. 1\, come cheer on the women’s Track & Field team as they compete at the Mark Schuck Open & Multi meet. \n\n\n\n\n\nVenue\n\n\n\n\n\nContact
URL:https://www.winona.edu/about/event/wsu-womens-track-field-mark-schuck-open-amp-multi-feb-01/
LOCATION:Minnesota State University\, Mankato\, 228 Wiecking Center\, Mankato\, MN\, 56001\, United States
CATEGORIES:Student Life,Warrior Athletics
ATTACH;FMTTYPE=image/jpeg:https://www.winona.edu/about/wp-content/uploads/sites/3/2025/02/Pro-womens-track-field-athlete-meet-feature-2023-02-03.jpg
ORGANIZER;CN="Eric Schoh":MAILTO:eschoh@winona.edu
END:VEVENT
BEGIN:VEVENT
DTSTART;TZID=US/Central:20250117T000000
DTEND;TZID=US/Central:20250117T235959
DTSTAMP:20260424T023341
CREATED:20250304T151729Z
LAST-MODIFIED:20250304T151730Z
UID:10000735-1737072000-1737158399@www.winona.edu
SUMMARY:WSU Women's Track & Field: Bearson/Gathje
DESCRIPTION:On Jan. 17\, come cheer on the women’s Track & Field team as they compete at the Bearson/Gathje meet. \n\n\n\n\n\nVenue\n\n\n\n\n\nContact
URL:https://www.winona.edu/about/event/wsu-womens-track-field-bearson-gathje-jan-17/
LOCATION:Minnesota State University\, Mankato\, 228 Wiecking Center\, Mankato\, MN\, 56001\, United States
CATEGORIES:Student Life,Warrior Athletics
ATTACH;FMTTYPE=image/jpeg:https://www.winona.edu/about/wp-content/uploads/sites/3/2025/02/Pro-womens-track-field-athlete-meet-feature-2023-02-03.jpg
ORGANIZER;CN="Eric Schoh":MAILTO:eschoh@winona.edu
END:VEVENT
BEGIN:VEVENT
DTSTART;TZID=US/Central:20241207T000000
DTEND;TZID=US/Central:20241207T235959
DTSTAMP:20260424T023341
CREATED:20250304T151544Z
LAST-MODIFIED:20250304T151545Z
UID:10000734-1733529600-1733615999@www.winona.edu
SUMMARY:WSU Women's Track & Field: Chuck Peterson Open
DESCRIPTION:On Dec. 7\, come cheer on the women’s Track & Field team as they compete at the Chuck Peterson Open meet. \n\n\n\n\n\nVenue\n\n\n\n\n\nContact
URL:https://www.winona.edu/about/event/wsu-womens-track-field-chuck-peterson-open-dec-07/
LOCATION:Minnesota State University\, Mankato\, 228 Wiecking Center\, Mankato\, MN\, 56001\, United States
CATEGORIES:Student Life,Warrior Athletics
ATTACH;FMTTYPE=image/jpeg:https://www.winona.edu/about/wp-content/uploads/sites/3/2025/02/Pro-womens-track-field-athlete-meet-feature-2023-02-03.jpg
ORGANIZER;CN="Eric Schoh":MAILTO:eschoh@winona.edu
END:VEVENT
END:VCALENDAR