BEGIN:VCALENDAR
VERSION:2.0
PRODID:-//About - ECPv6.15.16//NONSGML v1.0//EN
CALSCALE:GREGORIAN
METHOD:PUBLISH
X-WR-CALNAME:About
X-ORIGINAL-URL:https://www.winona.edu/about
X-WR-CALDESC:Events for About
REFRESH-INTERVAL;VALUE=DURATION:PT1H
X-Robots-Tag:noindex
X-PUBLISHED-TTL:PT1H
BEGIN:VTIMEZONE
TZID:America/Chicago
BEGIN:DAYLIGHT
TZOFFSETFROM:-0600
TZOFFSETTO:-0500
TZNAME:CDT
DTSTART:20230312T080000
END:DAYLIGHT
BEGIN:STANDARD
TZOFFSETFROM:-0500
TZOFFSETTO:-0600
TZNAME:CST
DTSTART:20231105T070000
END:STANDARD
BEGIN:DAYLIGHT
TZOFFSETFROM:-0600
TZOFFSETTO:-0500
TZNAME:CDT
DTSTART:20240310T080000
END:DAYLIGHT
BEGIN:STANDARD
TZOFFSETFROM:-0500
TZOFFSETTO:-0600
TZNAME:CST
DTSTART:20241103T070000
END:STANDARD
BEGIN:DAYLIGHT
TZOFFSETFROM:-0600
TZOFFSETTO:-0500
TZNAME:CDT
DTSTART:20250309T080000
END:DAYLIGHT
BEGIN:STANDARD
TZOFFSETFROM:-0500
TZOFFSETTO:-0600
TZNAME:CST
DTSTART:20251102T070000
END:STANDARD
BEGIN:DAYLIGHT
TZOFFSETFROM:-0600
TZOFFSETTO:-0500
TZNAME:CDT
DTSTART:20260308T080000
END:DAYLIGHT
BEGIN:STANDARD
TZOFFSETFROM:-0500
TZOFFSETTO:-0600
TZNAME:CST
DTSTART:20261101T070000
END:STANDARD
END:VTIMEZONE
BEGIN:VEVENT
DTSTART;TZID=America/Chicago:20251031T200000
DTEND;TZID=America/Chicago:20251031T220000
DTSTAMP:20260424T172555
CREATED:20251013T155010Z
LAST-MODIFIED:20251013T155011Z
UID:10001321-1761940800-1761948000@www.winona.edu
SUMMARY:Haunted Floor Fun
DESCRIPTION:Prepare for a scare with our take on a haunted house! \n\n\n\nEnter through the Prentiss side of the building\, and start your journey of fright on Halloween night. Then recover with snacks in the graveyard. \n\n\n\nStudents must bring Warrior ID or sign a waiver. \n\n\n\n\n\nVenue\n\n\n\n\n\nContact
URL:https://www.winona.edu/about/event/haunted-floor-fun-2025/
LOCATION:Prentiss-Lucas Hall\, 265 W King Street\, Winona\, MN\, 55987\, United States
CATEGORIES:Student Life
ATTACH;FMTTYPE=image/jpeg:https://www.winona.edu/about/wp-content/uploads/sites/3/2024/12/WSU-carved-pumpkin-jack-o-lantern-feature-2015-11-26.jpg
ORGANIZER;CN="Tricia Angus":MAILTO:tricia.angus@winona.edu
END:VEVENT
BEGIN:VEVENT
DTSTART;TZID=America/Chicago:20241031T200000
DTEND;TZID=America/Chicago:20241031T220000
DTSTAMP:20260424T172555
CREATED:20241231T171609Z
LAST-MODIFIED:20241231T171610Z
UID:10000145-1730404800-1730412000@www.winona.edu
SUMMARY:Haunted Floor Fun
DESCRIPTION:On Oct. 31\, prepare for a scare with our take on a haunted house. \n\n\n\nEnter through the Prentiss side of the building\, and start your journey of fright on Halloween night. Recover with snacks in the graveyard. \n\n\n\n\n\nVenue\n\n\n\n\n\nContact
URL:https://www.winona.edu/about/event/haunted-floor-fun/
LOCATION:Prentiss-Lucas Hall\, 265 W King Street\, Winona\, MN\, 55987\, United States
CATEGORIES:Housing & Dining,Student Life
ATTACH;FMTTYPE=image/jpeg:https://www.winona.edu/about/wp-content/uploads/sites/3/2024/12/WSU-carved-pumpkin-jack-o-lantern-feature-2015-11-26.jpg
ORGANIZER;CN="Tricia Angus":MAILTO:tricia.angus@winona.edu
END:VEVENT
END:VCALENDAR