BEGIN:VCALENDAR
VERSION:2.0
PRODID:-//About - ECPv6.15.16//NONSGML v1.0//EN
CALSCALE:GREGORIAN
METHOD:PUBLISH
X-ORIGINAL-URL:https://www.winona.edu/about
X-WR-CALDESC:Events for About
REFRESH-INTERVAL;VALUE=DURATION:PT1H
X-Robots-Tag:noindex
X-PUBLISHED-TTL:PT1H
BEGIN:VTIMEZONE
TZID:America/Chicago
BEGIN:DAYLIGHT
TZOFFSETFROM:-0600
TZOFFSETTO:-0500
TZNAME:CDT
DTSTART:20230312T080000
END:DAYLIGHT
BEGIN:STANDARD
TZOFFSETFROM:-0500
TZOFFSETTO:-0600
TZNAME:CST
DTSTART:20231105T070000
END:STANDARD
BEGIN:DAYLIGHT
TZOFFSETFROM:-0600
TZOFFSETTO:-0500
TZNAME:CDT
DTSTART:20240310T080000
END:DAYLIGHT
BEGIN:STANDARD
TZOFFSETFROM:-0500
TZOFFSETTO:-0600
TZNAME:CST
DTSTART:20241103T070000
END:STANDARD
BEGIN:DAYLIGHT
TZOFFSETFROM:-0600
TZOFFSETTO:-0500
TZNAME:CDT
DTSTART:20250309T080000
END:DAYLIGHT
BEGIN:STANDARD
TZOFFSETFROM:-0500
TZOFFSETTO:-0600
TZNAME:CST
DTSTART:20251102T070000
END:STANDARD
BEGIN:DAYLIGHT
TZOFFSETFROM:-0600
TZOFFSETTO:-0500
TZNAME:CDT
DTSTART:20260308T080000
END:DAYLIGHT
BEGIN:STANDARD
TZOFFSETFROM:-0500
TZOFFSETTO:-0600
TZNAME:CST
DTSTART:20261101T070000
END:STANDARD
END:VTIMEZONE
BEGIN:VEVENT
DTSTART;TZID=America/Chicago:20251009T133000
DTEND;TZID=America/Chicago:20251009T143000
DTSTAMP:20260424T212955
CREATED:20250926T150605Z
LAST-MODIFIED:20250926T150606Z
UID:10001228-1760016600-1760020200@www.winona.edu
SUMMARY:Flu Shot Clinic
DESCRIPTION:Students can get a flu shot on the main floor of the Quad Complex\, located on campus. \n\n\n\nFlu shots are available via walk-in\, on a first come\, first serve basis. \n\n\n\nRemember to bring a copy of your insurance card. \n\n\n\n\n\nVenue\n\n\n\n\n\n\n\n\n\nContact
URL:https://www.winona.edu/about/event/flu-shot-clinic-oct-9-afternoon/
LOCATION:Morey-Shepard Hall\, 256 W King St\, Winona\, MN\, 55987\, United States
CATEGORIES:Health & Wellness,Student Life
ATTACH;FMTTYPE=image/jpeg:https://www.winona.edu/about/wp-content/uploads/sites/3/2024/10/Pro-Female-Nursing-Students-2015.jpg
ORGANIZER;CN="Grace Rasmussen":MAILTO:grace.rasmussen@winona.edu
END:VEVENT
BEGIN:VEVENT
DTSTART;TZID=America/Chicago:20241003T133000
DTEND;TZID=America/Chicago:20241003T143000
DTSTAMP:20260424T212955
CREATED:20241230T224221Z
LAST-MODIFIED:20241230T224223Z
UID:10000089-1727962200-1727965800@www.winona.edu
SUMMARY:Flu Shot Clinic
DESCRIPTION:On Oct. 3\, WSU students can get a flu shot on campus. \n\n\n\nRemember to bring a copy of your insurance card. \n\n\n\n\n\nVenue
URL:https://www.winona.edu/about/event/flu-shot-clinic-afternoon/
LOCATION:Morey-Shepard Hall\, 256 W King St\, Winona\, MN\, 55987\, United States
CATEGORIES:Health & Wellness,Student Life
ATTACH;FMTTYPE=image/jpeg:https://www.winona.edu/about/wp-content/uploads/sites/3/2024/10/Pro-Female-Nursing-Students-2015.jpg
END:VEVENT
END:VCALENDAR