BEGIN:VCALENDAR
VERSION:2.0
PRODID:-//About - ECPv6.15.16//NONSGML v1.0//EN
CALSCALE:GREGORIAN
METHOD:PUBLISH
X-WR-CALNAME:About
X-ORIGINAL-URL:https://www.winona.edu/about
X-WR-CALDESC:Events for About
REFRESH-INTERVAL;VALUE=DURATION:PT1H
X-Robots-Tag:noindex
X-PUBLISHED-TTL:PT1H
BEGIN:VTIMEZONE
TZID:America/Chicago
BEGIN:DAYLIGHT
TZOFFSETFROM:-0600
TZOFFSETTO:-0500
TZNAME:CDT
DTSTART:20250309T080000
END:DAYLIGHT
BEGIN:STANDARD
TZOFFSETFROM:-0500
TZOFFSETTO:-0600
TZNAME:CST
DTSTART:20251102T070000
END:STANDARD
BEGIN:DAYLIGHT
TZOFFSETFROM:-0600
TZOFFSETTO:-0500
TZNAME:CDT
DTSTART:20260308T080000
END:DAYLIGHT
BEGIN:STANDARD
TZOFFSETFROM:-0500
TZOFFSETTO:-0600
TZNAME:CST
DTSTART:20261101T070000
END:STANDARD
BEGIN:DAYLIGHT
TZOFFSETFROM:-0600
TZOFFSETTO:-0500
TZNAME:CDT
DTSTART:20270314T080000
END:DAYLIGHT
BEGIN:STANDARD
TZOFFSETFROM:-0500
TZOFFSETTO:-0600
TZNAME:CST
DTSTART:20271107T070000
END:STANDARD
END:VTIMEZONE
BEGIN:VEVENT
DTSTART;TZID=America/Chicago:20260415T140000
DTEND;TZID=America/Chicago:20260415T160000
DTSTAMP:20260424T185127
CREATED:20260127T165548Z
LAST-MODIFIED:20260127T165549Z
UID:10001487-1776261600-1776268800@www.winona.edu
SUMMARY:Senior University: The Science of Mass Extinctions
DESCRIPTION:Explore Earth’s mass extinctions! \n\n\n\nTaught by Winona State Professor Dr. William Beatty\, this final session will discuss the geological evidence of mass extinctions\, the impacts on life on land and in the oceans\, and what may have caused these dramatic die-offs. \n\n\n\nThis Senior University class is 5 sessions total\, and the course fee of $40 covers all 5 class meetings. \n\n\n\nThis class is for older adults only. \n\n\n\n    Join the Waitlist\n\n\n\n\n\nVenue\n\n\n\n\n\nContact\n\n\n\n\n\nDisclaimer\n\n\n\nThe views and opinions expressed by the speakers and programs hosted at Winona State University do not necessarily reflect the views or positions of the university or of the Minnesota State Colleges & Universities system.
URL:https://www.winona.edu/about/event/senior-university-the-science-of-mass-extinctions-april-15/
LOCATION:SLC 184\, 400 Winona St\, Winona\, MN\, 55987\, United States
CATEGORIES:About,Leadership & Administration
ATTACH;FMTTYPE=image/jpeg:https://www.winona.edu/about/wp-content/uploads/sites/3/2025/10/WSU-dinosaur-skull-fossil-feature-2016-10-06.jpg
END:VEVENT
BEGIN:VEVENT
DTSTART;TZID=America/Chicago:20260408T140000
DTEND;TZID=America/Chicago:20260408T160000
DTSTAMP:20260424T185127
CREATED:20260127T165546Z
LAST-MODIFIED:20260127T165547Z
UID:10001486-1775656800-1775664000@www.winona.edu
SUMMARY:Senior University: The Science of Mass Extinctions
DESCRIPTION:Explore Earth’s mass extinctions! \n\n\n\nTaught by Winona State Professor Dr. William Beatty\, this fourth session will discuss the geological evidence of mass extinctions\, the impacts on life on land and in the oceans\, and what may have caused these dramatic die-offs. \n\n\n\nThis Senior University class is 5 sessions total\, and the course fee of $40 covers all 5 class meetings. \n\n\n\nThis class is for older adults only. \n\n\n\n    Join the Waitlist\n\n\n\n\n\nVenue\n\n\n\n\n\nContact\n\n\n\n\n\nDisclaimer\n\n\n\nThe views and opinions expressed by the speakers and programs hosted at Winona State University do not necessarily reflect the views or positions of the university or of the Minnesota State Colleges & Universities system.
URL:https://www.winona.edu/about/event/senior-university-the-science-of-mass-extinctions-april-8/
LOCATION:SLC 184\, 400 Winona St\, Winona\, MN\, 55987\, United States
CATEGORIES:About,Leadership & Administration
ATTACH;FMTTYPE=image/jpeg:https://www.winona.edu/about/wp-content/uploads/sites/3/2025/10/WSU-dinosaur-skull-fossil-feature-2016-10-06.jpg
END:VEVENT
BEGIN:VEVENT
DTSTART;TZID=America/Chicago:20260401T140000
DTEND;TZID=America/Chicago:20260401T160000
DTSTAMP:20260424T185127
CREATED:20260127T165544Z
LAST-MODIFIED:20260127T165545Z
UID:10001485-1775052000-1775059200@www.winona.edu
SUMMARY:Senior University: The Science of Mass Extinctions
DESCRIPTION:Explore Earth’s mass extinctions! \n\n\n\nTaught by Winona State Professor Dr. William Beatty\, this third session will discuss the geological evidence of mass extinctions\, the impacts on life on land and in the oceans\, and what may have caused these dramatic die-offs. \n\n\n\nThis Senior University class is 5 sessions total\, and the course fee of $40 covers all 5 class meetings. \n\n\n\nThis class is for older adults only. \n\n\n\n    Join the Waitlist\n\n\n\n\n\nVenue\n\n\n\n\n\nContact\n\n\n\n\n\nDisclaimer\n\n\n\nThe views and opinions expressed by the speakers and programs hosted at Winona State University do not necessarily reflect the views or positions of the university or of the Minnesota State Colleges & Universities system.
URL:https://www.winona.edu/about/event/senior-university-the-science-of-mass-extinctions-april-1/
LOCATION:SLC 184\, 400 Winona St\, Winona\, MN\, 55987\, United States
CATEGORIES:About,Leadership & Administration
ATTACH;FMTTYPE=image/jpeg:https://www.winona.edu/about/wp-content/uploads/sites/3/2025/10/WSU-dinosaur-skull-fossil-feature-2016-10-06.jpg
END:VEVENT
BEGIN:VEVENT
DTSTART;TZID=America/Chicago:20260325T140000
DTEND;TZID=America/Chicago:20260325T160000
DTSTAMP:20260424T185127
CREATED:20260127T165542Z
LAST-MODIFIED:20260127T165543Z
UID:10001484-1774447200-1774454400@www.winona.edu
SUMMARY:Senior University: The Science of Mass Extinctions
DESCRIPTION:Explore Earth’s mass extinctions! \n\n\n\nTaught by Winona State Professor Dr. William Beatty\, this second session will discuss the geological evidence of mass extinctions\, the impacts on life on land and in the oceans\, and what may have caused these dramatic die-offs. \n\n\n\nThis Senior University class is 5 sessions total\, and the course fee of $40 covers all 5 class meetings. \n\n\n\nThis class is for older adults only. \n\n\n\n    Join the Waitlist\n\n\n\n\n\nVenue\n\n\n\n\n\nContact\n\n\n\n\n\nDisclaimer\n\n\n\nThe views and opinions expressed by the speakers and programs hosted at Winona State University do not necessarily reflect the views or positions of the university or of the Minnesota State Colleges & Universities system.
URL:https://www.winona.edu/about/event/senior-university-the-science-of-mass-extinctions-march-25/
LOCATION:SLC 184\, 400 Winona St\, Winona\, MN\, 55987\, United States
CATEGORIES:About,Leadership & Administration
ATTACH;FMTTYPE=image/jpeg:https://www.winona.edu/about/wp-content/uploads/sites/3/2025/10/WSU-dinosaur-skull-fossil-feature-2016-10-06.jpg
END:VEVENT
BEGIN:VEVENT
DTSTART;TZID=America/Chicago:20260318T140000
DTEND;TZID=America/Chicago:20260318T160000
DTSTAMP:20260424T185127
CREATED:20260127T165540Z
LAST-MODIFIED:20260127T165541Z
UID:10001456-1773842400-1773849600@www.winona.edu
SUMMARY:Senior University: The Science of Mass Extinctions
DESCRIPTION:Explore Earth’s mass extinctions! \n\n\n\nTaught by Winona State Professor Dr. William Beatty\, this first session will discuss the geological evidence of mass extinctions\, the impacts on life on land and in the oceans\, and what may have caused these dramatic die-offs. \n\n\n\nThis Senior University class is 5 sessions total\, and the course fee of $40 covers all 5 class meetings. \n\n\n\nThis class is for older adults only. \n\n\n\n    Join the Waitlist\n\n\n\n\n\nVenue\n\n\n\n\n\nContact\n\n\n\n\n\nDisclaimer\n\n\n\nThe views and opinions expressed by the speakers and programs hosted at Winona State University do not necessarily reflect the views or positions of the university or of the Minnesota State Colleges & Universities system.
URL:https://www.winona.edu/about/event/senior-university-the-science-of-mass-extinctions-march-18/
LOCATION:SLC 184\, 400 Winona St\, Winona\, MN\, 55987\, United States
CATEGORIES:About,Leadership & Administration
ATTACH;FMTTYPE=image/jpeg:https://www.winona.edu/about/wp-content/uploads/sites/3/2025/10/WSU-dinosaur-skull-fossil-feature-2016-10-06.jpg
END:VEVENT
END:VCALENDAR