BEGIN:VCALENDAR
VERSION:2.0
PRODID:-//About - ECPv6.15.16//NONSGML v1.0//EN
CALSCALE:GREGORIAN
METHOD:PUBLISH
X-WR-CALNAME:About
X-ORIGINAL-URL:https://www.winona.edu/about
X-WR-CALDESC:Events for About
REFRESH-INTERVAL;VALUE=DURATION:PT1H
X-Robots-Tag:noindex
X-PUBLISHED-TTL:PT1H
BEGIN:VTIMEZONE
TZID:America/Chicago
BEGIN:DAYLIGHT
TZOFFSETFROM:-0600
TZOFFSETTO:-0500
TZNAME:CDT
DTSTART:20250309T080000
END:DAYLIGHT
BEGIN:STANDARD
TZOFFSETFROM:-0500
TZOFFSETTO:-0600
TZNAME:CST
DTSTART:20251102T070000
END:STANDARD
BEGIN:DAYLIGHT
TZOFFSETFROM:-0600
TZOFFSETTO:-0500
TZNAME:CDT
DTSTART:20260308T080000
END:DAYLIGHT
BEGIN:STANDARD
TZOFFSETFROM:-0500
TZOFFSETTO:-0600
TZNAME:CST
DTSTART:20261101T070000
END:STANDARD
BEGIN:DAYLIGHT
TZOFFSETFROM:-0600
TZOFFSETTO:-0500
TZNAME:CDT
DTSTART:20270314T080000
END:DAYLIGHT
BEGIN:STANDARD
TZOFFSETFROM:-0500
TZOFFSETTO:-0600
TZNAME:CST
DTSTART:20271107T070000
END:STANDARD
END:VTIMEZONE
BEGIN:VEVENT
DTSTART;TZID=America/Chicago:20260414T110000
DTEND;TZID=America/Chicago:20260414T130000
DTSTAMP:20260424T165526
CREATED:20260401T184812Z
LAST-MODIFIED:20260401T184958Z
UID:10001610-1776164400-1776171600@www.winona.edu
SUMMARY:Drop-In Advising for Study Abroad
DESCRIPTION:Stop by the table in the hallway outside Somsen 318 and explore Study Abroad travel and internship opportunities. \n\n\n\nA peer advisor and an alumni ambassador from the Sant’anna Institute in Italy will be available to answer any and all questions about Study Abroad locations\, credits earned\, and potential costs. There is no fee\, registration\, or appointment needed for this advising event. \n\n\n\n    Learn More about Study Abroad\n\n\n\n\n\nVenue\n\n\n\n\n\nContact\n\n\n\n\n\nDisclaimer\n\n\n\nThe views and opinions expressed by the speakers and programs hosted at Winona State University do not necessarily reflect the views or positions of the university or of the Minnesota State Colleges & Universities system.
URL:https://www.winona.edu/about/event/drop-in-advising-for-study-abroad-april-14/
LOCATION:Somsen 318\, 175 West Mark Street\, Winona\, MN\, 55987\, United States
CATEGORIES:Academics,Study Abroad
ATTACH;FMTTYPE=image/jpeg:https://www.winona.edu/about/wp-content/uploads/sites/3/2024/11/WSU-advisor-meeting-student-feature-2023-03-01.jpg
ORGANIZER;CN="Study Abroad Office":MAILTO:studyabroad@winona.edu
END:VEVENT
BEGIN:VEVENT
DTSTART;TZID=America/Chicago:20260402T120000
DTEND;TZID=America/Chicago:20260402T140000
DTSTAMP:20260424T165526
CREATED:20260327T141337Z
LAST-MODIFIED:20260327T141338Z
UID:10001608-1775131200-1775138400@www.winona.edu
SUMMARY:Drop-In Advising for Study Abroad
DESCRIPTION:Stop by the table in the hallway outside Somsen 318 and explore Study Abroad travel and internship opportunities. \n\n\n\nAny and all questions about Study Abroad locations\, credits earned\, and potential costs are welcomed! There is no fee\, registration\, or appointment needed for this advising event. \n\n\n\n    Learn More about Study Abroad\n\n\n\n\n\nVenue\n\n\n\n\n\nContact\n\n\n\n\n\nDisclaimer\n\n\n\nThe views and opinions expressed by the speakers and programs hosted at Winona State University do not necessarily reflect the views or positions of the university or of the Minnesota State Colleges & Universities system.
URL:https://www.winona.edu/about/event/drop-in-advising-for-study-abroad-april-2/
LOCATION:Somsen 318\, 175 West Mark Street\, Winona\, MN\, 55987\, United States
CATEGORIES:Academics,Study Abroad
ATTACH;FMTTYPE=image/jpeg:https://www.winona.edu/about/wp-content/uploads/sites/3/2024/11/WSU-advisor-meeting-student-feature-2023-03-01.jpg
ORGANIZER;CN="Study Abroad Office":MAILTO:studyabroad@winona.edu
END:VEVENT
END:VCALENDAR