BEGIN:VCALENDAR
VERSION:2.0
PRODID:-//About - ECPv6.15.16//NONSGML v1.0//EN
CALSCALE:GREGORIAN
METHOD:PUBLISH
X-WR-CALNAME:About
X-ORIGINAL-URL:https://www.winona.edu/about
X-WR-CALDESC:Events for About
REFRESH-INTERVAL;VALUE=DURATION:PT1H
X-Robots-Tag:noindex
X-PUBLISHED-TTL:PT1H
BEGIN:VTIMEZONE
TZID:America/Chicago
BEGIN:DAYLIGHT
TZOFFSETFROM:-0600
TZOFFSETTO:-0500
TZNAME:CDT
DTSTART:20230312T080000
END:DAYLIGHT
BEGIN:STANDARD
TZOFFSETFROM:-0500
TZOFFSETTO:-0600
TZNAME:CST
DTSTART:20231105T070000
END:STANDARD
BEGIN:DAYLIGHT
TZOFFSETFROM:-0600
TZOFFSETTO:-0500
TZNAME:CDT
DTSTART:20240310T080000
END:DAYLIGHT
BEGIN:STANDARD
TZOFFSETFROM:-0500
TZOFFSETTO:-0600
TZNAME:CST
DTSTART:20241103T070000
END:STANDARD
BEGIN:DAYLIGHT
TZOFFSETFROM:-0600
TZOFFSETTO:-0500
TZNAME:CDT
DTSTART:20250309T080000
END:DAYLIGHT
BEGIN:STANDARD
TZOFFSETFROM:-0500
TZOFFSETTO:-0600
TZNAME:CST
DTSTART:20251102T070000
END:STANDARD
BEGIN:DAYLIGHT
TZOFFSETFROM:-0600
TZOFFSETTO:-0500
TZNAME:CDT
DTSTART:20260308T080000
END:DAYLIGHT
BEGIN:STANDARD
TZOFFSETFROM:-0500
TZOFFSETTO:-0600
TZNAME:CST
DTSTART:20261101T070000
END:STANDARD
END:VTIMEZONE
BEGIN:VEVENT
DTSTART;TZID=America/Chicago:20251119T150000
DTEND;TZID=America/Chicago:20251119T190000
DTSTAMP:20260424T133649
CREATED:20251114T155405Z
LAST-MODIFIED:20251114T164107Z
UID:10001377-1763564400-1763578800@www.winona.edu
SUMMARY:Community Mural Painting Session
DESCRIPTION:Join us for a live mural painting event to help create a visual representation of Winona State’s shared future. \n\n\n\nThis mural will be inspired by the 3 pillars of the Winona State 2035 strategic plan: \n\n\n\n\nWarrior Way – Community\, Kindness\, Belonging\n\n\n\nWarrior Edge – Innovate\, Evolve\, Learn\n\n\n\nWarrior Shield – Resilient\, Sustainable\, Responsive\n\n\n\n\nOnce complete\, this mural will display on the ceiling of our campus Gazebo.  \n\n\n\nWe welcome WSU students\, employees and their families\, and other members of our community to reflect our commitment to belonging\, innovation\, and resilience. Bring your creativity\, and let’s paint the Warrior Journey together! \n\n\n\nThis event is sponsored by the WSU Foundation and Art & Design Department. \n\n\n\n    Learn More about Winona State 2035\n\n\n\n\n\nVenue\n\n\n\n\n\nContact\n\n\n\n\n\nDisclaimer\n\n\n\nThe views and opinions expressed by the speakers and programs hosted at Winona State University do not necessarily reflect the views or positions of the university or of the Minnesota State Colleges & Universities system.
URL:https://www.winona.edu/about/event/community-mural-painting-session/
LOCATION:Weber Art Gallery\, 225 W King St\, Winona\, MN\, 55987\, United States
CATEGORIES:About,Academics,Art & Design Department,College of Liberal Arts,Colleges,Leadership & Administration
ATTACH;FMTTYPE=image/jpeg:https://www.winona.edu/about/wp-content/uploads/sites/3/2025/11/WSU-student-painting-brush-feature-2023-10-10.jpg
ORGANIZER;CN="Alessandra Sulpy":MAILTO:Alessandra.Sulpy@winona.edu
END:VEVENT
BEGIN:VEVENT
DTSTART;TZID=America/Chicago:20241028T000000
DTEND;TZID=America/Chicago:20241108T235959
DTSTAMP:20260424T133649
CREATED:20241231T171503Z
LAST-MODIFIED:20241231T171504Z
UID:10000306-1730073600-1731110399@www.winona.edu
SUMMARY:Get Out to Vote Student Poster Exhibition
DESCRIPTION:Join Design for Democracy to help get people in our community out to vote for crucial elections.  \n\n\n\nSee the creative work by WSU Design seniors on display at the Weber Gallery from Oct. 28-Nov. 8. Design majors have joined the national campaign organized by the American Institute of Graphic Arts (AIGA) Professional Association for Design. \n\n\n\nThere will be a reception with the opportunity to connect with young creatives that will take place on Oct. 30 at 6pm at the Watkins Hall Main Lobby. \n\n\n\nGet Out to Vote posters designed by AIGA members are available for printing and public distribution by all. \n\n\n\n\n\nVenue\n\n\n\n\n\nContact
URL:https://www.winona.edu/about/event/get-out-to-vote-student-poster-exhibition/
LOCATION:Weber Art Gallery\, 225 W King St\, Winona\, MN\, 55987\, United States
CATEGORIES:Academics,Art & Design Department,College of Liberal Arts,Colleges,Political Science & Public Administration Department
ATTACH;FMTTYPE=image/jpeg:https://www.winona.edu/about/wp-content/uploads/sites/3/2024/12/WSU-political-science-vote-stickers-feature-2016-09-26.jpg
ORGANIZER;CN="Danilo Bojic":MAILTO:dbojic@winona.edu
END:VEVENT
END:VCALENDAR