BEGIN:VCALENDAR
VERSION:2.0
PRODID:-//About - ECPv6.15.16//NONSGML v1.0//EN
CALSCALE:GREGORIAN
METHOD:PUBLISH
X-ORIGINAL-URL:https://www.winona.edu/about
X-WR-CALDESC:Events for About
REFRESH-INTERVAL;VALUE=DURATION:PT1H
X-Robots-Tag:noindex
X-PUBLISHED-TTL:PT1H
BEGIN:VTIMEZONE
TZID:US/Central
BEGIN:DAYLIGHT
TZOFFSETFROM:-0600
TZOFFSETTO:-0500
TZNAME:CDT
DTSTART:20230312T080000
END:DAYLIGHT
BEGIN:STANDARD
TZOFFSETFROM:-0500
TZOFFSETTO:-0600
TZNAME:CST
DTSTART:20231105T070000
END:STANDARD
BEGIN:DAYLIGHT
TZOFFSETFROM:-0600
TZOFFSETTO:-0500
TZNAME:CDT
DTSTART:20240310T080000
END:DAYLIGHT
BEGIN:STANDARD
TZOFFSETFROM:-0500
TZOFFSETTO:-0600
TZNAME:CST
DTSTART:20241103T070000
END:STANDARD
BEGIN:DAYLIGHT
TZOFFSETFROM:-0600
TZOFFSETTO:-0500
TZNAME:CDT
DTSTART:20250309T080000
END:DAYLIGHT
BEGIN:STANDARD
TZOFFSETFROM:-0500
TZOFFSETTO:-0600
TZNAME:CST
DTSTART:20251102T070000
END:STANDARD
BEGIN:DAYLIGHT
TZOFFSETFROM:-0600
TZOFFSETTO:-0500
TZNAME:CDT
DTSTART:20260308T080000
END:DAYLIGHT
BEGIN:STANDARD
TZOFFSETFROM:-0500
TZOFFSETTO:-0600
TZNAME:CST
DTSTART:20261101T070000
END:STANDARD
BEGIN:DAYLIGHT
TZOFFSETFROM:-0600
TZOFFSETTO:-0500
TZNAME:CDT
DTSTART:20270314T080000
END:DAYLIGHT
BEGIN:STANDARD
TZOFFSETFROM:-0500
TZOFFSETTO:-0600
TZNAME:CST
DTSTART:20271107T070000
END:STANDARD
END:VTIMEZONE
BEGIN:VEVENT
DTSTART;TZID=US/Central:20260403T180000
DTEND;TZID=US/Central:20260403T200000
DTSTAMP:20260424T155016
CREATED:20251003T150107Z
LAST-MODIFIED:20251110T151502Z
UID:10001264-1775239200-1775246400@www.winona.edu
SUMMARY:WSU Women's Tennis vs. Coe College Game
DESCRIPTION:Come cheer on the women’s Tennis team as they compete against Coe College. \n\n\n\nSee all sports games in the Athletics calendar. \n\n\n\n\n\nVenue\n\n\n\n\n\nContact\n\n\n\n\n\nDisclaimer\n\n\n\nThe views and opinions expressed by the speakers and programs hosted at Winona State University do not necessarily reflect the views or positions of the university or of the Minnesota State Colleges & Universities system.
URL:https://www.winona.edu/about/event/wsu-womens-tennis-vs-coe-college-game-2026/
LOCATION:Winona Tennis Center\, 360 Vila St\, Winona\, MN\, 55987\, United States
CATEGORIES:Student Life,Warrior Athletics
ATTACH;FMTTYPE=image/jpeg:https://www.winona.edu/about/wp-content/uploads/sites/3/2025/02/Pro-womens-tennis-athlete-racket-court-feature-2022-04-04.jpg
ORGANIZER;CN="Jen Flowers":MAILTO:jennifer.flowers@winona.edu
END:VEVENT
BEGIN:VEVENT
DTSTART;TZID=US/Central:20260403T123000
DTEND;TZID=US/Central:20260403T143000
DTSTAMP:20260424T155016
CREATED:20251003T150108Z
LAST-MODIFIED:20260327T182649Z
UID:10001263-1775219400-1775226600@www.winona.edu
SUMMARY:WSU Women's Tennis vs. University of Wisconsin-Superior Game
DESCRIPTION:Come cheer on the women’s Tennis team as they compete against the University of Wisconsin-Superior. \n\n\n\nSee all sports games in the Athletics calendar. \n\n\n\n\n\nVenue\n\n\n\n\n\nContact\n\n\n\n\n\nDisclaimer\n\n\n\nThe views and opinions expressed by the speakers and programs hosted at Winona State University do not necessarily reflect the views or positions of the university or of the Minnesota State Colleges & Universities system.
URL:https://www.winona.edu/about/event/wsu-womens-tennis-vs-university-of-wisconsin-superior-game-2026/
LOCATION:Winona Tennis Center\, 360 Vila St\, Winona\, MN\, 55987\, United States
CATEGORIES:Student Life,Warrior Athletics
ATTACH;FMTTYPE=image/jpeg:https://www.winona.edu/about/wp-content/uploads/sites/3/2025/02/Pro-womens-tennis-athlete-racket-court-feature-2022-04-04.jpg
ORGANIZER;CN="Jen Flowers":MAILTO:jennifer.flowers@winona.edu
END:VEVENT
BEGIN:VEVENT
DTSTART;TZID=US/Central:20260222T143000
DTEND;TZID=US/Central:20260222T163000
DTSTAMP:20260424T155016
CREATED:20251003T150428Z
LAST-MODIFIED:20251107T164951Z
UID:10001262-1771770600-1771777800@www.winona.edu
SUMMARY:WSU Women's Tennis vs. University of Minnesota Duluth Game
DESCRIPTION:Come cheer on the women’s Tennis team as they compete against the University of Minnesota Duluth. \n\n\n\nSee all sports games in the Athletics calendar. \n\n\n\n\n\nVenue\n\n\n\n\n\nContact\n\n\n\n\n\nDisclaimer\n\n\n\nThe views and opinions expressed by the speakers and programs hosted at Winona State University do not necessarily reflect the views or positions of the university or of the Minnesota State Colleges & Universities system.
URL:https://www.winona.edu/about/event/wsu-womens-tennis-vs-university-of-minnesota-duluth-game-2026/
LOCATION:Winona Tennis Center\, 360 Vila St\, Winona\, MN\, 55987\, United States
CATEGORIES:Student Life,Warrior Athletics
ATTACH;FMTTYPE=image/jpeg:https://www.winona.edu/about/wp-content/uploads/sites/3/2025/02/Pro-womens-tennis-athlete-racket-court-feature-2022-04-04.jpg
ORGANIZER;CN="Jen Flowers":MAILTO:jennifer.flowers@winona.edu
END:VEVENT
BEGIN:VEVENT
DTSTART;TZID=US/Central:20260214T160000
DTEND;TZID=US/Central:20260214T180000
DTSTAMP:20260424T155016
CREATED:20251003T150432Z
LAST-MODIFIED:20251107T164453Z
UID:10001261-1771084800-1771092000@www.winona.edu
SUMMARY:WSU Women's Tennis vs. University of Minnesota Crookston Game
DESCRIPTION:Come cheer on the women’s Tennis team as they compete against the University of Minnesota Crookston. \n\n\n\nSee all sports games in the Athletics calendar. \n\n\n\n\n\nVenue\n\n\n\n\n\nContact\n\n\n\n\n\nDisclaimer\n\n\n\nThe views and opinions expressed by the speakers and programs hosted at Winona State University do not necessarily reflect the views or positions of the university or of the Minnesota State Colleges & Universities system.
URL:https://www.winona.edu/about/event/wsu-womens-tennis-vs-university-of-minnesota-crookston-game-2026/
LOCATION:Winona Tennis Center\, 360 Vila St\, Winona\, MN\, 55987\, United States
CATEGORIES:Student Life,Warrior Athletics
ATTACH;FMTTYPE=image/jpeg:https://www.winona.edu/about/wp-content/uploads/sites/3/2025/02/Pro-womens-tennis-athlete-racket-court-feature-2022-04-04.jpg
ORGANIZER;CN="Jen Flowers":MAILTO:jennifer.flowers@winona.edu
END:VEVENT
BEGIN:VEVENT
DTSTART;TZID=US/Central:20260213T183000
DTEND;TZID=US/Central:20260213T203000
DTSTAMP:20260424T155016
CREATED:20251003T150434Z
LAST-MODIFIED:20251107T164502Z
UID:10001260-1771007400-1771014600@www.winona.edu
SUMMARY:WSU Women's Tennis vs. Minnesota State University Moorhead Game
DESCRIPTION:Come cheer on the women’s Tennis team as they compete against Minnesota State University Moorhead. \n\n\n\nSee all sports games in the Athletics calendar. \n\n\n\n\n\nVenue\n\n\n\n\n\nContact\n\n\n\n\n\nDisclaimer\n\n\n\nThe views and opinions expressed by the speakers and programs hosted at Winona State University do not necessarily reflect the views or positions of the university or of the Minnesota State Colleges & Universities system.
URL:https://www.winona.edu/about/event/wsu-womens-tennis-vs-minnesota-state-university-moorhead-game-2026/
LOCATION:Winona Tennis Center\, 360 Vila St\, Winona\, MN\, 55987\, United States
CATEGORIES:Student Life,Warrior Athletics
ATTACH;FMTTYPE=image/jpeg:https://www.winona.edu/about/wp-content/uploads/sites/3/2025/02/Pro-womens-tennis-athlete-racket-court-feature-2022-04-04.jpg
ORGANIZER;CN="Jen Flowers":MAILTO:jennifer.flowers@winona.edu
END:VEVENT
BEGIN:VEVENT
DTSTART;TZID=US/Central:20260207T130000
DTEND;TZID=US/Central:20260207T150000
DTSTAMP:20260424T155016
CREATED:20251003T150439Z
LAST-MODIFIED:20251107T164545Z
UID:10001259-1770469200-1770476400@www.winona.edu
SUMMARY:WSU Women's Tennis vs. University of Wisconsin-Eau Claire Game
DESCRIPTION:Come cheer on the women’s Tennis team as they compete against the University of Wisconsin-Eau Claire. \n\n\n\nSee all sports games in the Athletics calendar. \n\n\n\n\n\nVenue\n\n\n\n\n\nContact\n\n\n\n\n\nDisclaimer\n\n\n\nThe views and opinions expressed by the speakers and programs hosted at Winona State University do not necessarily reflect the views or positions of the university or of the Minnesota State Colleges & Universities system.
URL:https://www.winona.edu/about/event/wsu-womens-tennis-vs-university-of-wisconsin-eau-claire-game-2026/
LOCATION:Winona Tennis Center\, 360 Vila St\, Winona\, MN\, 55987\, United States
CATEGORIES:Student Life,Warrior Athletics
ATTACH;FMTTYPE=image/jpeg:https://www.winona.edu/about/wp-content/uploads/sites/3/2025/02/Pro-womens-tennis-athlete-racket-court-feature-2022-04-04.jpg
ORGANIZER;CN="Jen Flowers":MAILTO:jennifer.flowers@winona.edu
END:VEVENT
BEGIN:VEVENT
DTSTART;TZID=US/Central:20260131T130000
DTEND;TZID=US/Central:20260131T150000
DTSTAMP:20260424T155016
CREATED:20251003T150202Z
LAST-MODIFIED:20251103T170947Z
UID:10001258-1769864400-1769871600@www.winona.edu
SUMMARY:WSU Women's Tennis vs. St. Cloud State University Game
DESCRIPTION:Come cheer on the women’s Tennis team as they compete against St. Cloud State University. \n\n\n\nSee all sports games in the Athletics calendar. \n\n\n\n\n\nVenue\n\n\n\n\n\nContact\n\n\n\n\n\nDisclaimer\n\n\n\nThe views and opinions expressed by the speakers and programs hosted at Winona State University do not necessarily reflect the views or positions of the university or of the Minnesota State Colleges & Universities system.
URL:https://www.winona.edu/about/event/wsu-womens-tennis-vs-st-cloud-state-university-game-2026/
LOCATION:Winona Tennis Center\, 360 Vila St\, Winona\, MN\, 55987\, United States
CATEGORIES:Student Life,Warrior Athletics
ATTACH;FMTTYPE=image/jpeg:https://www.winona.edu/about/wp-content/uploads/sites/3/2025/02/Pro-womens-tennis-athlete-racket-court-feature-2022-04-04.jpg
ORGANIZER;CN="Jen Flowers":MAILTO:jennifer.flowers@winona.edu
END:VEVENT
BEGIN:VEVENT
DTSTART;TZID=US/Central:20251018T143000
DTEND;TZID=US/Central:20251018T163000
DTSTAMP:20260424T155016
CREATED:20251003T150210Z
LAST-MODIFIED:20251003T150211Z
UID:10001283-1760797800-1760805000@www.winona.edu
SUMMARY:WSU Women's Tennis vs. Roosevelt University Game
DESCRIPTION:Come cheer on the women’s Tennis team as they compete against Roosevelt University. \n\n\n\nSee all sports games in the Athletics calendar. \n\n\n\n\n\nVenue\n\n\n\n\n\nContact
URL:https://www.winona.edu/about/event/wsu-womens-tennis-vs-roosevelt-university-game-2025/
LOCATION:Winona Tennis Center\, 360 Vila St\, Winona\, MN\, 55987\, United States
CATEGORIES:Student Life,Warrior Athletics
ATTACH;FMTTYPE=image/jpeg:https://www.winona.edu/about/wp-content/uploads/sites/3/2025/02/Pro-womens-tennis-athlete-racket-court-feature-2022-04-04.jpg
ORGANIZER;CN="Jen Flowers":MAILTO:jennifer.flowers@winona.edu
END:VEVENT
BEGIN:VEVENT
DTSTART;TZID=US/Central:20250319T133000
DTEND;TZID=US/Central:20250319T153000
DTSTAMP:20260424T155016
CREATED:20250225T191743Z
LAST-MODIFIED:20250303T154348Z
UID:10000626-1742391000-1742398200@www.winona.edu
SUMMARY:WSU Women's Tennis vs. Fort Hays State
DESCRIPTION:On March 19\, come cheer on the women’s Tennis team as they compete against Fort Hays State. \n\n\n\n\n\nVenue\n\n\n\n\n\nContact
URL:https://www.winona.edu/about/event/wsu-womens-tennis-vs-fort-hays-state-match-march-19/
LOCATION:Winona Tennis Center\, 360 Vila St\, Winona\, MN\, 55987\, United States
CATEGORIES:Student Life,Warrior Athletics
ATTACH;FMTTYPE=image/jpeg:https://www.winona.edu/about/wp-content/uploads/sites/3/2025/02/Pro-womens-tennis-athlete-racket-court-feature-2022-04-04.jpg
ORGANIZER;CN="Eric Schoh":MAILTO:eschoh@winona.edu
END:VEVENT
BEGIN:VEVENT
DTSTART;TZID=US/Central:20250301T170000
DTEND;TZID=US/Central:20250301T190000
DTSTAMP:20260424T155016
CREATED:20250303T172936Z
LAST-MODIFIED:20250303T172937Z
UID:10000706-1740848400-1740855600@www.winona.edu
SUMMARY:WSU Women's Tennis vs. University of Wisconsin-La Crosse
DESCRIPTION:On March 1\, come cheer on the women’s Tennis team as they compete against the University of Wisconsin-La Crosse. \n\n\n\n\n\nVenue\n\n\n\n\n\nContact
URL:https://www.winona.edu/about/event/wsu-womens-tennis-vs-university-of-wisconsin-la-crosse-march-01/
LOCATION:Winona Tennis Center\, 360 Vila St\, Winona\, MN\, 55987\, United States
CATEGORIES:Student Life,Warrior Athletics
ATTACH;FMTTYPE=image/jpeg:https://www.winona.edu/about/wp-content/uploads/sites/3/2025/02/Pro-womens-tennis-athlete-racket-court-feature-2022-04-04.jpg
ORGANIZER;CN="Eric Schoh":MAILTO:eschoh@winona.edu
END:VEVENT
BEGIN:VEVENT
DTSTART;TZID=US/Central:20241026T133000
DTEND;TZID=US/Central:20241026T153000
DTSTAMP:20260424T155016
CREATED:20250303T172731Z
LAST-MODIFIED:20250303T172732Z
UID:10000705-1729949400-1729956600@www.winona.edu
SUMMARY:WSU Women's Tennis vs. Roosevelt University
DESCRIPTION:On Oct. 26\, come cheer on the women’s Tennis team as they compete against Roosevelt University. \n\n\n\n\n\nVenue\n\n\n\n\n\nContact
URL:https://www.winona.edu/about/event/wsu-womens-tennis-vs-roosevelt-university-oct-26/
LOCATION:Winona Tennis Center\, 360 Vila St\, Winona\, MN\, 55987\, United States
CATEGORIES:Student Life,Warrior Athletics
ATTACH;FMTTYPE=image/jpeg:https://www.winona.edu/about/wp-content/uploads/sites/3/2025/02/Pro-womens-tennis-athlete-racket-court-feature-2022-04-04.jpg
ORGANIZER;CN="Eric Schoh":MAILTO:eschoh@winona.edu
END:VEVENT
END:VCALENDAR